BEGIN:VCALENDAR
VERSION:2.0
PRODID:-//The Grape Ventura - ECPv6.15.20//NONSGML v1.0//EN
CALSCALE:GREGORIAN
METHOD:PUBLISH
X-ORIGINAL-URL:https://thegrapeventura.com
X-WR-CALDESC:Events for The Grape Ventura
REFRESH-INTERVAL;VALUE=DURATION:PT1H
X-Robots-Tag:noindex
X-PUBLISHED-TTL:PT1H
BEGIN:VTIMEZONE
TZID:America/Los_Angeles
BEGIN:DAYLIGHT
TZOFFSETFROM:-0800
TZOFFSETTO:-0700
TZNAME:PDT
DTSTART:20250309T100000
END:DAYLIGHT
BEGIN:STANDARD
TZOFFSETFROM:-0700
TZOFFSETTO:-0800
TZNAME:PST
DTSTART:20251102T090000
END:STANDARD
BEGIN:DAYLIGHT
TZOFFSETFROM:-0800
TZOFFSETTO:-0700
TZNAME:PDT
DTSTART:20260308T100000
END:DAYLIGHT
BEGIN:STANDARD
TZOFFSETFROM:-0700
TZOFFSETTO:-0800
TZNAME:PST
DTSTART:20261101T090000
END:STANDARD
BEGIN:DAYLIGHT
TZOFFSETFROM:-0800
TZOFFSETTO:-0700
TZNAME:PDT
DTSTART:20270314T100000
END:DAYLIGHT
BEGIN:STANDARD
TZOFFSETFROM:-0700
TZOFFSETTO:-0800
TZNAME:PST
DTSTART:20271107T090000
END:STANDARD
END:VTIMEZONE
BEGIN:VEVENT
DTSTART;TZID=America/Los_Angeles:20260414T170000
DTEND;TZID=America/Los_Angeles:20260414T190000
DTSTAMP:20260423T124203
CREATED:20260323T180733Z
LAST-MODIFIED:20260323T180733Z
UID:10003753-1776186000-1776193200@thegrapeventura.com
SUMMARY:Happy Hour w/ Monte Montgomery & Friends
DESCRIPTION:no cover\nbar side \nHappy Hour with multi-instrumentalist and vocalist\, Monte Montgomery and special guests
URL:https://thegrapeventura.com/event/happy-hour-w-monte-montgomery-friends-6/2026-04-14/
LOCATION:The Grape\, 2733 E Main St\, Ventura\, CA\, 93003\, United States
ATTACH;FMTTYPE=image/webp:https://thegrapeventura.com/wp-content/uploads/2026/02/monte_montgomery.webp
GEO:34.2736226;-119.2593404
X-APPLE-STRUCTURED-LOCATION;VALUE=URI;X-ADDRESS=The Grape 2733 E Main St Ventura CA 93003 United States;X-APPLE-RADIUS=500;X-TITLE=2733 E Main St:geo:-119.2593404,34.2736226
END:VEVENT
BEGIN:VEVENT
DTSTART;TZID=America/Los_Angeles:20260414T190000
DTEND;TZID=America/Los_Angeles:20260414T220000
DTSTAMP:20260423T124203
CREATED:20251210T212512Z
LAST-MODIFIED:20260307T191035Z
UID:10003541-1776193200-1776204000@thegrapeventura.com
SUMMARY:The Grape Gratitude Jazz Jam
DESCRIPTION:$10 cover at the door \nVentura County’s hottest jazz night!  Hosted By Tyler Hammond (drums) with the hottest rotating house band around\, often featuring Karl Hunter (saxophone)\, Guil Juliao (bass)\, and friends. \nYou are guaranteed to find SOMETHING during this night that will butter your biscuit.  It’s the best variety night this side of the Conejo Grade. \n21+ \nDoors and signup at 6:30 pm \nJazz Jam Guidelines:\n1. The focus of this jam is to play Jazz music. It is NOT live band Karaoke.\n2. Be prepared/ Know the tune/Know what key you’d like to play the tune in.\n3. Bring charts for the band if you’re going out of standard Jazz repertoire.\n4. After the melody is finished\,  allow room for everyone to solo.\n5. Please don’t come onto the stage unless you are called up.\n6. Be kind and supportive to other performers.\n7. After 9pm\, there’s no guarantee you’ll get a turn.\n8. Whatever Tyler says\, goes.
URL:https://thegrapeventura.com/event/the-grape-gratitude-jazz-jam/2026-04-14/
LOCATION:The Grape\, 2733 E Main St\, Ventura\, CA\, 93003\, United States
ATTACH;FMTTYPE=image/jpeg:https://thegrapeventura.com/wp-content/uploads/2023/06/DSCF1293-e1765401864205.jpg
GEO:34.2736226;-119.2593404
X-APPLE-STRUCTURED-LOCATION;VALUE=URI;X-ADDRESS=The Grape 2733 E Main St Ventura CA 93003 United States;X-APPLE-RADIUS=500;X-TITLE=2733 E Main St:geo:-119.2593404,34.2736226
END:VEVENT
BEGIN:VEVENT
DTSTART;TZID=America/Los_Angeles:20260415T170000
DTEND;TZID=America/Los_Angeles:20260415T190000
DTSTAMP:20260423T124203
CREATED:20260113T215946Z
LAST-MODIFIED:20260113T220056Z
UID:10003663-1776272400-1776279600@thegrapeventura.com
SUMMARY:Happy Hour with Kent Rollins & Friends
DESCRIPTION:Happy Hour with Pianist\, Kent Rollins and friends \nbar side\, no cover
URL:https://thegrapeventura.com/event/kent-rollins-trio-4-2/2026-04-15/
LOCATION:The Grape\, 2733 E Main St\, Ventura\, CA\, 93003\, United States
ATTACH;FMTTYPE=image/jpeg:https://thegrapeventura.com/wp-content/uploads/2025/07/IMG_20251009_124515-e1760384956257.jpg
GEO:34.2736226;-119.2593404
X-APPLE-STRUCTURED-LOCATION;VALUE=URI;X-ADDRESS=The Grape 2733 E Main St Ventura CA 93003 United States;X-APPLE-RADIUS=500;X-TITLE=2733 E Main St:geo:-119.2593404,34.2736226
END:VEVENT
BEGIN:VEVENT
DTSTART;TZID=America/Los_Angeles:20260415T190000
DTEND;TZID=America/Los_Angeles:20260415T220000
DTSTAMP:20260423T124203
CREATED:20260404T165755Z
LAST-MODIFIED:20260404T165755Z
UID:10004552-1776279600-1776290400@thegrapeventura.com
SUMMARY:TD Lind & The Aviators
DESCRIPTION:$15 Advanced/$20 Door \nGET TICKETS HERE \nTD Lind & The Aviators is an indie rock band out of Southern California driven by old-soul storytelling\, brawny vocals\, and larger-than-life sound. \nBorn in England\, TD Lind signed a record deal at 19 years old and has since toured America and Europe for the last 30 years\, sharing the stage with Sting\, Bad Company\, Wilco and many others. He has 4 critically-acclaimed albums\, the last being produced by legendary producer Glyn Johns. \nIn 2022\, TD Lind joined up with producer and bassist David Franz (Iyeoka\, Underground Sun)\, saxophonist Karl Hunter (Big Bad Voodoo Daddy)\, drummer Greg Weiser (Danny McGaw)\, and guitarist Sam Kulchin (The Caverns). They are known for their unforgettable live shows\, as featured on their “Into the Light” album\, recorded and released in 2023. \nTheir debut studio album “Golden” was released on August 21\, 2024.
URL:https://thegrapeventura.com/event/td-lind-the-aviators/
LOCATION:The Grape\, 2733 E Main St\, Ventura\, CA\, 93003\, United States
ATTACH;FMTTYPE=image/jpeg:https://thegrapeventura.com/wp-content/uploads/2026/02/grape-td-lind-aviators.jpg
GEO:34.2736226;-119.2593404
X-APPLE-STRUCTURED-LOCATION;VALUE=URI;X-ADDRESS=The Grape 2733 E Main St Ventura CA 93003 United States;X-APPLE-RADIUS=500;X-TITLE=2733 E Main St:geo:-119.2593404,34.2736226
END:VEVENT
BEGIN:VEVENT
DTSTART;TZID=America/Los_Angeles:20260416T170000
DTEND;TZID=America/Los_Angeles:20260416T190000
DTSTAMP:20260423T124203
CREATED:20260402T160954Z
LAST-MODIFIED:20260402T160954Z
UID:10004025-1776358800-1776366000@thegrapeventura.com
SUMMARY:Happy Hour with Collins & Rollins Quartet
DESCRIPTION:barside \nNo cover \nKent Rollins – piano \nTom Collins – guitar
URL:https://thegrapeventura.com/event/happy-hour-with-collins-rollins-quartet-4/2026-04-16/
LOCATION:The Grape\, 2733 E Main St\, Ventura\, CA\, 93003\, United States
ATTACH;FMTTYPE=image/webp:https://thegrapeventura.com/wp-content/uploads/2026/01/tom-collins-guitar.webp
GEO:34.2736226;-119.2593404
X-APPLE-STRUCTURED-LOCATION;VALUE=URI;X-ADDRESS=The Grape 2733 E Main St Ventura CA 93003 United States;X-APPLE-RADIUS=500;X-TITLE=2733 E Main St:geo:-119.2593404,34.2736226
END:VEVENT
BEGIN:VEVENT
DTSTART;TZID=America/Los_Angeles:20260416T190000
DTEND;TZID=America/Los_Angeles:20260416T220000
DTSTAMP:20260423T124203
CREATED:20260409T025638Z
LAST-MODIFIED:20260409T025643Z
UID:10004556-1776366000-1776376800@thegrapeventura.com
SUMMARY:Boom Duo
DESCRIPTION:$10 cover at door \nBoom Duo create spontaneous compositions in the moment using traditional and invented song forms and texture heavy noise-tone soundscapes. Boom Duo is John Lacques (drums\, percussion) who has studied and performed in a wide variety of drumming styles including Classical Indian music\, jazz\, rock\, punk and professional theater productions in LA and Ventura Counties\, and Noah Thomas\, a multi-instrumentalist (trumpet\, conch\, theremin\, electronics) and anthropologist who has played professionally for over thirty years in classical\, jazz\, world music\, rock and experimental genres.
URL:https://thegrapeventura.com/event/boom-duo/
LOCATION:The Grape\, 2733 E Main St\, Ventura\, CA\, 93003\, United States
ATTACH;FMTTYPE=image/jpeg:https://thegrapeventura.com/wp-content/uploads/2026/04/Boom-Duo-April-long-format.jpg
GEO:34.2736226;-119.2593404
X-APPLE-STRUCTURED-LOCATION;VALUE=URI;X-ADDRESS=The Grape 2733 E Main St Ventura CA 93003 United States;X-APPLE-RADIUS=500;X-TITLE=2733 E Main St:geo:-119.2593404,34.2736226
END:VEVENT
BEGIN:VEVENT
DTSTART;TZID=America/Los_Angeles:20260417T170000
DTEND;TZID=America/Los_Angeles:20260417T190000
DTSTAMP:20260423T124203
CREATED:20260404T165009Z
LAST-MODIFIED:20260404T165009Z
UID:10004292-1776445200-1776452400@thegrapeventura.com
SUMMARY:Happy Hour with The Fred Kaplan Trio
DESCRIPTION:West Coast Swing and Boogie Woogie Blues with Fred Kaplan and friends \nEvery Friday in the bar side Happy Hour 5-7pm. \nno cover
URL:https://thegrapeventura.com/event/happy-hour-with-the-fred-kaplan-trio-3/2026-04-17/
LOCATION:The Grape\, 2733 E Main St\, Ventura\, CA\, 93003\, United States
ATTACH;FMTTYPE=image/jpeg:https://thegrapeventura.com/wp-content/uploads/2025/05/20220308_233231_318.jpg
GEO:34.2736226;-119.2593404
X-APPLE-STRUCTURED-LOCATION;VALUE=URI;X-ADDRESS=The Grape 2733 E Main St Ventura CA 93003 United States;X-APPLE-RADIUS=500;X-TITLE=2733 E Main St:geo:-119.2593404,34.2736226
END:VEVENT
BEGIN:VEVENT
DTSTART;TZID=America/Los_Angeles:20260417T200000
DTEND;TZID=America/Los_Angeles:20260417T230000
DTSTAMP:20260423T124203
CREATED:20260412T185547Z
LAST-MODIFIED:20260412T185547Z
UID:10004558-1776456000-1776466800@thegrapeventura.com
SUMMARY:The Beau Red 100's
DESCRIPTION:$10 Advanced Sale/$15 Door \nGET YOUR TICKETS HERE \nBeau Red brings his vibrant mix of blues and New Orleans jazz with a Texas twang.
URL:https://thegrapeventura.com/event/the-beau-red-100s/
LOCATION:The Grape\, 2733 E Main St\, Ventura\, CA\, 93003\, United States
ATTACH;FMTTYPE=image/jpeg:https://thegrapeventura.com/wp-content/uploads/2026/04/IMG_4237.jpg
GEO:34.2736226;-119.2593404
X-APPLE-STRUCTURED-LOCATION;VALUE=URI;X-ADDRESS=The Grape 2733 E Main St Ventura CA 93003 United States;X-APPLE-RADIUS=500;X-TITLE=2733 E Main St:geo:-119.2593404,34.2736226
END:VEVENT
BEGIN:VEVENT
DTSTART;TZID=America/Los_Angeles:20260418T140000
DTEND;TZID=America/Los_Angeles:20260418T170000
DTSTAMP:20260423T124203
CREATED:20260321T183229Z
LAST-MODIFIED:20260401T165210Z
UID:10003744-1776520800-1776531600@thegrapeventura.com
SUMMARY:Blues Harmonica Extravaganza
DESCRIPTION:$20 cover at door \nFeaturing R.J. Mischo\, Morganfield Burnett\, Cisco Hinojosa\, Logan Davis\, Joost & Sofie (from Amsterdam) \nwith All-Star Band: \nBill Bates – guitar \nFito de la Parra – drums \nRick Reed – bass \n 
URL:https://thegrapeventura.com/event/blues-harmonica-extravaganza/
LOCATION:The Grape\, 2733 E Main St\, Ventura\, CA\, 93003\, United States
ATTACH;FMTTYPE=image/jpeg:https://thegrapeventura.com/wp-content/uploads/2026/03/IMG_20260331_141702.jpg
GEO:34.2736226;-119.2593404
X-APPLE-STRUCTURED-LOCATION;VALUE=URI;X-ADDRESS=The Grape 2733 E Main St Ventura CA 93003 United States;X-APPLE-RADIUS=500;X-TITLE=2733 E Main St:geo:-119.2593404,34.2736226
END:VEVENT
BEGIN:VEVENT
DTSTART;TZID=America/Los_Angeles:20260418T200000
DTEND;TZID=America/Los_Angeles:20260418T230000
DTSTAMP:20260423T124203
CREATED:20260304T170539Z
LAST-MODIFIED:20260304T203847Z
UID:10003709-1776542400-1776553200@thegrapeventura.com
SUMMARY:The Jive Aces
DESCRIPTION:$35 Advanced/$40 Door \nGET YOUR TICKETS HERE \nWe couldn’t get enough of the Jive Aces when they were in California last year\, so we invited them back for another swinging good time at The Grape!! \nRenowned worldwide for their high-energy spectacular showmanship\, their viral video “Bring Me Sunshine” and for being the first live band to reach the final rounds of “Britain’s Got Talent”\, The Jive Aces have firmly established themselves the UK’s No.1 Jive & Swing band. \nThe live show includes classics like “When You’re Smiling”\, “Mack The Knife” and “Sing\, Sing\, Sing”\, plus originals such as “La Dolce Vita” taken from their various albums. \nThe in-demand sextet average 300 shows a year and have worked with Van Morrison\, Keely Smith and performed for HM the Queen. They headlined and sold-out the Royal Albert Hall and thousands of festivals\, theatres\, dance halls\, etc\, in 35 countries\, including Buckingham Palace for the Coronation Festival\, Trafalgar Square for the Olympics and major theatre tours in the USA. \nTheir performance at the 2015 Glastonbury Festival was listed by the “Daily Telegraph” as one of the festival’s highlights. \nThe Jive Aces wowed the judges on Britain’s Got Talent with their show-stopping version of “I Wanna Be Like You”\, which famously cheered up a grumpy Simon Cowell. Their BGT appearances were seen by over 20 million. \nTheir most popular music video\, “Bring Me Sunshine”\, is a viral hit with nearly 3 million views on YouTube and has won seven film festival awards. It’s so uplifting it’s actually been prescribed by a doctor! They’ve made hundreds of media appearances\, including a residency on BBC Radio London and TV shows such as “The Alan Titchmarsh Show”\, “Strictly Come Dancing”\, “Children in Need” and “Good Day Los Angeles”
URL:https://thegrapeventura.com/event/the-jive-aces/
LOCATION:The Grape\, 2733 E Main St\, Ventura\, CA\, 93003\, United States
ATTACH;FMTTYPE=image/jpeg:https://thegrapeventura.com/wp-content/uploads/2026/03/jive-aces.jpeg
GEO:34.2736226;-119.2593404
X-APPLE-STRUCTURED-LOCATION;VALUE=URI;X-ADDRESS=The Grape 2733 E Main St Ventura CA 93003 United States;X-APPLE-RADIUS=500;X-TITLE=2733 E Main St:geo:-119.2593404,34.2736226
END:VEVENT
END:VCALENDAR