BEGIN:VCALENDAR
VERSION:2.0
PRODID:-//The Grape Ventura - ECPv6.15.20//NONSGML v1.0//EN
CALSCALE:GREGORIAN
METHOD:PUBLISH
X-ORIGINAL-URL:https://thegrapeventura.com
X-WR-CALDESC:Events for The Grape Ventura
REFRESH-INTERVAL;VALUE=DURATION:PT1H
X-Robots-Tag:noindex
X-PUBLISHED-TTL:PT1H
BEGIN:VTIMEZONE
TZID:America/Los_Angeles
BEGIN:DAYLIGHT
TZOFFSETFROM:-0800
TZOFFSETTO:-0700
TZNAME:PDT
DTSTART:20250309T100000
END:DAYLIGHT
BEGIN:STANDARD
TZOFFSETFROM:-0700
TZOFFSETTO:-0800
TZNAME:PST
DTSTART:20251102T090000
END:STANDARD
BEGIN:DAYLIGHT
TZOFFSETFROM:-0800
TZOFFSETTO:-0700
TZNAME:PDT
DTSTART:20260308T100000
END:DAYLIGHT
BEGIN:STANDARD
TZOFFSETFROM:-0700
TZOFFSETTO:-0800
TZNAME:PST
DTSTART:20261101T090000
END:STANDARD
BEGIN:DAYLIGHT
TZOFFSETFROM:-0800
TZOFFSETTO:-0700
TZNAME:PDT
DTSTART:20270314T100000
END:DAYLIGHT
BEGIN:STANDARD
TZOFFSETFROM:-0700
TZOFFSETTO:-0800
TZNAME:PST
DTSTART:20271107T090000
END:STANDARD
END:VTIMEZONE
BEGIN:VEVENT
DTSTART;TZID=America/Los_Angeles:20260407T170000
DTEND;TZID=America/Los_Angeles:20260407T190000
DTSTAMP:20260423T141619
CREATED:20260323T180733Z
LAST-MODIFIED:20260323T180733Z
UID:10003752-1775581200-1775588400@thegrapeventura.com
SUMMARY:Happy Hour w/ Monte Montgomery & Friends
DESCRIPTION:no cover\nbar side \nHappy Hour with multi-instrumentalist and vocalist\, Monte Montgomery and special guests
URL:https://thegrapeventura.com/event/happy-hour-w-monte-montgomery-friends-6/2026-04-07/
LOCATION:The Grape\, 2733 E Main St\, Ventura\, CA\, 93003\, United States
ATTACH;FMTTYPE=image/webp:https://thegrapeventura.com/wp-content/uploads/2026/02/monte_montgomery.webp
GEO:34.2736226;-119.2593404
X-APPLE-STRUCTURED-LOCATION;VALUE=URI;X-ADDRESS=The Grape 2733 E Main St Ventura CA 93003 United States;X-APPLE-RADIUS=500;X-TITLE=2733 E Main St:geo:-119.2593404,34.2736226
END:VEVENT
BEGIN:VEVENT
DTSTART;TZID=America/Los_Angeles:20260407T190000
DTEND;TZID=America/Los_Angeles:20260407T220000
DTSTAMP:20260423T141619
CREATED:20251210T212512Z
LAST-MODIFIED:20260307T191035Z
UID:10003540-1775588400-1775599200@thegrapeventura.com
SUMMARY:The Grape Gratitude Jazz Jam
DESCRIPTION:$10 cover at the door \nVentura County’s hottest jazz night!  Hosted By Tyler Hammond (drums) with the hottest rotating house band around\, often featuring Karl Hunter (saxophone)\, Guil Juliao (bass)\, and friends. \nYou are guaranteed to find SOMETHING during this night that will butter your biscuit.  It’s the best variety night this side of the Conejo Grade. \n21+ \nDoors and signup at 6:30 pm \nJazz Jam Guidelines:\n1. The focus of this jam is to play Jazz music. It is NOT live band Karaoke.\n2. Be prepared/ Know the tune/Know what key you’d like to play the tune in.\n3. Bring charts for the band if you’re going out of standard Jazz repertoire.\n4. After the melody is finished\,  allow room for everyone to solo.\n5. Please don’t come onto the stage unless you are called up.\n6. Be kind and supportive to other performers.\n7. After 9pm\, there’s no guarantee you’ll get a turn.\n8. Whatever Tyler says\, goes.
URL:https://thegrapeventura.com/event/the-grape-gratitude-jazz-jam/2026-04-07/
LOCATION:The Grape\, 2733 E Main St\, Ventura\, CA\, 93003\, United States
ATTACH;FMTTYPE=image/jpeg:https://thegrapeventura.com/wp-content/uploads/2023/06/DSCF1293-e1765401864205.jpg
GEO:34.2736226;-119.2593404
X-APPLE-STRUCTURED-LOCATION;VALUE=URI;X-ADDRESS=The Grape 2733 E Main St Ventura CA 93003 United States;X-APPLE-RADIUS=500;X-TITLE=2733 E Main St:geo:-119.2593404,34.2736226
END:VEVENT
BEGIN:VEVENT
DTSTART;TZID=America/Los_Angeles:20260408T170000
DTEND;TZID=America/Los_Angeles:20260408T190000
DTSTAMP:20260423T141620
CREATED:20260113T215946Z
LAST-MODIFIED:20260113T220056Z
UID:10003662-1775667600-1775674800@thegrapeventura.com
SUMMARY:Happy Hour with Kent Rollins & Friends
DESCRIPTION:Happy Hour with Pianist\, Kent Rollins and friends \nbar side\, no cover
URL:https://thegrapeventura.com/event/kent-rollins-trio-4-2/2026-04-08/
LOCATION:The Grape\, 2733 E Main St\, Ventura\, CA\, 93003\, United States
ATTACH;FMTTYPE=image/jpeg:https://thegrapeventura.com/wp-content/uploads/2025/07/IMG_20251009_124515-e1760384956257.jpg
GEO:34.2736226;-119.2593404
X-APPLE-STRUCTURED-LOCATION;VALUE=URI;X-ADDRESS=The Grape 2733 E Main St Ventura CA 93003 United States;X-APPLE-RADIUS=500;X-TITLE=2733 E Main St:geo:-119.2593404,34.2736226
END:VEVENT
BEGIN:VEVENT
DTSTART;TZID=America/Los_Angeles:20260408T190000
DTEND;TZID=America/Los_Angeles:20260408T220000
DTSTAMP:20260423T141620
CREATED:20260404T163340Z
LAST-MODIFIED:20260404T163345Z
UID:10004285-1775674800-1775685600@thegrapeventura.com
SUMMARY:Kavika G and the Kosmic Geckos
DESCRIPTION:$10 cover at door \nComposer and multi-instrumentalist David (Kavika) Gorospe and band bring the Kosmos and the Earth elements in alignment through vibrational healing sonic frequencies.
URL:https://thegrapeventura.com/event/kavika-g-and-the-kosmic-geckos/
LOCATION:The Grape\, 2733 E Main St\, Ventura\, CA\, 93003\, United States
ATTACH;FMTTYPE=image/png:https://thegrapeventura.com/wp-content/uploads/2026/04/DG_ConcertFlyer_2.png
GEO:34.2736226;-119.2593404
X-APPLE-STRUCTURED-LOCATION;VALUE=URI;X-ADDRESS=The Grape 2733 E Main St Ventura CA 93003 United States;X-APPLE-RADIUS=500;X-TITLE=2733 E Main St:geo:-119.2593404,34.2736226
END:VEVENT
BEGIN:VEVENT
DTSTART;TZID=America/Los_Angeles:20260409T170000
DTEND;TZID=America/Los_Angeles:20260409T190000
DTSTAMP:20260423T141620
CREATED:20260402T160954Z
LAST-MODIFIED:20260402T160954Z
UID:10004024-1775754000-1775761200@thegrapeventura.com
SUMMARY:Happy Hour with Collins & Rollins Quartet
DESCRIPTION:barside \nNo cover \nKent Rollins – piano \nTom Collins – guitar
URL:https://thegrapeventura.com/event/happy-hour-with-collins-rollins-quartet-4/2026-04-09/
LOCATION:The Grape\, 2733 E Main St\, Ventura\, CA\, 93003\, United States
ATTACH;FMTTYPE=image/webp:https://thegrapeventura.com/wp-content/uploads/2026/01/tom-collins-guitar.webp
GEO:34.2736226;-119.2593404
X-APPLE-STRUCTURED-LOCATION;VALUE=URI;X-ADDRESS=The Grape 2733 E Main St Ventura CA 93003 United States;X-APPLE-RADIUS=500;X-TITLE=2733 E Main St:geo:-119.2593404,34.2736226
END:VEVENT
BEGIN:VEVENT
DTSTART;TZID=America/Los_Angeles:20260409T190000
DTEND;TZID=America/Los_Angeles:20260409T220000
DTSTAMP:20260423T141620
CREATED:20260328T193725Z
LAST-MODIFIED:20260328T193730Z
UID:10004016-1775761200-1775772000@thegrapeventura.com
SUMMARY:Dave Melton & Debbie Davies
DESCRIPTION:$10 cover at door \nAn evening of blistering blues rock with Dave Melton & Debbie Davies\, plus special guests Rick Reed\, Bryan Head\, and Morganfield Burnett.
URL:https://thegrapeventura.com/event/dave-melton-debbie-davies/
LOCATION:The Grape\, 2733 E Main St\, Ventura\, CA\, 93003\, United States
ATTACH;FMTTYPE=image/jpeg:https://thegrapeventura.com/wp-content/uploads/2026/03/Grape-horiz-dec-scaled-e1774726630419.jpeg
GEO:34.2736226;-119.2593404
X-APPLE-STRUCTURED-LOCATION;VALUE=URI;X-ADDRESS=The Grape 2733 E Main St Ventura CA 93003 United States;X-APPLE-RADIUS=500;X-TITLE=2733 E Main St:geo:-119.2593404,34.2736226
END:VEVENT
BEGIN:VEVENT
DTSTART;TZID=America/Los_Angeles:20260410T170000
DTEND;TZID=America/Los_Angeles:20260410T190000
DTSTAMP:20260423T141620
CREATED:20260404T165009Z
LAST-MODIFIED:20260404T165009Z
UID:10004291-1775840400-1775847600@thegrapeventura.com
SUMMARY:Happy Hour with The Fred Kaplan Trio
DESCRIPTION:West Coast Swing and Boogie Woogie Blues with Fred Kaplan and friends \nEvery Friday in the bar side Happy Hour 5-7pm. \nno cover
URL:https://thegrapeventura.com/event/happy-hour-with-the-fred-kaplan-trio-3/2026-04-10/
LOCATION:The Grape\, 2733 E Main St\, Ventura\, CA\, 93003\, United States
ATTACH;FMTTYPE=image/jpeg:https://thegrapeventura.com/wp-content/uploads/2025/05/20220308_233231_318.jpg
GEO:34.2736226;-119.2593404
X-APPLE-STRUCTURED-LOCATION;VALUE=URI;X-ADDRESS=The Grape 2733 E Main St Ventura CA 93003 United States;X-APPLE-RADIUS=500;X-TITLE=2733 E Main St:geo:-119.2593404,34.2736226
END:VEVENT
BEGIN:VEVENT
DTSTART;TZID=America/Los_Angeles:20260410T200000
DTEND;TZID=America/Los_Angeles:20260410T230000
DTSTAMP:20260423T141620
CREATED:20260401T180244Z
LAST-MODIFIED:20260404T164741Z
UID:10004019-1775851200-1775862000@thegrapeventura.com
SUMMARY:Blanco Diablo ft. Danny Carey (TOOL)
DESCRIPTION:$20 Advanced/$25 Door \nGET YOUR TICKETS HERE \nBlanco Diablo bring their brand of American rock ‘n roll to The Grape. \nDanny Carey is an American musician and songwriter who is the drummer for the progressive metal band Tool. He has also contributed to albums by artists such as Zaum\, Green Jellö\, Pigface\, Skinny Puppy\, Adrian Belew\, Carole King\, Collide\, Meat Puppets\, Lusk\, and the Melvins. He was ranked among the 100 greatest drummers of all time by Rolling Stone magazine\, occupying the 26th position\, in addition to being frequently considered by other magazines.
URL:https://thegrapeventura.com/event/the-doug-webb-all-stars-ft-danny-carey-tool/
LOCATION:The Grape\, 2733 E Main St\, Ventura\, CA\, 93003\, United States
ATTACH;FMTTYPE=image/jpeg:https://thegrapeventura.com/wp-content/uploads/2026/04/blanco-diablo.jpg
GEO:34.2736226;-119.2593404
X-APPLE-STRUCTURED-LOCATION;VALUE=URI;X-ADDRESS=The Grape 2733 E Main St Ventura CA 93003 United States;X-APPLE-RADIUS=500;X-TITLE=2733 E Main St:geo:-119.2593404,34.2736226
END:VEVENT
BEGIN:VEVENT
DTSTART;TZID=America/Los_Angeles:20260411T140000
DTEND;TZID=America/Los_Angeles:20260411T170000
DTSTAMP:20260423T141620
CREATED:20260402T181800Z
LAST-MODIFIED:20260402T181804Z
UID:10004284-1775916000-1775926800@thegrapeventura.com
SUMMARY:Morganfield Burnett
DESCRIPTION:$10 cover at door \nMorganfield Burnett is a celebrated Santa Barbara-based blues musician\, known for his gritty vocals and harmonica skills. A staple in Southern California’s blues scene\, he leads “Morganfield/Burnett & da Blues” and performs regularly at venues across the West. \nFeaturing Howard Miller\, Bryan Head\, and Rick Reed.
URL:https://thegrapeventura.com/event/morganfield-burnett/
LOCATION:The Grape\, 2733 E Main St\, Ventura\, CA\, 93003\, United States
ATTACH;FMTTYPE=image/webp:https://thegrapeventura.com/wp-content/uploads/2026/04/morganfieldburnett.webp
GEO:34.2736226;-119.2593404
X-APPLE-STRUCTURED-LOCATION;VALUE=URI;X-ADDRESS=The Grape 2733 E Main St Ventura CA 93003 United States;X-APPLE-RADIUS=500;X-TITLE=2733 E Main St:geo:-119.2593404,34.2736226
END:VEVENT
BEGIN:VEVENT
DTSTART;TZID=America/Los_Angeles:20260411T170000
DTEND;TZID=America/Los_Angeles:20260411T190000
DTSTAMP:20260423T141620
CREATED:20260225T183306Z
LAST-MODIFIED:20260225T183450Z
UID:10003691-1775926800-1775934000@thegrapeventura.com
SUMMARY:Magician Shawn McMaster
DESCRIPTION:Roving magic tricks to entertain during happy hour on the bar side and prior to the evening show 6-8pmShawn McMaster has presented his wild style of comedy and magic in clubs and theatres around the world. He has appeared in Las Vegas\, off-Broadway\, on cruise ships\, and is a favorite performer at the world-famous Magic Castle in Hollywood. Becoming interested in magic at the age of six\, Shawn’s early inspirations were not only magicians\, but also classic comedians. His ability to blend the astonishing with the absurd has delighted countless audiences all over the world\, making him a highly sought-after act. You may have caught Shawn’s appearances on America’s Got Talent or on Masters of Illusion where he presented one of that program’s most memorable and hysterical moments. You’re sure to enjoy the magic and comedy of Shawn McMaster.
URL:https://thegrapeventura.com/event/magician-shawn-mcmaster-2/
LOCATION:The Grape\, 2733 E Main St\, Ventura\, CA\, 93003\, United States
ATTACH;FMTTYPE=image/jpeg:https://thegrapeventura.com/wp-content/uploads/2024/03/Cards-Jacket-scaled-e1758231719988.jpg
GEO:34.2736226;-119.2593404
X-APPLE-STRUCTURED-LOCATION;VALUE=URI;X-ADDRESS=The Grape 2733 E Main St Ventura CA 93003 United States;X-APPLE-RADIUS=500;X-TITLE=2733 E Main St:geo:-119.2593404,34.2736226
END:VEVENT
BEGIN:VEVENT
DTSTART;TZID=America/Los_Angeles:20260411T170000
DTEND;TZID=America/Los_Angeles:20260411T190000
DTSTAMP:20260423T141620
CREATED:20260409T025149Z
LAST-MODIFIED:20260409T025154Z
UID:10004555-1775926800-1775934000@thegrapeventura.com
SUMMARY:Franklin & Mercedes
DESCRIPTION:$10 cover at door \nPianist Franklin Murphy and tenor saxophonist Mercedes Carter kickin’ tunes at The Grape.
URL:https://thegrapeventura.com/event/franklin-mercedes/
LOCATION:The Grape\, 2733 E Main St\, Ventura\, CA\, 93003\, United States
ATTACH;FMTTYPE=image/jpeg:https://thegrapeventura.com/wp-content/uploads/2026/04/image1.jpeg
GEO:34.2736226;-119.2593404
X-APPLE-STRUCTURED-LOCATION;VALUE=URI;X-ADDRESS=The Grape 2733 E Main St Ventura CA 93003 United States;X-APPLE-RADIUS=500;X-TITLE=2733 E Main St:geo:-119.2593404,34.2736226
END:VEVENT
BEGIN:VEVENT
DTSTART;TZID=America/Los_Angeles:20260411T200000
DTEND;TZID=America/Los_Angeles:20260411T230000
DTSTAMP:20260423T141620
CREATED:20260401T180554Z
LAST-MODIFIED:20260401T180554Z
UID:10004020-1775937600-1775948400@thegrapeventura.com
SUMMARY:The Doug Webb All Stars ft. Danny Carey (TOOL)
DESCRIPTION:$20 Advanced/$25 Door \nGET YOUR TICKETS HERE \nDoug Webb – sax\nDanny Carey – drums\nJimmy Earl – bass\nMitch Forman – keys\nJamie Kime – guitar \nDoug Webb was born in Chicago and moved to California at the age of 3. He is a graduate of Edison high school in Huntington Beach\, CA and received a Bachelor of Music from Boston’s Berklee College of Music. He began playing the clarinet at the age of 8 and added saxophone and flute at 15. He lives in Los Angeles with his beautiful wife Alex and his son\, Ryan. Over his career Webb has played and recorded with such notable talents as Horace Silver\, Freddie Hubbard\, Sal Marquez\, Stanley Clarke\, Quincy Jones\, Mat Marucci\, Kyle Eastwood\, Billy Childs\, Rod Stewart\, Carly Simon\, Art Davis\, Kenny Rogers\, Bonnie Raitt\, Pancho Sanchez and Vikki Carr. He played with the house band for the Dennis Miller TV show\, the Jimmy Cleveland orchestra and continues to tour with the Doc Severinsen big band. He has recorded music for hundreds of movies and television programs. He solos on the sound track for Mystic River\, Million Dollar Baby and Jersey Boys. Webb has been featured on hundreds of recordings. \nDanny Carey is an American musician and songwriter who is the drummer for the progressive metal band Tool. He has also contributed to albums by artists such as Zaum\, Green Jellö\, Pigface\, Skinny Puppy\, Adrian Belew\, Carole King\, Collide\, Meat Puppets\, Lusk\, and the Melvins. He was ranked among the 100 greatest drummers of all time by Rolling Stone magazine\, occupying the 26th position\, in addition to being frequently considered by other magazines.
URL:https://thegrapeventura.com/event/the-doug-webb-all-stars-ft-danny-carey-tool-2/
LOCATION:The Grape\, 2733 E Main St\, Ventura\, CA\, 93003\, United States
ATTACH;FMTTYPE=image/webp:https://thegrapeventura.com/wp-content/uploads/2026/04/DougWebb-1.webp
GEO:34.2736226;-119.2593404
X-APPLE-STRUCTURED-LOCATION;VALUE=URI;X-ADDRESS=The Grape 2733 E Main St Ventura CA 93003 United States;X-APPLE-RADIUS=500;X-TITLE=2733 E Main St:geo:-119.2593404,34.2736226
END:VEVENT
END:VCALENDAR