BEGIN:VCALENDAR
VERSION:2.0
PRODID:-//The Grape Ventura - ECPv6.15.20//NONSGML v1.0//EN
CALSCALE:GREGORIAN
METHOD:PUBLISH
X-WR-CALNAME:The Grape Ventura
X-ORIGINAL-URL:https://thegrapeventura.com
X-WR-CALDESC:Events for The Grape Ventura
REFRESH-INTERVAL;VALUE=DURATION:PT1H
X-Robots-Tag:noindex
X-PUBLISHED-TTL:PT1H
BEGIN:VTIMEZONE
TZID:America/Los_Angeles
BEGIN:DAYLIGHT
TZOFFSETFROM:-0800
TZOFFSETTO:-0700
TZNAME:PDT
DTSTART:20250309T100000
END:DAYLIGHT
BEGIN:STANDARD
TZOFFSETFROM:-0700
TZOFFSETTO:-0800
TZNAME:PST
DTSTART:20251102T090000
END:STANDARD
BEGIN:DAYLIGHT
TZOFFSETFROM:-0800
TZOFFSETTO:-0700
TZNAME:PDT
DTSTART:20260308T100000
END:DAYLIGHT
BEGIN:STANDARD
TZOFFSETFROM:-0700
TZOFFSETTO:-0800
TZNAME:PST
DTSTART:20261101T090000
END:STANDARD
BEGIN:DAYLIGHT
TZOFFSETFROM:-0800
TZOFFSETTO:-0700
TZNAME:PDT
DTSTART:20270314T100000
END:DAYLIGHT
BEGIN:STANDARD
TZOFFSETFROM:-0700
TZOFFSETTO:-0800
TZNAME:PST
DTSTART:20271107T090000
END:STANDARD
END:VTIMEZONE
BEGIN:VEVENT
DTSTART;TZID=America/Los_Angeles:20260331T170000
DTEND;TZID=America/Los_Angeles:20260331T190000
DTSTAMP:20260423T155349
CREATED:20260323T180733Z
LAST-MODIFIED:20260323T180733Z
UID:10003751-1774976400-1774983600@thegrapeventura.com
SUMMARY:Happy Hour w/ Monte Montgomery & Friends
DESCRIPTION:no cover\nbar side \nHappy Hour with multi-instrumentalist and vocalist\, Monte Montgomery and special guests
URL:https://thegrapeventura.com/event/happy-hour-w-monte-montgomery-friends-6/2026-03-31/
LOCATION:The Grape\, 2733 E Main St\, Ventura\, CA\, 93003\, United States
ATTACH;FMTTYPE=image/webp:https://thegrapeventura.com/wp-content/uploads/2026/02/monte_montgomery.webp
GEO:34.2736226;-119.2593404
X-APPLE-STRUCTURED-LOCATION;VALUE=URI;X-ADDRESS=The Grape 2733 E Main St Ventura CA 93003 United States;X-APPLE-RADIUS=500;X-TITLE=2733 E Main St:geo:-119.2593404,34.2736226
END:VEVENT
BEGIN:VEVENT
DTSTART;TZID=America/Los_Angeles:20260331T190000
DTEND;TZID=America/Los_Angeles:20260331T220000
DTSTAMP:20260423T155349
CREATED:20251210T212512Z
LAST-MODIFIED:20260307T191035Z
UID:10003539-1774983600-1774994400@thegrapeventura.com
SUMMARY:The Grape Gratitude Jazz Jam
DESCRIPTION:$10 cover at the door \nVentura County’s hottest jazz night!  Hosted By Tyler Hammond (drums) with the hottest rotating house band around\, often featuring Karl Hunter (saxophone)\, Guil Juliao (bass)\, and friends. \nYou are guaranteed to find SOMETHING during this night that will butter your biscuit.  It’s the best variety night this side of the Conejo Grade. \n21+ \nDoors and signup at 6:30 pm \nJazz Jam Guidelines:\n1. The focus of this jam is to play Jazz music. It is NOT live band Karaoke.\n2. Be prepared/ Know the tune/Know what key you’d like to play the tune in.\n3. Bring charts for the band if you’re going out of standard Jazz repertoire.\n4. After the melody is finished\,  allow room for everyone to solo.\n5. Please don’t come onto the stage unless you are called up.\n6. Be kind and supportive to other performers.\n7. After 9pm\, there’s no guarantee you’ll get a turn.\n8. Whatever Tyler says\, goes.
URL:https://thegrapeventura.com/event/the-grape-gratitude-jazz-jam/2026-03-31/
LOCATION:The Grape\, 2733 E Main St\, Ventura\, CA\, 93003\, United States
ATTACH;FMTTYPE=image/jpeg:https://thegrapeventura.com/wp-content/uploads/2023/06/DSCF1293-e1765401864205.jpg
GEO:34.2736226;-119.2593404
X-APPLE-STRUCTURED-LOCATION;VALUE=URI;X-ADDRESS=The Grape 2733 E Main St Ventura CA 93003 United States;X-APPLE-RADIUS=500;X-TITLE=2733 E Main St:geo:-119.2593404,34.2736226
END:VEVENT
BEGIN:VEVENT
DTSTART;TZID=America/Los_Angeles:20260401T170000
DTEND;TZID=America/Los_Angeles:20260401T190000
DTSTAMP:20260423T155349
CREATED:20260113T215946Z
LAST-MODIFIED:20260113T220056Z
UID:10003661-1775062800-1775070000@thegrapeventura.com
SUMMARY:Happy Hour with Kent Rollins & Friends
DESCRIPTION:Happy Hour with Pianist\, Kent Rollins and friends \nbar side\, no cover
URL:https://thegrapeventura.com/event/kent-rollins-trio-4-2/2026-04-01/
LOCATION:The Grape\, 2733 E Main St\, Ventura\, CA\, 93003\, United States
ATTACH;FMTTYPE=image/jpeg:https://thegrapeventura.com/wp-content/uploads/2025/07/IMG_20251009_124515-e1760384956257.jpg
GEO:34.2736226;-119.2593404
X-APPLE-STRUCTURED-LOCATION;VALUE=URI;X-ADDRESS=The Grape 2733 E Main St Ventura CA 93003 United States;X-APPLE-RADIUS=500;X-TITLE=2733 E Main St:geo:-119.2593404,34.2736226
END:VEVENT
BEGIN:VEVENT
DTSTART;TZID=America/Los_Angeles:20260401T190000
DTEND;TZID=America/Los_Angeles:20260401T220000
DTSTAMP:20260423T155349
CREATED:20260306T031124Z
LAST-MODIFIED:20260306T031129Z
UID:10003729-1775070000-1775080800@thegrapeventura.com
SUMMARY:Richiman and Groove Nice
DESCRIPTION:$10 pre-sale/$15 door \nGET YOUR TICKETS HERE \nRichiman and Groove Nice are an American style blues band from Seoul South Korea. \nFormed in 2018 as the “Richiman Trio” they first entered the International Blues Challenge (IBC) in 2019 as a representative of the Korea Blues Society. While performing in Memphis\, Richiman saw and felt real American Blues and knew this was his calling. \nRichiman and Groove Nice released an EP called “Memphis Special; one take live” which is a recording of their set in the IBC finals. They recently released a full length album\, “Pack My Suitcase” recorded at the famed Royal Recording Studio in Memphis where Al Green recorded his most famous works. In June 2024 they released a new live album\, “Cruisin’ Through Connecticut Live!” recorded on their 2023 American Tour. \nRichiman and Groove Nice have toured the US on four seperate occasions playing sold out shows in LA\, Las Vegas\, and New England. In 2023 the were a headline act at the Black Eyed Sally’s Blues Fest in Hartford\, CT. \nOne only needs to witness Richiman and Groove Nice once for them to become your favorite blues band. Engaging\, dynamic\, masterful and fun\, Richiman and Groove Nice will leave every audience member changed and better for the experience.
URL:https://thegrapeventura.com/event/richiman-and-groove-nice/
LOCATION:The Grape\, 2733 E Main St\, Ventura\, CA\, 93003\, United States
ATTACH;FMTTYPE=image/png:https://thegrapeventura.com/wp-content/uploads/2026/03/richiman-groove-nice-scaled.png
GEO:34.2736226;-119.2593404
X-APPLE-STRUCTURED-LOCATION;VALUE=URI;X-ADDRESS=The Grape 2733 E Main St Ventura CA 93003 United States;X-APPLE-RADIUS=500;X-TITLE=2733 E Main St:geo:-119.2593404,34.2736226
END:VEVENT
BEGIN:VEVENT
DTSTART;TZID=America/Los_Angeles:20260402T170000
DTEND;TZID=America/Los_Angeles:20260402T190000
DTSTAMP:20260423T155349
CREATED:20260402T160954Z
LAST-MODIFIED:20260402T160954Z
UID:10004023-1775149200-1775156400@thegrapeventura.com
SUMMARY:Happy Hour with Collins & Rollins Quartet
DESCRIPTION:barside \nNo cover \nKent Rollins – piano \nTom Collins – guitar
URL:https://thegrapeventura.com/event/happy-hour-with-collins-rollins-quartet-4/2026-04-02/
LOCATION:The Grape\, 2733 E Main St\, Ventura\, CA\, 93003\, United States
ATTACH;FMTTYPE=image/webp:https://thegrapeventura.com/wp-content/uploads/2026/01/tom-collins-guitar.webp
GEO:34.2736226;-119.2593404
X-APPLE-STRUCTURED-LOCATION;VALUE=URI;X-ADDRESS=The Grape 2733 E Main St Ventura CA 93003 United States;X-APPLE-RADIUS=500;X-TITLE=2733 E Main St:geo:-119.2593404,34.2736226
END:VEVENT
BEGIN:VEVENT
DTSTART;TZID=America/Los_Angeles:20260402T190000
DTEND;TZID=America/Los_Angeles:20260402T220000
DTSTAMP:20260423T155349
CREATED:20260305T215343Z
LAST-MODIFIED:20260324T232532Z
UID:10003718-1775156400-1775167200@thegrapeventura.com
SUMMARY:Electric Blues Trio
DESCRIPTION:$10 cover \nJoin us for a night of blues with RJ Mischo\, Debbie Davies & Bill Flores.
URL:https://thegrapeventura.com/event/rj-mischo-blues-showcase/
LOCATION:The Grape\, 2733 E Main St\, Ventura\, CA\, 93003\, United States
ATTACH;FMTTYPE=image/png:https://thegrapeventura.com/wp-content/uploads/2022/11/RJ-Mischo-2014-e1761260796209.png
GEO:34.2736226;-119.2593404
X-APPLE-STRUCTURED-LOCATION;VALUE=URI;X-ADDRESS=The Grape 2733 E Main St Ventura CA 93003 United States;X-APPLE-RADIUS=500;X-TITLE=2733 E Main St:geo:-119.2593404,34.2736226
END:VEVENT
BEGIN:VEVENT
DTSTART;TZID=America/Los_Angeles:20260403T170000
DTEND;TZID=America/Los_Angeles:20260403T190000
DTSTAMP:20260423T155349
CREATED:20260404T165009Z
LAST-MODIFIED:20260404T165009Z
UID:10004290-1775235600-1775242800@thegrapeventura.com
SUMMARY:Happy Hour with The Fred Kaplan Trio
DESCRIPTION:West Coast Swing and Boogie Woogie Blues with Fred Kaplan and friends \nEvery Friday in the bar side Happy Hour 5-7pm. \nno cover
URL:https://thegrapeventura.com/event/happy-hour-with-the-fred-kaplan-trio-3/2026-04-03/
LOCATION:The Grape\, 2733 E Main St\, Ventura\, CA\, 93003\, United States
ATTACH;FMTTYPE=image/jpeg:https://thegrapeventura.com/wp-content/uploads/2025/05/20220308_233231_318.jpg
GEO:34.2736226;-119.2593404
X-APPLE-STRUCTURED-LOCATION;VALUE=URI;X-ADDRESS=The Grape 2733 E Main St Ventura CA 93003 United States;X-APPLE-RADIUS=500;X-TITLE=2733 E Main St:geo:-119.2593404,34.2736226
END:VEVENT
BEGIN:VEVENT
DTSTART;TZID=America/Los_Angeles:20260403T200000
DTEND;TZID=America/Los_Angeles:20260403T230000
DTSTAMP:20260423T155349
CREATED:20260304T192337Z
LAST-MODIFIED:20260304T192337Z
UID:10003714-1775246400-1775257200@thegrapeventura.com
SUMMARY:Freddie Ravel Quartet
DESCRIPTION:GET YOUR TICKETS HERE\n\nAdvanced Tickets $25 GA/$35 Front Row Seating\n$30/$40 at the door (subject to availability)\n\nFreddie Ravel\, known worldwide as the Keynote Maestro\, is a pianist\, composer\, and chart-topping recording artist whose blend of classical\, jazz\, rock\, and Latin-infused soul bridges generations and cultures. With over 1\,500 performances in 84 countries and 9.5 million streams worldwide\, and as a GRAMMY-winning project creator with #1 hits like “Sunny Side Up” and “Blissin’\,” he invites audiences into an immersive musical journey full of groove\, melody\, and transformation.\n\n\nFreddie Ravel- keys/vocals\nMichael O’Neill – Guitar\nLarry Antonino – Bass\nLucio Vieira – Drums/Perc
URL:https://thegrapeventura.com/event/freddie-ravel-quartet-2/
LOCATION:The Grape\, 2733 E Main St\, Ventura\, CA\, 93003\, United States
ATTACH;FMTTYPE=image/webp:https://thegrapeventura.com/wp-content/uploads/2025/07/freddie-ravel-e1766093973880.webp
GEO:34.2736226;-119.2593404
X-APPLE-STRUCTURED-LOCATION;VALUE=URI;X-ADDRESS=The Grape 2733 E Main St Ventura CA 93003 United States;X-APPLE-RADIUS=500;X-TITLE=2733 E Main St:geo:-119.2593404,34.2736226
END:VEVENT
BEGIN:VEVENT
DTSTART;TZID=America/Los_Angeles:20260404T140000
DTEND;TZID=America/Los_Angeles:20260404T170000
DTSTAMP:20260423T155349
CREATED:20260401T164502Z
LAST-MODIFIED:20260401T164539Z
UID:10004018-1775311200-1775322000@thegrapeventura.com
SUMMARY:The Beau Red 100's
DESCRIPTION:$10 cover at door \nBeau Red brings his vibrant mix of blues and New Orleans jazz with a Texas twang.
URL:https://thegrapeventura.com/event/beau-red/
LOCATION:The Grape\, 2733 E Main St\, Ventura\, CA\, 93003\, United States
ATTACH;FMTTYPE=image/jpeg:https://thegrapeventura.com/wp-content/uploads/2026/04/IMG_4237.jpg
GEO:34.2736226;-119.2593404
X-APPLE-STRUCTURED-LOCATION;VALUE=URI;X-ADDRESS=The Grape 2733 E Main St Ventura CA 93003 United States;X-APPLE-RADIUS=500;X-TITLE=2733 E Main St:geo:-119.2593404,34.2736226
END:VEVENT
BEGIN:VEVENT
DTSTART;TZID=America/Los_Angeles:20260404T170000
DTEND;TZID=America/Los_Angeles:20260404T190000
DTSTAMP:20260423T155349
CREATED:20260305T215538Z
LAST-MODIFIED:20260305T215538Z
UID:10003721-1775322000-1775329200@thegrapeventura.com
SUMMARY:Happy Hour with The Robert Van Trio
DESCRIPTION:happy hour barside with pianist\, Robert Van \nBob Wider- bass \nDave Hunt- drums \nNo cover
URL:https://thegrapeventura.com/event/happy-hour-with-the-robert-van-trio-4/
LOCATION:The Grape\, 2733 E Main St\, Ventura\, CA\, 93003\, United States
ATTACH;FMTTYPE=image/heic:https://thegrapeventura.com/wp-content/uploads/2025/06/IMG_20260106_151136-scaled-e1767906128837.jpg
GEO:34.2736226;-119.2593404
X-APPLE-STRUCTURED-LOCATION;VALUE=URI;X-ADDRESS=The Grape 2733 E Main St Ventura CA 93003 United States;X-APPLE-RADIUS=500;X-TITLE=2733 E Main St:geo:-119.2593404,34.2736226
END:VEVENT
BEGIN:VEVENT
DTSTART;TZID=America/Los_Angeles:20260404T200000
DTEND;TZID=America/Los_Angeles:20260404T230000
DTSTAMP:20260423T155349
CREATED:20260328T193240Z
LAST-MODIFIED:20260328T193245Z
UID:10004015-1775332800-1775343600@thegrapeventura.com
SUMMARY:Two Trees Jazz Project: Easter Special
DESCRIPTION:$10 cover at door \nJoin crowd favorites Two Tree Jazz Project for a special set of tunes for Easter. \nFranklin Murphy – piano \nMercedes Carter – tenor saxophone \nNathan Hunnicut – trumpet \nHank Van Sickle – bass \nEvan Parker – drums \nAllison Gutow – vocals
URL:https://thegrapeventura.com/event/two-trees-jazz-project-easter-special/
LOCATION:The Grape\, 2733 E Main St\, Ventura\, CA\, 93003\, United States
ATTACH;FMTTYPE=image/jpeg:https://thegrapeventura.com/wp-content/uploads/2026/03/two-trees.jpeg
GEO:34.2736226;-119.2593404
X-APPLE-STRUCTURED-LOCATION;VALUE=URI;X-ADDRESS=The Grape 2733 E Main St Ventura CA 93003 United States;X-APPLE-RADIUS=500;X-TITLE=2733 E Main St:geo:-119.2593404,34.2736226
END:VEVENT
END:VCALENDAR