BEGIN:VCALENDAR
VERSION:2.0
PRODID:-//The Grape Ventura - ECPv6.15.20//NONSGML v1.0//EN
CALSCALE:GREGORIAN
METHOD:PUBLISH
X-ORIGINAL-URL:https://thegrapeventura.com
X-WR-CALDESC:Events for The Grape Ventura
REFRESH-INTERVAL;VALUE=DURATION:PT1H
X-Robots-Tag:noindex
X-PUBLISHED-TTL:PT1H
BEGIN:VTIMEZONE
TZID:America/Los_Angeles
BEGIN:DAYLIGHT
TZOFFSETFROM:-0800
TZOFFSETTO:-0700
TZNAME:PDT
DTSTART:20270314T100000
END:DAYLIGHT
BEGIN:STANDARD
TZOFFSETFROM:-0700
TZOFFSETTO:-0800
TZNAME:PST
DTSTART:20271107T090000
END:STANDARD
BEGIN:DAYLIGHT
TZOFFSETFROM:-0800
TZOFFSETTO:-0700
TZNAME:PDT
DTSTART:20280312T100000
END:DAYLIGHT
BEGIN:STANDARD
TZOFFSETFROM:-0700
TZOFFSETTO:-0800
TZNAME:PST
DTSTART:20281105T090000
END:STANDARD
BEGIN:DAYLIGHT
TZOFFSETFROM:-0800
TZOFFSETTO:-0700
TZNAME:PDT
DTSTART:20290311T100000
END:DAYLIGHT
BEGIN:STANDARD
TZOFFSETFROM:-0700
TZOFFSETTO:-0800
TZNAME:PST
DTSTART:20291104T090000
END:STANDARD
END:VTIMEZONE
BEGIN:VEVENT
DTSTART;TZID=America/Los_Angeles:20281019T170000
DTEND;TZID=America/Los_Angeles:20281019T190000
DTSTAMP:20260419T153021
CREATED:20260402T160954Z
LAST-MODIFIED:20260402T160954Z
UID:10004156-1855587600-1855594800@thegrapeventura.com
SUMMARY:Happy Hour with Collins & Rollins Quartet
DESCRIPTION:barside \nNo cover \nKent Rollins – piano \nTom Collins – guitar
URL:https://thegrapeventura.com/event/happy-hour-with-collins-rollins-quartet-4/2028-10-19/
LOCATION:The Grape\, 2733 E Main St\, Ventura\, CA\, 93003\, United States
ATTACH;FMTTYPE=image/webp:https://thegrapeventura.com/wp-content/uploads/2026/01/tom-collins-guitar.webp
GEO:34.2736226;-119.2593404
X-APPLE-STRUCTURED-LOCATION;VALUE=URI;X-ADDRESS=The Grape 2733 E Main St Ventura CA 93003 United States;X-APPLE-RADIUS=500;X-TITLE=2733 E Main St:geo:-119.2593404,34.2736226
END:VEVENT
BEGIN:VEVENT
DTSTART;TZID=America/Los_Angeles:20281020T170000
DTEND;TZID=America/Los_Angeles:20281020T190000
DTSTAMP:20260419T153021
CREATED:20260404T165009Z
LAST-MODIFIED:20260404T165009Z
UID:10004423-1855674000-1855681200@thegrapeventura.com
SUMMARY:Happy Hour with The Fred Kaplan Trio
DESCRIPTION:West Coast Swing and Boogie Woogie Blues with Fred Kaplan and friends \nEvery Friday in the bar side Happy Hour 5-7pm. \nno cover
URL:https://thegrapeventura.com/event/happy-hour-with-the-fred-kaplan-trio-3/2028-10-20/
LOCATION:The Grape\, 2733 E Main St\, Ventura\, CA\, 93003\, United States
ATTACH;FMTTYPE=image/jpeg:https://thegrapeventura.com/wp-content/uploads/2025/05/20220308_233231_318.jpg
GEO:34.2736226;-119.2593404
X-APPLE-STRUCTURED-LOCATION;VALUE=URI;X-ADDRESS=The Grape 2733 E Main St Ventura CA 93003 United States;X-APPLE-RADIUS=500;X-TITLE=2733 E Main St:geo:-119.2593404,34.2736226
END:VEVENT
BEGIN:VEVENT
DTSTART;TZID=America/Los_Angeles:20281024T170000
DTEND;TZID=America/Los_Angeles:20281024T190000
DTSTAMP:20260419T153021
CREATED:20260323T180733Z
LAST-MODIFIED:20260323T180733Z
UID:10003885-1856019600-1856026800@thegrapeventura.com
SUMMARY:Happy Hour w/ Monte Montgomery & Friends
DESCRIPTION:no cover\nbar side \nHappy Hour with multi-instrumentalist and vocalist\, Monte Montgomery and special guests
URL:https://thegrapeventura.com/event/happy-hour-w-monte-montgomery-friends-6/2028-10-24/
LOCATION:The Grape\, 2733 E Main St\, Ventura\, CA\, 93003\, United States
ATTACH;FMTTYPE=image/webp:https://thegrapeventura.com/wp-content/uploads/2026/02/monte_montgomery.webp
GEO:34.2736226;-119.2593404
X-APPLE-STRUCTURED-LOCATION;VALUE=URI;X-ADDRESS=The Grape 2733 E Main St Ventura CA 93003 United States;X-APPLE-RADIUS=500;X-TITLE=2733 E Main St:geo:-119.2593404,34.2736226
END:VEVENT
BEGIN:VEVENT
DTSTART;TZID=America/Los_Angeles:20281026T170000
DTEND;TZID=America/Los_Angeles:20281026T190000
DTSTAMP:20260419T153021
CREATED:20260402T160954Z
LAST-MODIFIED:20260402T160954Z
UID:10004157-1856192400-1856199600@thegrapeventura.com
SUMMARY:Happy Hour with Collins & Rollins Quartet
DESCRIPTION:barside \nNo cover \nKent Rollins – piano \nTom Collins – guitar
URL:https://thegrapeventura.com/event/happy-hour-with-collins-rollins-quartet-4/2028-10-26/
LOCATION:The Grape\, 2733 E Main St\, Ventura\, CA\, 93003\, United States
ATTACH;FMTTYPE=image/webp:https://thegrapeventura.com/wp-content/uploads/2026/01/tom-collins-guitar.webp
GEO:34.2736226;-119.2593404
X-APPLE-STRUCTURED-LOCATION;VALUE=URI;X-ADDRESS=The Grape 2733 E Main St Ventura CA 93003 United States;X-APPLE-RADIUS=500;X-TITLE=2733 E Main St:geo:-119.2593404,34.2736226
END:VEVENT
BEGIN:VEVENT
DTSTART;TZID=America/Los_Angeles:20281027T170000
DTEND;TZID=America/Los_Angeles:20281027T190000
DTSTAMP:20260419T153021
CREATED:20260404T165009Z
LAST-MODIFIED:20260404T165009Z
UID:10004424-1856278800-1856286000@thegrapeventura.com
SUMMARY:Happy Hour with The Fred Kaplan Trio
DESCRIPTION:West Coast Swing and Boogie Woogie Blues with Fred Kaplan and friends \nEvery Friday in the bar side Happy Hour 5-7pm. \nno cover
URL:https://thegrapeventura.com/event/happy-hour-with-the-fred-kaplan-trio-3/2028-10-27/
LOCATION:The Grape\, 2733 E Main St\, Ventura\, CA\, 93003\, United States
ATTACH;FMTTYPE=image/jpeg:https://thegrapeventura.com/wp-content/uploads/2025/05/20220308_233231_318.jpg
GEO:34.2736226;-119.2593404
X-APPLE-STRUCTURED-LOCATION;VALUE=URI;X-ADDRESS=The Grape 2733 E Main St Ventura CA 93003 United States;X-APPLE-RADIUS=500;X-TITLE=2733 E Main St:geo:-119.2593404,34.2736226
END:VEVENT
BEGIN:VEVENT
DTSTART;TZID=America/Los_Angeles:20281031T170000
DTEND;TZID=America/Los_Angeles:20281031T190000
DTSTAMP:20260419T153021
CREATED:20260323T180733Z
LAST-MODIFIED:20260323T180733Z
UID:10003886-1856624400-1856631600@thegrapeventura.com
SUMMARY:Happy Hour w/ Monte Montgomery & Friends
DESCRIPTION:no cover\nbar side \nHappy Hour with multi-instrumentalist and vocalist\, Monte Montgomery and special guests
URL:https://thegrapeventura.com/event/happy-hour-w-monte-montgomery-friends-6/2028-10-31/
LOCATION:The Grape\, 2733 E Main St\, Ventura\, CA\, 93003\, United States
ATTACH;FMTTYPE=image/webp:https://thegrapeventura.com/wp-content/uploads/2026/02/monte_montgomery.webp
GEO:34.2736226;-119.2593404
X-APPLE-STRUCTURED-LOCATION;VALUE=URI;X-ADDRESS=The Grape 2733 E Main St Ventura CA 93003 United States;X-APPLE-RADIUS=500;X-TITLE=2733 E Main St:geo:-119.2593404,34.2736226
END:VEVENT
BEGIN:VEVENT
DTSTART;TZID=America/Los_Angeles:20281101T190000
DTEND;TZID=America/Los_Angeles:20281101T220000
DTSTAMP:20260419T153021
CREATED:20260417T043530Z
LAST-MODIFIED:20260417T220919Z
UID:10004596-1856718000-1856728800@thegrapeventura.com
SUMMARY:RJ Mischo's 1st Wednesday Blues Showcase
DESCRIPTION:$10 cover \nRJ Mischo’s monthly “First Wednesday” Blues Showcase\, featuring an all-star lineup of blues musicians.
URL:https://thegrapeventura.com/event/electric-blues-trio/2028-11-01/
LOCATION:The Grape\, 2733 E Main St\, Ventura\, CA\, 93003\, United States
ATTACH;FMTTYPE=image/png:https://thegrapeventura.com/wp-content/uploads/2022/11/RJ-Mischo-2014-e1761260796209.png
GEO:34.2736226;-119.2593404
X-APPLE-STRUCTURED-LOCATION;VALUE=URI;X-ADDRESS=The Grape 2733 E Main St Ventura CA 93003 United States;X-APPLE-RADIUS=500;X-TITLE=2733 E Main St:geo:-119.2593404,34.2736226
END:VEVENT
BEGIN:VEVENT
DTSTART;TZID=America/Los_Angeles:20281102T170000
DTEND;TZID=America/Los_Angeles:20281102T190000
DTSTAMP:20260419T153021
CREATED:20260402T160954Z
LAST-MODIFIED:20260402T160954Z
UID:10004158-1856797200-1856804400@thegrapeventura.com
SUMMARY:Happy Hour with Collins & Rollins Quartet
DESCRIPTION:barside \nNo cover \nKent Rollins – piano \nTom Collins – guitar
URL:https://thegrapeventura.com/event/happy-hour-with-collins-rollins-quartet-4/2028-11-02/
LOCATION:The Grape\, 2733 E Main St\, Ventura\, CA\, 93003\, United States
ATTACH;FMTTYPE=image/webp:https://thegrapeventura.com/wp-content/uploads/2026/01/tom-collins-guitar.webp
GEO:34.2736226;-119.2593404
X-APPLE-STRUCTURED-LOCATION;VALUE=URI;X-ADDRESS=The Grape 2733 E Main St Ventura CA 93003 United States;X-APPLE-RADIUS=500;X-TITLE=2733 E Main St:geo:-119.2593404,34.2736226
END:VEVENT
BEGIN:VEVENT
DTSTART;TZID=America/Los_Angeles:20281103T170000
DTEND;TZID=America/Los_Angeles:20281103T190000
DTSTAMP:20260419T153021
CREATED:20260404T165009Z
LAST-MODIFIED:20260404T165009Z
UID:10004425-1856883600-1856890800@thegrapeventura.com
SUMMARY:Happy Hour with The Fred Kaplan Trio
DESCRIPTION:West Coast Swing and Boogie Woogie Blues with Fred Kaplan and friends \nEvery Friday in the bar side Happy Hour 5-7pm. \nno cover
URL:https://thegrapeventura.com/event/happy-hour-with-the-fred-kaplan-trio-3/2028-11-03/
LOCATION:The Grape\, 2733 E Main St\, Ventura\, CA\, 93003\, United States
ATTACH;FMTTYPE=image/jpeg:https://thegrapeventura.com/wp-content/uploads/2025/05/20220308_233231_318.jpg
GEO:34.2736226;-119.2593404
X-APPLE-STRUCTURED-LOCATION;VALUE=URI;X-ADDRESS=The Grape 2733 E Main St Ventura CA 93003 United States;X-APPLE-RADIUS=500;X-TITLE=2733 E Main St:geo:-119.2593404,34.2736226
END:VEVENT
BEGIN:VEVENT
DTSTART;TZID=America/Los_Angeles:20281107T170000
DTEND;TZID=America/Los_Angeles:20281107T190000
DTSTAMP:20260419T153021
CREATED:20260323T180733Z
LAST-MODIFIED:20260323T180733Z
UID:10003887-1857229200-1857236400@thegrapeventura.com
SUMMARY:Happy Hour w/ Monte Montgomery & Friends
DESCRIPTION:no cover\nbar side \nHappy Hour with multi-instrumentalist and vocalist\, Monte Montgomery and special guests
URL:https://thegrapeventura.com/event/happy-hour-w-monte-montgomery-friends-6/2028-11-07/
LOCATION:The Grape\, 2733 E Main St\, Ventura\, CA\, 93003\, United States
ATTACH;FMTTYPE=image/webp:https://thegrapeventura.com/wp-content/uploads/2026/02/monte_montgomery.webp
GEO:34.2736226;-119.2593404
X-APPLE-STRUCTURED-LOCATION;VALUE=URI;X-ADDRESS=The Grape 2733 E Main St Ventura CA 93003 United States;X-APPLE-RADIUS=500;X-TITLE=2733 E Main St:geo:-119.2593404,34.2736226
END:VEVENT
BEGIN:VEVENT
DTSTART;TZID=America/Los_Angeles:20281109T170000
DTEND;TZID=America/Los_Angeles:20281109T190000
DTSTAMP:20260419T153021
CREATED:20260402T160954Z
LAST-MODIFIED:20260402T160954Z
UID:10004159-1857402000-1857409200@thegrapeventura.com
SUMMARY:Happy Hour with Collins & Rollins Quartet
DESCRIPTION:barside \nNo cover \nKent Rollins – piano \nTom Collins – guitar
URL:https://thegrapeventura.com/event/happy-hour-with-collins-rollins-quartet-4/2028-11-09/
LOCATION:The Grape\, 2733 E Main St\, Ventura\, CA\, 93003\, United States
ATTACH;FMTTYPE=image/webp:https://thegrapeventura.com/wp-content/uploads/2026/01/tom-collins-guitar.webp
GEO:34.2736226;-119.2593404
X-APPLE-STRUCTURED-LOCATION;VALUE=URI;X-ADDRESS=The Grape 2733 E Main St Ventura CA 93003 United States;X-APPLE-RADIUS=500;X-TITLE=2733 E Main St:geo:-119.2593404,34.2736226
END:VEVENT
BEGIN:VEVENT
DTSTART;TZID=America/Los_Angeles:20281110T170000
DTEND;TZID=America/Los_Angeles:20281110T190000
DTSTAMP:20260419T153021
CREATED:20260404T165009Z
LAST-MODIFIED:20260404T165009Z
UID:10004426-1857488400-1857495600@thegrapeventura.com
SUMMARY:Happy Hour with The Fred Kaplan Trio
DESCRIPTION:West Coast Swing and Boogie Woogie Blues with Fred Kaplan and friends \nEvery Friday in the bar side Happy Hour 5-7pm. \nno cover
URL:https://thegrapeventura.com/event/happy-hour-with-the-fred-kaplan-trio-3/2028-11-10/
LOCATION:The Grape\, 2733 E Main St\, Ventura\, CA\, 93003\, United States
ATTACH;FMTTYPE=image/jpeg:https://thegrapeventura.com/wp-content/uploads/2025/05/20220308_233231_318.jpg
GEO:34.2736226;-119.2593404
X-APPLE-STRUCTURED-LOCATION;VALUE=URI;X-ADDRESS=The Grape 2733 E Main St Ventura CA 93003 United States;X-APPLE-RADIUS=500;X-TITLE=2733 E Main St:geo:-119.2593404,34.2736226
END:VEVENT
BEGIN:VEVENT
DTSTART;TZID=America/Los_Angeles:20281114T170000
DTEND;TZID=America/Los_Angeles:20281114T190000
DTSTAMP:20260419T153021
CREATED:20260323T180733Z
LAST-MODIFIED:20260323T180733Z
UID:10003888-1857834000-1857841200@thegrapeventura.com
SUMMARY:Happy Hour w/ Monte Montgomery & Friends
DESCRIPTION:no cover\nbar side \nHappy Hour with multi-instrumentalist and vocalist\, Monte Montgomery and special guests
URL:https://thegrapeventura.com/event/happy-hour-w-monte-montgomery-friends-6/2028-11-14/
LOCATION:The Grape\, 2733 E Main St\, Ventura\, CA\, 93003\, United States
ATTACH;FMTTYPE=image/webp:https://thegrapeventura.com/wp-content/uploads/2026/02/monte_montgomery.webp
GEO:34.2736226;-119.2593404
X-APPLE-STRUCTURED-LOCATION;VALUE=URI;X-ADDRESS=The Grape 2733 E Main St Ventura CA 93003 United States;X-APPLE-RADIUS=500;X-TITLE=2733 E Main St:geo:-119.2593404,34.2736226
END:VEVENT
BEGIN:VEVENT
DTSTART;TZID=America/Los_Angeles:20281116T170000
DTEND;TZID=America/Los_Angeles:20281116T190000
DTSTAMP:20260419T153021
CREATED:20260402T160954Z
LAST-MODIFIED:20260402T160954Z
UID:10004160-1858006800-1858014000@thegrapeventura.com
SUMMARY:Happy Hour with Collins & Rollins Quartet
DESCRIPTION:barside \nNo cover \nKent Rollins – piano \nTom Collins – guitar
URL:https://thegrapeventura.com/event/happy-hour-with-collins-rollins-quartet-4/2028-11-16/
LOCATION:The Grape\, 2733 E Main St\, Ventura\, CA\, 93003\, United States
ATTACH;FMTTYPE=image/webp:https://thegrapeventura.com/wp-content/uploads/2026/01/tom-collins-guitar.webp
GEO:34.2736226;-119.2593404
X-APPLE-STRUCTURED-LOCATION;VALUE=URI;X-ADDRESS=The Grape 2733 E Main St Ventura CA 93003 United States;X-APPLE-RADIUS=500;X-TITLE=2733 E Main St:geo:-119.2593404,34.2736226
END:VEVENT
BEGIN:VEVENT
DTSTART;TZID=America/Los_Angeles:20281117T170000
DTEND;TZID=America/Los_Angeles:20281117T190000
DTSTAMP:20260419T153021
CREATED:20260404T165009Z
LAST-MODIFIED:20260404T165009Z
UID:10004427-1858093200-1858100400@thegrapeventura.com
SUMMARY:Happy Hour with The Fred Kaplan Trio
DESCRIPTION:West Coast Swing and Boogie Woogie Blues with Fred Kaplan and friends \nEvery Friday in the bar side Happy Hour 5-7pm. \nno cover
URL:https://thegrapeventura.com/event/happy-hour-with-the-fred-kaplan-trio-3/2028-11-17/
LOCATION:The Grape\, 2733 E Main St\, Ventura\, CA\, 93003\, United States
ATTACH;FMTTYPE=image/jpeg:https://thegrapeventura.com/wp-content/uploads/2025/05/20220308_233231_318.jpg
GEO:34.2736226;-119.2593404
X-APPLE-STRUCTURED-LOCATION;VALUE=URI;X-ADDRESS=The Grape 2733 E Main St Ventura CA 93003 United States;X-APPLE-RADIUS=500;X-TITLE=2733 E Main St:geo:-119.2593404,34.2736226
END:VEVENT
BEGIN:VEVENT
DTSTART;TZID=America/Los_Angeles:20281121T170000
DTEND;TZID=America/Los_Angeles:20281121T190000
DTSTAMP:20260419T153021
CREATED:20260323T180733Z
LAST-MODIFIED:20260323T180733Z
UID:10003889-1858438800-1858446000@thegrapeventura.com
SUMMARY:Happy Hour w/ Monte Montgomery & Friends
DESCRIPTION:no cover\nbar side \nHappy Hour with multi-instrumentalist and vocalist\, Monte Montgomery and special guests
URL:https://thegrapeventura.com/event/happy-hour-w-monte-montgomery-friends-6/2028-11-21/
LOCATION:The Grape\, 2733 E Main St\, Ventura\, CA\, 93003\, United States
ATTACH;FMTTYPE=image/webp:https://thegrapeventura.com/wp-content/uploads/2026/02/monte_montgomery.webp
GEO:34.2736226;-119.2593404
X-APPLE-STRUCTURED-LOCATION;VALUE=URI;X-ADDRESS=The Grape 2733 E Main St Ventura CA 93003 United States;X-APPLE-RADIUS=500;X-TITLE=2733 E Main St:geo:-119.2593404,34.2736226
END:VEVENT
BEGIN:VEVENT
DTSTART;TZID=America/Los_Angeles:20281123T170000
DTEND;TZID=America/Los_Angeles:20281123T190000
DTSTAMP:20260419T153021
CREATED:20260402T160954Z
LAST-MODIFIED:20260402T160954Z
UID:10004161-1858611600-1858618800@thegrapeventura.com
SUMMARY:Happy Hour with Collins & Rollins Quartet
DESCRIPTION:barside \nNo cover \nKent Rollins – piano \nTom Collins – guitar
URL:https://thegrapeventura.com/event/happy-hour-with-collins-rollins-quartet-4/2028-11-23/
LOCATION:The Grape\, 2733 E Main St\, Ventura\, CA\, 93003\, United States
ATTACH;FMTTYPE=image/webp:https://thegrapeventura.com/wp-content/uploads/2026/01/tom-collins-guitar.webp
GEO:34.2736226;-119.2593404
X-APPLE-STRUCTURED-LOCATION;VALUE=URI;X-ADDRESS=The Grape 2733 E Main St Ventura CA 93003 United States;X-APPLE-RADIUS=500;X-TITLE=2733 E Main St:geo:-119.2593404,34.2736226
END:VEVENT
BEGIN:VEVENT
DTSTART;TZID=America/Los_Angeles:20281124T170000
DTEND;TZID=America/Los_Angeles:20281124T190000
DTSTAMP:20260419T153021
CREATED:20260404T165009Z
LAST-MODIFIED:20260404T165009Z
UID:10004428-1858698000-1858705200@thegrapeventura.com
SUMMARY:Happy Hour with The Fred Kaplan Trio
DESCRIPTION:West Coast Swing and Boogie Woogie Blues with Fred Kaplan and friends \nEvery Friday in the bar side Happy Hour 5-7pm. \nno cover
URL:https://thegrapeventura.com/event/happy-hour-with-the-fred-kaplan-trio-3/2028-11-24/
LOCATION:The Grape\, 2733 E Main St\, Ventura\, CA\, 93003\, United States
ATTACH;FMTTYPE=image/jpeg:https://thegrapeventura.com/wp-content/uploads/2025/05/20220308_233231_318.jpg
GEO:34.2736226;-119.2593404
X-APPLE-STRUCTURED-LOCATION;VALUE=URI;X-ADDRESS=The Grape 2733 E Main St Ventura CA 93003 United States;X-APPLE-RADIUS=500;X-TITLE=2733 E Main St:geo:-119.2593404,34.2736226
END:VEVENT
BEGIN:VEVENT
DTSTART;TZID=America/Los_Angeles:20281128T170000
DTEND;TZID=America/Los_Angeles:20281128T190000
DTSTAMP:20260419T153021
CREATED:20260323T180733Z
LAST-MODIFIED:20260323T180733Z
UID:10003890-1859043600-1859050800@thegrapeventura.com
SUMMARY:Happy Hour w/ Monte Montgomery & Friends
DESCRIPTION:no cover\nbar side \nHappy Hour with multi-instrumentalist and vocalist\, Monte Montgomery and special guests
URL:https://thegrapeventura.com/event/happy-hour-w-monte-montgomery-friends-6/2028-11-28/
LOCATION:The Grape\, 2733 E Main St\, Ventura\, CA\, 93003\, United States
ATTACH;FMTTYPE=image/webp:https://thegrapeventura.com/wp-content/uploads/2026/02/monte_montgomery.webp
GEO:34.2736226;-119.2593404
X-APPLE-STRUCTURED-LOCATION;VALUE=URI;X-ADDRESS=The Grape 2733 E Main St Ventura CA 93003 United States;X-APPLE-RADIUS=500;X-TITLE=2733 E Main St:geo:-119.2593404,34.2736226
END:VEVENT
BEGIN:VEVENT
DTSTART;TZID=America/Los_Angeles:20281130T170000
DTEND;TZID=America/Los_Angeles:20281130T190000
DTSTAMP:20260419T153021
CREATED:20260402T160954Z
LAST-MODIFIED:20260402T160954Z
UID:10004162-1859216400-1859223600@thegrapeventura.com
SUMMARY:Happy Hour with Collins & Rollins Quartet
DESCRIPTION:barside \nNo cover \nKent Rollins – piano \nTom Collins – guitar
URL:https://thegrapeventura.com/event/happy-hour-with-collins-rollins-quartet-4/2028-11-30/
LOCATION:The Grape\, 2733 E Main St\, Ventura\, CA\, 93003\, United States
ATTACH;FMTTYPE=image/webp:https://thegrapeventura.com/wp-content/uploads/2026/01/tom-collins-guitar.webp
GEO:34.2736226;-119.2593404
X-APPLE-STRUCTURED-LOCATION;VALUE=URI;X-ADDRESS=The Grape 2733 E Main St Ventura CA 93003 United States;X-APPLE-RADIUS=500;X-TITLE=2733 E Main St:geo:-119.2593404,34.2736226
END:VEVENT
BEGIN:VEVENT
DTSTART;TZID=America/Los_Angeles:20281201T170000
DTEND;TZID=America/Los_Angeles:20281201T190000
DTSTAMP:20260419T153021
CREATED:20260404T165009Z
LAST-MODIFIED:20260404T165009Z
UID:10004429-1859302800-1859310000@thegrapeventura.com
SUMMARY:Happy Hour with The Fred Kaplan Trio
DESCRIPTION:West Coast Swing and Boogie Woogie Blues with Fred Kaplan and friends \nEvery Friday in the bar side Happy Hour 5-7pm. \nno cover
URL:https://thegrapeventura.com/event/happy-hour-with-the-fred-kaplan-trio-3/2028-12-01/
LOCATION:The Grape\, 2733 E Main St\, Ventura\, CA\, 93003\, United States
ATTACH;FMTTYPE=image/jpeg:https://thegrapeventura.com/wp-content/uploads/2025/05/20220308_233231_318.jpg
GEO:34.2736226;-119.2593404
X-APPLE-STRUCTURED-LOCATION;VALUE=URI;X-ADDRESS=The Grape 2733 E Main St Ventura CA 93003 United States;X-APPLE-RADIUS=500;X-TITLE=2733 E Main St:geo:-119.2593404,34.2736226
END:VEVENT
BEGIN:VEVENT
DTSTART;TZID=America/Los_Angeles:20281205T170000
DTEND;TZID=America/Los_Angeles:20281205T190000
DTSTAMP:20260419T153021
CREATED:20260323T180733Z
LAST-MODIFIED:20260323T180733Z
UID:10003891-1859648400-1859655600@thegrapeventura.com
SUMMARY:Happy Hour w/ Monte Montgomery & Friends
DESCRIPTION:no cover\nbar side \nHappy Hour with multi-instrumentalist and vocalist\, Monte Montgomery and special guests
URL:https://thegrapeventura.com/event/happy-hour-w-monte-montgomery-friends-6/2028-12-05/
LOCATION:The Grape\, 2733 E Main St\, Ventura\, CA\, 93003\, United States
ATTACH;FMTTYPE=image/webp:https://thegrapeventura.com/wp-content/uploads/2026/02/monte_montgomery.webp
GEO:34.2736226;-119.2593404
X-APPLE-STRUCTURED-LOCATION;VALUE=URI;X-ADDRESS=The Grape 2733 E Main St Ventura CA 93003 United States;X-APPLE-RADIUS=500;X-TITLE=2733 E Main St:geo:-119.2593404,34.2736226
END:VEVENT
BEGIN:VEVENT
DTSTART;TZID=America/Los_Angeles:20281206T190000
DTEND;TZID=America/Los_Angeles:20281206T220000
DTSTAMP:20260419T153021
CREATED:20260417T043530Z
LAST-MODIFIED:20260417T220919Z
UID:10004597-1859742000-1859752800@thegrapeventura.com
SUMMARY:RJ Mischo's 1st Wednesday Blues Showcase
DESCRIPTION:$10 cover \nRJ Mischo’s monthly “First Wednesday” Blues Showcase\, featuring an all-star lineup of blues musicians.
URL:https://thegrapeventura.com/event/electric-blues-trio/2028-12-06/
LOCATION:The Grape\, 2733 E Main St\, Ventura\, CA\, 93003\, United States
ATTACH;FMTTYPE=image/png:https://thegrapeventura.com/wp-content/uploads/2022/11/RJ-Mischo-2014-e1761260796209.png
GEO:34.2736226;-119.2593404
X-APPLE-STRUCTURED-LOCATION;VALUE=URI;X-ADDRESS=The Grape 2733 E Main St Ventura CA 93003 United States;X-APPLE-RADIUS=500;X-TITLE=2733 E Main St:geo:-119.2593404,34.2736226
END:VEVENT
BEGIN:VEVENT
DTSTART;TZID=America/Los_Angeles:20281207T170000
DTEND;TZID=America/Los_Angeles:20281207T190000
DTSTAMP:20260419T153021
CREATED:20260402T160954Z
LAST-MODIFIED:20260402T160954Z
UID:10004163-1859821200-1859828400@thegrapeventura.com
SUMMARY:Happy Hour with Collins & Rollins Quartet
DESCRIPTION:barside \nNo cover \nKent Rollins – piano \nTom Collins – guitar
URL:https://thegrapeventura.com/event/happy-hour-with-collins-rollins-quartet-4/2028-12-07/
LOCATION:The Grape\, 2733 E Main St\, Ventura\, CA\, 93003\, United States
ATTACH;FMTTYPE=image/webp:https://thegrapeventura.com/wp-content/uploads/2026/01/tom-collins-guitar.webp
GEO:34.2736226;-119.2593404
X-APPLE-STRUCTURED-LOCATION;VALUE=URI;X-ADDRESS=The Grape 2733 E Main St Ventura CA 93003 United States;X-APPLE-RADIUS=500;X-TITLE=2733 E Main St:geo:-119.2593404,34.2736226
END:VEVENT
BEGIN:VEVENT
DTSTART;TZID=America/Los_Angeles:20281208T170000
DTEND;TZID=America/Los_Angeles:20281208T190000
DTSTAMP:20260419T153021
CREATED:20260404T165009Z
LAST-MODIFIED:20260404T165009Z
UID:10004430-1859907600-1859914800@thegrapeventura.com
SUMMARY:Happy Hour with The Fred Kaplan Trio
DESCRIPTION:West Coast Swing and Boogie Woogie Blues with Fred Kaplan and friends \nEvery Friday in the bar side Happy Hour 5-7pm. \nno cover
URL:https://thegrapeventura.com/event/happy-hour-with-the-fred-kaplan-trio-3/2028-12-08/
LOCATION:The Grape\, 2733 E Main St\, Ventura\, CA\, 93003\, United States
ATTACH;FMTTYPE=image/jpeg:https://thegrapeventura.com/wp-content/uploads/2025/05/20220308_233231_318.jpg
GEO:34.2736226;-119.2593404
X-APPLE-STRUCTURED-LOCATION;VALUE=URI;X-ADDRESS=The Grape 2733 E Main St Ventura CA 93003 United States;X-APPLE-RADIUS=500;X-TITLE=2733 E Main St:geo:-119.2593404,34.2736226
END:VEVENT
BEGIN:VEVENT
DTSTART;TZID=America/Los_Angeles:20281212T170000
DTEND;TZID=America/Los_Angeles:20281212T190000
DTSTAMP:20260419T153021
CREATED:20260323T180733Z
LAST-MODIFIED:20260323T180733Z
UID:10003892-1860253200-1860260400@thegrapeventura.com
SUMMARY:Happy Hour w/ Monte Montgomery & Friends
DESCRIPTION:no cover\nbar side \nHappy Hour with multi-instrumentalist and vocalist\, Monte Montgomery and special guests
URL:https://thegrapeventura.com/event/happy-hour-w-monte-montgomery-friends-6/2028-12-12/
LOCATION:The Grape\, 2733 E Main St\, Ventura\, CA\, 93003\, United States
ATTACH;FMTTYPE=image/webp:https://thegrapeventura.com/wp-content/uploads/2026/02/monte_montgomery.webp
GEO:34.2736226;-119.2593404
X-APPLE-STRUCTURED-LOCATION;VALUE=URI;X-ADDRESS=The Grape 2733 E Main St Ventura CA 93003 United States;X-APPLE-RADIUS=500;X-TITLE=2733 E Main St:geo:-119.2593404,34.2736226
END:VEVENT
BEGIN:VEVENT
DTSTART;TZID=America/Los_Angeles:20281214T170000
DTEND;TZID=America/Los_Angeles:20281214T190000
DTSTAMP:20260419T153021
CREATED:20260402T160954Z
LAST-MODIFIED:20260402T160954Z
UID:10004164-1860426000-1860433200@thegrapeventura.com
SUMMARY:Happy Hour with Collins & Rollins Quartet
DESCRIPTION:barside \nNo cover \nKent Rollins – piano \nTom Collins – guitar
URL:https://thegrapeventura.com/event/happy-hour-with-collins-rollins-quartet-4/2028-12-14/
LOCATION:The Grape\, 2733 E Main St\, Ventura\, CA\, 93003\, United States
ATTACH;FMTTYPE=image/webp:https://thegrapeventura.com/wp-content/uploads/2026/01/tom-collins-guitar.webp
GEO:34.2736226;-119.2593404
X-APPLE-STRUCTURED-LOCATION;VALUE=URI;X-ADDRESS=The Grape 2733 E Main St Ventura CA 93003 United States;X-APPLE-RADIUS=500;X-TITLE=2733 E Main St:geo:-119.2593404,34.2736226
END:VEVENT
BEGIN:VEVENT
DTSTART;TZID=America/Los_Angeles:20281215T170000
DTEND;TZID=America/Los_Angeles:20281215T190000
DTSTAMP:20260419T153021
CREATED:20260404T165009Z
LAST-MODIFIED:20260404T165009Z
UID:10004431-1860512400-1860519600@thegrapeventura.com
SUMMARY:Happy Hour with The Fred Kaplan Trio
DESCRIPTION:West Coast Swing and Boogie Woogie Blues with Fred Kaplan and friends \nEvery Friday in the bar side Happy Hour 5-7pm. \nno cover
URL:https://thegrapeventura.com/event/happy-hour-with-the-fred-kaplan-trio-3/2028-12-15/
LOCATION:The Grape\, 2733 E Main St\, Ventura\, CA\, 93003\, United States
ATTACH;FMTTYPE=image/jpeg:https://thegrapeventura.com/wp-content/uploads/2025/05/20220308_233231_318.jpg
GEO:34.2736226;-119.2593404
X-APPLE-STRUCTURED-LOCATION;VALUE=URI;X-ADDRESS=The Grape 2733 E Main St Ventura CA 93003 United States;X-APPLE-RADIUS=500;X-TITLE=2733 E Main St:geo:-119.2593404,34.2736226
END:VEVENT
BEGIN:VEVENT
DTSTART;TZID=America/Los_Angeles:20281219T170000
DTEND;TZID=America/Los_Angeles:20281219T190000
DTSTAMP:20260419T153021
CREATED:20260323T180733Z
LAST-MODIFIED:20260323T180733Z
UID:10003893-1860858000-1860865200@thegrapeventura.com
SUMMARY:Happy Hour w/ Monte Montgomery & Friends
DESCRIPTION:no cover\nbar side \nHappy Hour with multi-instrumentalist and vocalist\, Monte Montgomery and special guests
URL:https://thegrapeventura.com/event/happy-hour-w-monte-montgomery-friends-6/2028-12-19/
LOCATION:The Grape\, 2733 E Main St\, Ventura\, CA\, 93003\, United States
ATTACH;FMTTYPE=image/webp:https://thegrapeventura.com/wp-content/uploads/2026/02/monte_montgomery.webp
GEO:34.2736226;-119.2593404
X-APPLE-STRUCTURED-LOCATION;VALUE=URI;X-ADDRESS=The Grape 2733 E Main St Ventura CA 93003 United States;X-APPLE-RADIUS=500;X-TITLE=2733 E Main St:geo:-119.2593404,34.2736226
END:VEVENT
BEGIN:VEVENT
DTSTART;TZID=America/Los_Angeles:20281221T170000
DTEND;TZID=America/Los_Angeles:20281221T190000
DTSTAMP:20260419T153021
CREATED:20260402T160954Z
LAST-MODIFIED:20260402T160954Z
UID:10004165-1861030800-1861038000@thegrapeventura.com
SUMMARY:Happy Hour with Collins & Rollins Quartet
DESCRIPTION:barside \nNo cover \nKent Rollins – piano \nTom Collins – guitar
URL:https://thegrapeventura.com/event/happy-hour-with-collins-rollins-quartet-4/2028-12-21/
LOCATION:The Grape\, 2733 E Main St\, Ventura\, CA\, 93003\, United States
ATTACH;FMTTYPE=image/webp:https://thegrapeventura.com/wp-content/uploads/2026/01/tom-collins-guitar.webp
GEO:34.2736226;-119.2593404
X-APPLE-STRUCTURED-LOCATION;VALUE=URI;X-ADDRESS=The Grape 2733 E Main St Ventura CA 93003 United States;X-APPLE-RADIUS=500;X-TITLE=2733 E Main St:geo:-119.2593404,34.2736226
END:VEVENT
END:VCALENDAR