BEGIN:VCALENDAR
VERSION:2.0
PRODID:-//The Grape Ventura - ECPv6.15.20//NONSGML v1.0//EN
CALSCALE:GREGORIAN
METHOD:PUBLISH
X-ORIGINAL-URL:https://thegrapeventura.com
X-WR-CALDESC:Events for The Grape Ventura
REFRESH-INTERVAL;VALUE=DURATION:PT1H
X-Robots-Tag:noindex
X-PUBLISHED-TTL:PT1H
BEGIN:VTIMEZONE
TZID:America/Los_Angeles
BEGIN:DAYLIGHT
TZOFFSETFROM:-0800
TZOFFSETTO:-0700
TZNAME:PDT
DTSTART:20280312T100000
END:DAYLIGHT
BEGIN:STANDARD
TZOFFSETFROM:-0700
TZOFFSETTO:-0800
TZNAME:PST
DTSTART:20281105T090000
END:STANDARD
BEGIN:DAYLIGHT
TZOFFSETFROM:-0800
TZOFFSETTO:-0700
TZNAME:PDT
DTSTART:20290311T100000
END:DAYLIGHT
BEGIN:STANDARD
TZOFFSETFROM:-0700
TZOFFSETTO:-0800
TZNAME:PST
DTSTART:20291104T090000
END:STANDARD
BEGIN:DAYLIGHT
TZOFFSETFROM:-0800
TZOFFSETTO:-0700
TZNAME:PDT
DTSTART:20300310T100000
END:DAYLIGHT
BEGIN:STANDARD
TZOFFSETFROM:-0700
TZOFFSETTO:-0800
TZNAME:PST
DTSTART:20301103T090000
END:STANDARD
BEGIN:DAYLIGHT
TZOFFSETFROM:-0800
TZOFFSETTO:-0700
TZNAME:PDT
DTSTART:20310309T100000
END:DAYLIGHT
BEGIN:STANDARD
TZOFFSETFROM:-0700
TZOFFSETTO:-0800
TZNAME:PST
DTSTART:20311102T090000
END:STANDARD
BEGIN:DAYLIGHT
TZOFFSETFROM:-0800
TZOFFSETTO:-0700
TZNAME:PDT
DTSTART:20320314T100000
END:DAYLIGHT
BEGIN:STANDARD
TZOFFSETFROM:-0700
TZOFFSETTO:-0800
TZNAME:PST
DTSTART:20321107T090000
END:STANDARD
END:VTIMEZONE
BEGIN:VEVENT
DTSTART;TZID=America/Los_Angeles:20290502T190000
DTEND;TZID=America/Los_Angeles:20290502T220000
DTSTAMP:20260419T053951
CREATED:20260417T043530Z
LAST-MODIFIED:20260417T220919Z
UID:10004602-1872442800-1872453600@thegrapeventura.com
SUMMARY:RJ Mischo's 1st Wednesday Blues Showcase
DESCRIPTION:$10 cover \nRJ Mischo’s monthly “First Wednesday” Blues Showcase\, featuring an all-star lineup of blues musicians.
URL:https://thegrapeventura.com/event/electric-blues-trio/2029-05-02/
LOCATION:The Grape\, 2733 E Main St\, Ventura\, CA\, 93003\, United States
ATTACH;FMTTYPE=image/png:https://thegrapeventura.com/wp-content/uploads/2022/11/RJ-Mischo-2014-e1761260796209.png
GEO:34.2736226;-119.2593404
X-APPLE-STRUCTURED-LOCATION;VALUE=URI;X-ADDRESS=The Grape 2733 E Main St Ventura CA 93003 United States;X-APPLE-RADIUS=500;X-TITLE=2733 E Main St:geo:-119.2593404,34.2736226
END:VEVENT
BEGIN:VEVENT
DTSTART;TZID=America/Los_Angeles:20290606T190000
DTEND;TZID=America/Los_Angeles:20290606T220000
DTSTAMP:20260419T053951
CREATED:20260417T043530Z
LAST-MODIFIED:20260417T220919Z
UID:10004603-1875466800-1875477600@thegrapeventura.com
SUMMARY:RJ Mischo's 1st Wednesday Blues Showcase
DESCRIPTION:$10 cover \nRJ Mischo’s monthly “First Wednesday” Blues Showcase\, featuring an all-star lineup of blues musicians.
URL:https://thegrapeventura.com/event/electric-blues-trio/2029-06-06/
LOCATION:The Grape\, 2733 E Main St\, Ventura\, CA\, 93003\, United States
ATTACH;FMTTYPE=image/png:https://thegrapeventura.com/wp-content/uploads/2022/11/RJ-Mischo-2014-e1761260796209.png
GEO:34.2736226;-119.2593404
X-APPLE-STRUCTURED-LOCATION;VALUE=URI;X-ADDRESS=The Grape 2733 E Main St Ventura CA 93003 United States;X-APPLE-RADIUS=500;X-TITLE=2733 E Main St:geo:-119.2593404,34.2736226
END:VEVENT
BEGIN:VEVENT
DTSTART;TZID=America/Los_Angeles:20290704T190000
DTEND;TZID=America/Los_Angeles:20290704T220000
DTSTAMP:20260419T053951
CREATED:20260417T043530Z
LAST-MODIFIED:20260417T220919Z
UID:10004604-1877886000-1877896800@thegrapeventura.com
SUMMARY:RJ Mischo's 1st Wednesday Blues Showcase
DESCRIPTION:$10 cover \nRJ Mischo’s monthly “First Wednesday” Blues Showcase\, featuring an all-star lineup of blues musicians.
URL:https://thegrapeventura.com/event/electric-blues-trio/2029-07-04/
LOCATION:The Grape\, 2733 E Main St\, Ventura\, CA\, 93003\, United States
ATTACH;FMTTYPE=image/png:https://thegrapeventura.com/wp-content/uploads/2022/11/RJ-Mischo-2014-e1761260796209.png
GEO:34.2736226;-119.2593404
X-APPLE-STRUCTURED-LOCATION;VALUE=URI;X-ADDRESS=The Grape 2733 E Main St Ventura CA 93003 United States;X-APPLE-RADIUS=500;X-TITLE=2733 E Main St:geo:-119.2593404,34.2736226
END:VEVENT
BEGIN:VEVENT
DTSTART;TZID=America/Los_Angeles:20290801T190000
DTEND;TZID=America/Los_Angeles:20290801T220000
DTSTAMP:20260419T053951
CREATED:20260417T043530Z
LAST-MODIFIED:20260417T220919Z
UID:10004605-1880305200-1880316000@thegrapeventura.com
SUMMARY:RJ Mischo's 1st Wednesday Blues Showcase
DESCRIPTION:$10 cover \nRJ Mischo’s monthly “First Wednesday” Blues Showcase\, featuring an all-star lineup of blues musicians.
URL:https://thegrapeventura.com/event/electric-blues-trio/2029-08-01/
LOCATION:The Grape\, 2733 E Main St\, Ventura\, CA\, 93003\, United States
ATTACH;FMTTYPE=image/png:https://thegrapeventura.com/wp-content/uploads/2022/11/RJ-Mischo-2014-e1761260796209.png
GEO:34.2736226;-119.2593404
X-APPLE-STRUCTURED-LOCATION;VALUE=URI;X-ADDRESS=The Grape 2733 E Main St Ventura CA 93003 United States;X-APPLE-RADIUS=500;X-TITLE=2733 E Main St:geo:-119.2593404,34.2736226
END:VEVENT
BEGIN:VEVENT
DTSTART;TZID=America/Los_Angeles:20290905T190000
DTEND;TZID=America/Los_Angeles:20290905T220000
DTSTAMP:20260419T053951
CREATED:20260417T043530Z
LAST-MODIFIED:20260417T220919Z
UID:10004606-1883329200-1883340000@thegrapeventura.com
SUMMARY:RJ Mischo's 1st Wednesday Blues Showcase
DESCRIPTION:$10 cover \nRJ Mischo’s monthly “First Wednesday” Blues Showcase\, featuring an all-star lineup of blues musicians.
URL:https://thegrapeventura.com/event/electric-blues-trio/2029-09-05/
LOCATION:The Grape\, 2733 E Main St\, Ventura\, CA\, 93003\, United States
ATTACH;FMTTYPE=image/png:https://thegrapeventura.com/wp-content/uploads/2022/11/RJ-Mischo-2014-e1761260796209.png
GEO:34.2736226;-119.2593404
X-APPLE-STRUCTURED-LOCATION;VALUE=URI;X-ADDRESS=The Grape 2733 E Main St Ventura CA 93003 United States;X-APPLE-RADIUS=500;X-TITLE=2733 E Main St:geo:-119.2593404,34.2736226
END:VEVENT
BEGIN:VEVENT
DTSTART;TZID=America/Los_Angeles:20291003T190000
DTEND;TZID=America/Los_Angeles:20291003T220000
DTSTAMP:20260419T053951
CREATED:20260417T043530Z
LAST-MODIFIED:20260417T220919Z
UID:10004607-1885748400-1885759200@thegrapeventura.com
SUMMARY:RJ Mischo's 1st Wednesday Blues Showcase
DESCRIPTION:$10 cover \nRJ Mischo’s monthly “First Wednesday” Blues Showcase\, featuring an all-star lineup of blues musicians.
URL:https://thegrapeventura.com/event/electric-blues-trio/2029-10-03/
LOCATION:The Grape\, 2733 E Main St\, Ventura\, CA\, 93003\, United States
ATTACH;FMTTYPE=image/png:https://thegrapeventura.com/wp-content/uploads/2022/11/RJ-Mischo-2014-e1761260796209.png
GEO:34.2736226;-119.2593404
X-APPLE-STRUCTURED-LOCATION;VALUE=URI;X-ADDRESS=The Grape 2733 E Main St Ventura CA 93003 United States;X-APPLE-RADIUS=500;X-TITLE=2733 E Main St:geo:-119.2593404,34.2736226
END:VEVENT
BEGIN:VEVENT
DTSTART;TZID=America/Los_Angeles:20291107T190000
DTEND;TZID=America/Los_Angeles:20291107T220000
DTSTAMP:20260419T053951
CREATED:20260417T043530Z
LAST-MODIFIED:20260417T220919Z
UID:10004608-1888772400-1888783200@thegrapeventura.com
SUMMARY:RJ Mischo's 1st Wednesday Blues Showcase
DESCRIPTION:$10 cover \nRJ Mischo’s monthly “First Wednesday” Blues Showcase\, featuring an all-star lineup of blues musicians.
URL:https://thegrapeventura.com/event/electric-blues-trio/2029-11-07/
LOCATION:The Grape\, 2733 E Main St\, Ventura\, CA\, 93003\, United States
ATTACH;FMTTYPE=image/png:https://thegrapeventura.com/wp-content/uploads/2022/11/RJ-Mischo-2014-e1761260796209.png
GEO:34.2736226;-119.2593404
X-APPLE-STRUCTURED-LOCATION;VALUE=URI;X-ADDRESS=The Grape 2733 E Main St Ventura CA 93003 United States;X-APPLE-RADIUS=500;X-TITLE=2733 E Main St:geo:-119.2593404,34.2736226
END:VEVENT
BEGIN:VEVENT
DTSTART;TZID=America/Los_Angeles:20291205T190000
DTEND;TZID=America/Los_Angeles:20291205T220000
DTSTAMP:20260419T053951
CREATED:20260417T043530Z
LAST-MODIFIED:20260417T220919Z
UID:10004609-1891191600-1891202400@thegrapeventura.com
SUMMARY:RJ Mischo's 1st Wednesday Blues Showcase
DESCRIPTION:$10 cover \nRJ Mischo’s monthly “First Wednesday” Blues Showcase\, featuring an all-star lineup of blues musicians.
URL:https://thegrapeventura.com/event/electric-blues-trio/2029-12-05/
LOCATION:The Grape\, 2733 E Main St\, Ventura\, CA\, 93003\, United States
ATTACH;FMTTYPE=image/png:https://thegrapeventura.com/wp-content/uploads/2022/11/RJ-Mischo-2014-e1761260796209.png
GEO:34.2736226;-119.2593404
X-APPLE-STRUCTURED-LOCATION;VALUE=URI;X-ADDRESS=The Grape 2733 E Main St Ventura CA 93003 United States;X-APPLE-RADIUS=500;X-TITLE=2733 E Main St:geo:-119.2593404,34.2736226
END:VEVENT
BEGIN:VEVENT
DTSTART;TZID=America/Los_Angeles:20300102T190000
DTEND;TZID=America/Los_Angeles:20300102T220000
DTSTAMP:20260419T053951
CREATED:20260417T043530Z
LAST-MODIFIED:20260417T220919Z
UID:10004610-1893610800-1893621600@thegrapeventura.com
SUMMARY:RJ Mischo's 1st Wednesday Blues Showcase
DESCRIPTION:$10 cover \nRJ Mischo’s monthly “First Wednesday” Blues Showcase\, featuring an all-star lineup of blues musicians.
URL:https://thegrapeventura.com/event/electric-blues-trio/2030-01-02/
LOCATION:The Grape\, 2733 E Main St\, Ventura\, CA\, 93003\, United States
ATTACH;FMTTYPE=image/png:https://thegrapeventura.com/wp-content/uploads/2022/11/RJ-Mischo-2014-e1761260796209.png
GEO:34.2736226;-119.2593404
X-APPLE-STRUCTURED-LOCATION;VALUE=URI;X-ADDRESS=The Grape 2733 E Main St Ventura CA 93003 United States;X-APPLE-RADIUS=500;X-TITLE=2733 E Main St:geo:-119.2593404,34.2736226
END:VEVENT
BEGIN:VEVENT
DTSTART;TZID=America/Los_Angeles:20300206T190000
DTEND;TZID=America/Los_Angeles:20300206T220000
DTSTAMP:20260419T053951
CREATED:20260417T043530Z
LAST-MODIFIED:20260417T220919Z
UID:10004611-1896634800-1896645600@thegrapeventura.com
SUMMARY:RJ Mischo's 1st Wednesday Blues Showcase
DESCRIPTION:$10 cover \nRJ Mischo’s monthly “First Wednesday” Blues Showcase\, featuring an all-star lineup of blues musicians.
URL:https://thegrapeventura.com/event/electric-blues-trio/2030-02-06/
LOCATION:The Grape\, 2733 E Main St\, Ventura\, CA\, 93003\, United States
ATTACH;FMTTYPE=image/png:https://thegrapeventura.com/wp-content/uploads/2022/11/RJ-Mischo-2014-e1761260796209.png
GEO:34.2736226;-119.2593404
X-APPLE-STRUCTURED-LOCATION;VALUE=URI;X-ADDRESS=The Grape 2733 E Main St Ventura CA 93003 United States;X-APPLE-RADIUS=500;X-TITLE=2733 E Main St:geo:-119.2593404,34.2736226
END:VEVENT
BEGIN:VEVENT
DTSTART;TZID=America/Los_Angeles:20300306T190000
DTEND;TZID=America/Los_Angeles:20300306T220000
DTSTAMP:20260419T053951
CREATED:20260417T043530Z
LAST-MODIFIED:20260417T220919Z
UID:10004612-1899054000-1899064800@thegrapeventura.com
SUMMARY:RJ Mischo's 1st Wednesday Blues Showcase
DESCRIPTION:$10 cover \nRJ Mischo’s monthly “First Wednesday” Blues Showcase\, featuring an all-star lineup of blues musicians.
URL:https://thegrapeventura.com/event/electric-blues-trio/2030-03-06/
LOCATION:The Grape\, 2733 E Main St\, Ventura\, CA\, 93003\, United States
ATTACH;FMTTYPE=image/png:https://thegrapeventura.com/wp-content/uploads/2022/11/RJ-Mischo-2014-e1761260796209.png
GEO:34.2736226;-119.2593404
X-APPLE-STRUCTURED-LOCATION;VALUE=URI;X-ADDRESS=The Grape 2733 E Main St Ventura CA 93003 United States;X-APPLE-RADIUS=500;X-TITLE=2733 E Main St:geo:-119.2593404,34.2736226
END:VEVENT
BEGIN:VEVENT
DTSTART;TZID=America/Los_Angeles:20300403T190000
DTEND;TZID=America/Los_Angeles:20300403T220000
DTSTAMP:20260419T053951
CREATED:20260417T043530Z
LAST-MODIFIED:20260417T220919Z
UID:10004613-1901473200-1901484000@thegrapeventura.com
SUMMARY:RJ Mischo's 1st Wednesday Blues Showcase
DESCRIPTION:$10 cover \nRJ Mischo’s monthly “First Wednesday” Blues Showcase\, featuring an all-star lineup of blues musicians.
URL:https://thegrapeventura.com/event/electric-blues-trio/2030-04-03/
LOCATION:The Grape\, 2733 E Main St\, Ventura\, CA\, 93003\, United States
ATTACH;FMTTYPE=image/png:https://thegrapeventura.com/wp-content/uploads/2022/11/RJ-Mischo-2014-e1761260796209.png
GEO:34.2736226;-119.2593404
X-APPLE-STRUCTURED-LOCATION;VALUE=URI;X-ADDRESS=The Grape 2733 E Main St Ventura CA 93003 United States;X-APPLE-RADIUS=500;X-TITLE=2733 E Main St:geo:-119.2593404,34.2736226
END:VEVENT
BEGIN:VEVENT
DTSTART;TZID=America/Los_Angeles:20300501T190000
DTEND;TZID=America/Los_Angeles:20300501T220000
DTSTAMP:20260419T053951
CREATED:20260417T043530Z
LAST-MODIFIED:20260417T220919Z
UID:10004614-1903892400-1903903200@thegrapeventura.com
SUMMARY:RJ Mischo's 1st Wednesday Blues Showcase
DESCRIPTION:$10 cover \nRJ Mischo’s monthly “First Wednesday” Blues Showcase\, featuring an all-star lineup of blues musicians.
URL:https://thegrapeventura.com/event/electric-blues-trio/2030-05-01/
LOCATION:The Grape\, 2733 E Main St\, Ventura\, CA\, 93003\, United States
ATTACH;FMTTYPE=image/png:https://thegrapeventura.com/wp-content/uploads/2022/11/RJ-Mischo-2014-e1761260796209.png
GEO:34.2736226;-119.2593404
X-APPLE-STRUCTURED-LOCATION;VALUE=URI;X-ADDRESS=The Grape 2733 E Main St Ventura CA 93003 United States;X-APPLE-RADIUS=500;X-TITLE=2733 E Main St:geo:-119.2593404,34.2736226
END:VEVENT
BEGIN:VEVENT
DTSTART;TZID=America/Los_Angeles:20300605T190000
DTEND;TZID=America/Los_Angeles:20300605T220000
DTSTAMP:20260419T053951
CREATED:20260417T043530Z
LAST-MODIFIED:20260417T220919Z
UID:10004615-1906916400-1906927200@thegrapeventura.com
SUMMARY:RJ Mischo's 1st Wednesday Blues Showcase
DESCRIPTION:$10 cover \nRJ Mischo’s monthly “First Wednesday” Blues Showcase\, featuring an all-star lineup of blues musicians.
URL:https://thegrapeventura.com/event/electric-blues-trio/2030-06-05/
LOCATION:The Grape\, 2733 E Main St\, Ventura\, CA\, 93003\, United States
ATTACH;FMTTYPE=image/png:https://thegrapeventura.com/wp-content/uploads/2022/11/RJ-Mischo-2014-e1761260796209.png
GEO:34.2736226;-119.2593404
X-APPLE-STRUCTURED-LOCATION;VALUE=URI;X-ADDRESS=The Grape 2733 E Main St Ventura CA 93003 United States;X-APPLE-RADIUS=500;X-TITLE=2733 E Main St:geo:-119.2593404,34.2736226
END:VEVENT
BEGIN:VEVENT
DTSTART;TZID=America/Los_Angeles:20300703T190000
DTEND;TZID=America/Los_Angeles:20300703T220000
DTSTAMP:20260419T053951
CREATED:20260417T043530Z
LAST-MODIFIED:20260417T220919Z
UID:10004616-1909335600-1909346400@thegrapeventura.com
SUMMARY:RJ Mischo's 1st Wednesday Blues Showcase
DESCRIPTION:$10 cover \nRJ Mischo’s monthly “First Wednesday” Blues Showcase\, featuring an all-star lineup of blues musicians.
URL:https://thegrapeventura.com/event/electric-blues-trio/2030-07-03/
LOCATION:The Grape\, 2733 E Main St\, Ventura\, CA\, 93003\, United States
ATTACH;FMTTYPE=image/png:https://thegrapeventura.com/wp-content/uploads/2022/11/RJ-Mischo-2014-e1761260796209.png
GEO:34.2736226;-119.2593404
X-APPLE-STRUCTURED-LOCATION;VALUE=URI;X-ADDRESS=The Grape 2733 E Main St Ventura CA 93003 United States;X-APPLE-RADIUS=500;X-TITLE=2733 E Main St:geo:-119.2593404,34.2736226
END:VEVENT
BEGIN:VEVENT
DTSTART;TZID=America/Los_Angeles:20300807T190000
DTEND;TZID=America/Los_Angeles:20300807T220000
DTSTAMP:20260419T053951
CREATED:20260417T043530Z
LAST-MODIFIED:20260417T220919Z
UID:10004617-1912359600-1912370400@thegrapeventura.com
SUMMARY:RJ Mischo's 1st Wednesday Blues Showcase
DESCRIPTION:$10 cover \nRJ Mischo’s monthly “First Wednesday” Blues Showcase\, featuring an all-star lineup of blues musicians.
URL:https://thegrapeventura.com/event/electric-blues-trio/2030-08-07/
LOCATION:The Grape\, 2733 E Main St\, Ventura\, CA\, 93003\, United States
ATTACH;FMTTYPE=image/png:https://thegrapeventura.com/wp-content/uploads/2022/11/RJ-Mischo-2014-e1761260796209.png
GEO:34.2736226;-119.2593404
X-APPLE-STRUCTURED-LOCATION;VALUE=URI;X-ADDRESS=The Grape 2733 E Main St Ventura CA 93003 United States;X-APPLE-RADIUS=500;X-TITLE=2733 E Main St:geo:-119.2593404,34.2736226
END:VEVENT
BEGIN:VEVENT
DTSTART;TZID=America/Los_Angeles:20300904T190000
DTEND;TZID=America/Los_Angeles:20300904T220000
DTSTAMP:20260419T053951
CREATED:20260417T043530Z
LAST-MODIFIED:20260417T220919Z
UID:10004618-1914778800-1914789600@thegrapeventura.com
SUMMARY:RJ Mischo's 1st Wednesday Blues Showcase
DESCRIPTION:$10 cover \nRJ Mischo’s monthly “First Wednesday” Blues Showcase\, featuring an all-star lineup of blues musicians.
URL:https://thegrapeventura.com/event/electric-blues-trio/2030-09-04/
LOCATION:The Grape\, 2733 E Main St\, Ventura\, CA\, 93003\, United States
ATTACH;FMTTYPE=image/png:https://thegrapeventura.com/wp-content/uploads/2022/11/RJ-Mischo-2014-e1761260796209.png
GEO:34.2736226;-119.2593404
X-APPLE-STRUCTURED-LOCATION;VALUE=URI;X-ADDRESS=The Grape 2733 E Main St Ventura CA 93003 United States;X-APPLE-RADIUS=500;X-TITLE=2733 E Main St:geo:-119.2593404,34.2736226
END:VEVENT
BEGIN:VEVENT
DTSTART;TZID=America/Los_Angeles:20301002T190000
DTEND;TZID=America/Los_Angeles:20301002T220000
DTSTAMP:20260419T053951
CREATED:20260417T043530Z
LAST-MODIFIED:20260417T220919Z
UID:10004619-1917198000-1917208800@thegrapeventura.com
SUMMARY:RJ Mischo's 1st Wednesday Blues Showcase
DESCRIPTION:$10 cover \nRJ Mischo’s monthly “First Wednesday” Blues Showcase\, featuring an all-star lineup of blues musicians.
URL:https://thegrapeventura.com/event/electric-blues-trio/2030-10-02/
LOCATION:The Grape\, 2733 E Main St\, Ventura\, CA\, 93003\, United States
ATTACH;FMTTYPE=image/png:https://thegrapeventura.com/wp-content/uploads/2022/11/RJ-Mischo-2014-e1761260796209.png
GEO:34.2736226;-119.2593404
X-APPLE-STRUCTURED-LOCATION;VALUE=URI;X-ADDRESS=The Grape 2733 E Main St Ventura CA 93003 United States;X-APPLE-RADIUS=500;X-TITLE=2733 E Main St:geo:-119.2593404,34.2736226
END:VEVENT
BEGIN:VEVENT
DTSTART;TZID=America/Los_Angeles:20301106T190000
DTEND;TZID=America/Los_Angeles:20301106T220000
DTSTAMP:20260419T053951
CREATED:20260417T043530Z
LAST-MODIFIED:20260417T220919Z
UID:10004620-1920222000-1920232800@thegrapeventura.com
SUMMARY:RJ Mischo's 1st Wednesday Blues Showcase
DESCRIPTION:$10 cover \nRJ Mischo’s monthly “First Wednesday” Blues Showcase\, featuring an all-star lineup of blues musicians.
URL:https://thegrapeventura.com/event/electric-blues-trio/2030-11-06/
LOCATION:The Grape\, 2733 E Main St\, Ventura\, CA\, 93003\, United States
ATTACH;FMTTYPE=image/png:https://thegrapeventura.com/wp-content/uploads/2022/11/RJ-Mischo-2014-e1761260796209.png
GEO:34.2736226;-119.2593404
X-APPLE-STRUCTURED-LOCATION;VALUE=URI;X-ADDRESS=The Grape 2733 E Main St Ventura CA 93003 United States;X-APPLE-RADIUS=500;X-TITLE=2733 E Main St:geo:-119.2593404,34.2736226
END:VEVENT
BEGIN:VEVENT
DTSTART;TZID=America/Los_Angeles:20301204T190000
DTEND;TZID=America/Los_Angeles:20301204T220000
DTSTAMP:20260419T053951
CREATED:20260417T043530Z
LAST-MODIFIED:20260417T220919Z
UID:10004621-1922641200-1922652000@thegrapeventura.com
SUMMARY:RJ Mischo's 1st Wednesday Blues Showcase
DESCRIPTION:$10 cover \nRJ Mischo’s monthly “First Wednesday” Blues Showcase\, featuring an all-star lineup of blues musicians.
URL:https://thegrapeventura.com/event/electric-blues-trio/2030-12-04/
LOCATION:The Grape\, 2733 E Main St\, Ventura\, CA\, 93003\, United States
ATTACH;FMTTYPE=image/png:https://thegrapeventura.com/wp-content/uploads/2022/11/RJ-Mischo-2014-e1761260796209.png
GEO:34.2736226;-119.2593404
X-APPLE-STRUCTURED-LOCATION;VALUE=URI;X-ADDRESS=The Grape 2733 E Main St Ventura CA 93003 United States;X-APPLE-RADIUS=500;X-TITLE=2733 E Main St:geo:-119.2593404,34.2736226
END:VEVENT
BEGIN:VEVENT
DTSTART;TZID=America/Los_Angeles:20310101T190000
DTEND;TZID=America/Los_Angeles:20310101T220000
DTSTAMP:20260419T053951
CREATED:20260417T043530Z
LAST-MODIFIED:20260417T220919Z
UID:10004622-1925060400-1925071200@thegrapeventura.com
SUMMARY:RJ Mischo's 1st Wednesday Blues Showcase
DESCRIPTION:$10 cover \nRJ Mischo’s monthly “First Wednesday” Blues Showcase\, featuring an all-star lineup of blues musicians.
URL:https://thegrapeventura.com/event/electric-blues-trio/2031-01-01/
LOCATION:The Grape\, 2733 E Main St\, Ventura\, CA\, 93003\, United States
ATTACH;FMTTYPE=image/png:https://thegrapeventura.com/wp-content/uploads/2022/11/RJ-Mischo-2014-e1761260796209.png
GEO:34.2736226;-119.2593404
X-APPLE-STRUCTURED-LOCATION;VALUE=URI;X-ADDRESS=The Grape 2733 E Main St Ventura CA 93003 United States;X-APPLE-RADIUS=500;X-TITLE=2733 E Main St:geo:-119.2593404,34.2736226
END:VEVENT
BEGIN:VEVENT
DTSTART;TZID=America/Los_Angeles:20310205T190000
DTEND;TZID=America/Los_Angeles:20310205T220000
DTSTAMP:20260419T053951
CREATED:20260417T043530Z
LAST-MODIFIED:20260417T220919Z
UID:10004623-1928084400-1928095200@thegrapeventura.com
SUMMARY:RJ Mischo's 1st Wednesday Blues Showcase
DESCRIPTION:$10 cover \nRJ Mischo’s monthly “First Wednesday” Blues Showcase\, featuring an all-star lineup of blues musicians.
URL:https://thegrapeventura.com/event/electric-blues-trio/2031-02-05/
LOCATION:The Grape\, 2733 E Main St\, Ventura\, CA\, 93003\, United States
ATTACH;FMTTYPE=image/png:https://thegrapeventura.com/wp-content/uploads/2022/11/RJ-Mischo-2014-e1761260796209.png
GEO:34.2736226;-119.2593404
X-APPLE-STRUCTURED-LOCATION;VALUE=URI;X-ADDRESS=The Grape 2733 E Main St Ventura CA 93003 United States;X-APPLE-RADIUS=500;X-TITLE=2733 E Main St:geo:-119.2593404,34.2736226
END:VEVENT
BEGIN:VEVENT
DTSTART;TZID=America/Los_Angeles:20310305T190000
DTEND;TZID=America/Los_Angeles:20310305T220000
DTSTAMP:20260419T053951
CREATED:20260417T043530Z
LAST-MODIFIED:20260417T220919Z
UID:10004624-1930503600-1930514400@thegrapeventura.com
SUMMARY:RJ Mischo's 1st Wednesday Blues Showcase
DESCRIPTION:$10 cover \nRJ Mischo’s monthly “First Wednesday” Blues Showcase\, featuring an all-star lineup of blues musicians.
URL:https://thegrapeventura.com/event/electric-blues-trio/2031-03-05/
LOCATION:The Grape\, 2733 E Main St\, Ventura\, CA\, 93003\, United States
ATTACH;FMTTYPE=image/png:https://thegrapeventura.com/wp-content/uploads/2022/11/RJ-Mischo-2014-e1761260796209.png
GEO:34.2736226;-119.2593404
X-APPLE-STRUCTURED-LOCATION;VALUE=URI;X-ADDRESS=The Grape 2733 E Main St Ventura CA 93003 United States;X-APPLE-RADIUS=500;X-TITLE=2733 E Main St:geo:-119.2593404,34.2736226
END:VEVENT
BEGIN:VEVENT
DTSTART;TZID=America/Los_Angeles:20310402T190000
DTEND;TZID=America/Los_Angeles:20310402T220000
DTSTAMP:20260419T053951
CREATED:20260417T043530Z
LAST-MODIFIED:20260417T220919Z
UID:10004625-1932922800-1932933600@thegrapeventura.com
SUMMARY:RJ Mischo's 1st Wednesday Blues Showcase
DESCRIPTION:$10 cover \nRJ Mischo’s monthly “First Wednesday” Blues Showcase\, featuring an all-star lineup of blues musicians.
URL:https://thegrapeventura.com/event/electric-blues-trio/2031-04-02/
LOCATION:The Grape\, 2733 E Main St\, Ventura\, CA\, 93003\, United States
ATTACH;FMTTYPE=image/png:https://thegrapeventura.com/wp-content/uploads/2022/11/RJ-Mischo-2014-e1761260796209.png
GEO:34.2736226;-119.2593404
X-APPLE-STRUCTURED-LOCATION;VALUE=URI;X-ADDRESS=The Grape 2733 E Main St Ventura CA 93003 United States;X-APPLE-RADIUS=500;X-TITLE=2733 E Main St:geo:-119.2593404,34.2736226
END:VEVENT
END:VCALENDAR