BEGIN:VCALENDAR
VERSION:2.0
PRODID:-//The Grape Ventura - ECPv6.15.20//NONSGML v1.0//EN
CALSCALE:GREGORIAN
METHOD:PUBLISH
X-WR-CALNAME:The Grape Ventura
X-ORIGINAL-URL:https://thegrapeventura.com
X-WR-CALDESC:Events for The Grape Ventura
REFRESH-INTERVAL;VALUE=DURATION:PT1H
X-Robots-Tag:noindex
X-PUBLISHED-TTL:PT1H
BEGIN:VTIMEZONE
TZID:America/Los_Angeles
BEGIN:DAYLIGHT
TZOFFSETFROM:-0800
TZOFFSETTO:-0700
TZNAME:PDT
DTSTART:20250309T100000
END:DAYLIGHT
BEGIN:STANDARD
TZOFFSETFROM:-0700
TZOFFSETTO:-0800
TZNAME:PST
DTSTART:20251102T090000
END:STANDARD
BEGIN:DAYLIGHT
TZOFFSETFROM:-0800
TZOFFSETTO:-0700
TZNAME:PDT
DTSTART:20260308T100000
END:DAYLIGHT
BEGIN:STANDARD
TZOFFSETFROM:-0700
TZOFFSETTO:-0800
TZNAME:PST
DTSTART:20261101T090000
END:STANDARD
BEGIN:DAYLIGHT
TZOFFSETFROM:-0800
TZOFFSETTO:-0700
TZNAME:PDT
DTSTART:20270314T100000
END:DAYLIGHT
BEGIN:STANDARD
TZOFFSETFROM:-0700
TZOFFSETTO:-0800
TZNAME:PST
DTSTART:20271107T090000
END:STANDARD
END:VTIMEZONE
BEGIN:VEVENT
DTSTART;TZID=America/Los_Angeles:20260429T170000
DTEND;TZID=America/Los_Angeles:20260429T190000
DTSTAMP:20260423T095548
CREATED:20260113T215946Z
LAST-MODIFIED:20260113T220056Z
UID:10003665-1777482000-1777489200@thegrapeventura.com
SUMMARY:Happy Hour with Kent Rollins & Friends
DESCRIPTION:Happy Hour with Pianist\, Kent Rollins and friends \nbar side\, no cover
URL:https://thegrapeventura.com/event/kent-rollins-trio-4-2/2026-04-29/
LOCATION:The Grape\, 2733 E Main St\, Ventura\, CA\, 93003\, United States
ATTACH;FMTTYPE=image/jpeg:https://thegrapeventura.com/wp-content/uploads/2025/07/IMG_20251009_124515-e1760384956257.jpg
GEO:34.2736226;-119.2593404
X-APPLE-STRUCTURED-LOCATION;VALUE=URI;X-ADDRESS=The Grape 2733 E Main St Ventura CA 93003 United States;X-APPLE-RADIUS=500;X-TITLE=2733 E Main St:geo:-119.2593404,34.2736226
END:VEVENT
BEGIN:VEVENT
DTSTART;TZID=America/Los_Angeles:20260506T170000
DTEND;TZID=America/Los_Angeles:20260506T190000
DTSTAMP:20260423T095548
CREATED:20260113T215946Z
LAST-MODIFIED:20260113T220056Z
UID:10003666-1778086800-1778094000@thegrapeventura.com
SUMMARY:Happy Hour with Kent Rollins & Friends
DESCRIPTION:Happy Hour with Pianist\, Kent Rollins and friends \nbar side\, no cover
URL:https://thegrapeventura.com/event/kent-rollins-trio-4-2/2026-05-06/
LOCATION:The Grape\, 2733 E Main St\, Ventura\, CA\, 93003\, United States
ATTACH;FMTTYPE=image/jpeg:https://thegrapeventura.com/wp-content/uploads/2025/07/IMG_20251009_124515-e1760384956257.jpg
GEO:34.2736226;-119.2593404
X-APPLE-STRUCTURED-LOCATION;VALUE=URI;X-ADDRESS=The Grape 2733 E Main St Ventura CA 93003 United States;X-APPLE-RADIUS=500;X-TITLE=2733 E Main St:geo:-119.2593404,34.2736226
END:VEVENT
BEGIN:VEVENT
DTSTART;TZID=America/Los_Angeles:20260513T170000
DTEND;TZID=America/Los_Angeles:20260513T190000
DTSTAMP:20260423T095548
CREATED:20260113T215946Z
LAST-MODIFIED:20260113T220056Z
UID:10003667-1778691600-1778698800@thegrapeventura.com
SUMMARY:Happy Hour with Kent Rollins & Friends
DESCRIPTION:Happy Hour with Pianist\, Kent Rollins and friends \nbar side\, no cover
URL:https://thegrapeventura.com/event/kent-rollins-trio-4-2/2026-05-13/
LOCATION:The Grape\, 2733 E Main St\, Ventura\, CA\, 93003\, United States
ATTACH;FMTTYPE=image/jpeg:https://thegrapeventura.com/wp-content/uploads/2025/07/IMG_20251009_124515-e1760384956257.jpg
GEO:34.2736226;-119.2593404
X-APPLE-STRUCTURED-LOCATION;VALUE=URI;X-ADDRESS=The Grape 2733 E Main St Ventura CA 93003 United States;X-APPLE-RADIUS=500;X-TITLE=2733 E Main St:geo:-119.2593404,34.2736226
END:VEVENT
BEGIN:VEVENT
DTSTART;TZID=America/Los_Angeles:20260520T170000
DTEND;TZID=America/Los_Angeles:20260520T190000
DTSTAMP:20260423T095548
CREATED:20260113T215946Z
LAST-MODIFIED:20260113T220056Z
UID:10003668-1779296400-1779303600@thegrapeventura.com
SUMMARY:Happy Hour with Kent Rollins & Friends
DESCRIPTION:Happy Hour with Pianist\, Kent Rollins and friends \nbar side\, no cover
URL:https://thegrapeventura.com/event/kent-rollins-trio-4-2/2026-05-20/
LOCATION:The Grape\, 2733 E Main St\, Ventura\, CA\, 93003\, United States
ATTACH;FMTTYPE=image/jpeg:https://thegrapeventura.com/wp-content/uploads/2025/07/IMG_20251009_124515-e1760384956257.jpg
GEO:34.2736226;-119.2593404
X-APPLE-STRUCTURED-LOCATION;VALUE=URI;X-ADDRESS=The Grape 2733 E Main St Ventura CA 93003 United States;X-APPLE-RADIUS=500;X-TITLE=2733 E Main St:geo:-119.2593404,34.2736226
END:VEVENT
BEGIN:VEVENT
DTSTART;TZID=America/Los_Angeles:20260527T170000
DTEND;TZID=America/Los_Angeles:20260527T190000
DTSTAMP:20260423T095548
CREATED:20260113T215946Z
LAST-MODIFIED:20260113T220056Z
UID:10003669-1779901200-1779908400@thegrapeventura.com
SUMMARY:Happy Hour with Kent Rollins & Friends
DESCRIPTION:Happy Hour with Pianist\, Kent Rollins and friends \nbar side\, no cover
URL:https://thegrapeventura.com/event/kent-rollins-trio-4-2/2026-05-27/
LOCATION:The Grape\, 2733 E Main St\, Ventura\, CA\, 93003\, United States
ATTACH;FMTTYPE=image/jpeg:https://thegrapeventura.com/wp-content/uploads/2025/07/IMG_20251009_124515-e1760384956257.jpg
GEO:34.2736226;-119.2593404
X-APPLE-STRUCTURED-LOCATION;VALUE=URI;X-ADDRESS=The Grape 2733 E Main St Ventura CA 93003 United States;X-APPLE-RADIUS=500;X-TITLE=2733 E Main St:geo:-119.2593404,34.2736226
END:VEVENT
BEGIN:VEVENT
DTSTART;TZID=America/Los_Angeles:20260603T170000
DTEND;TZID=America/Los_Angeles:20260603T190000
DTSTAMP:20260423T095548
CREATED:20260113T215946Z
LAST-MODIFIED:20260113T220056Z
UID:10003670-1780506000-1780513200@thegrapeventura.com
SUMMARY:Happy Hour with Kent Rollins & Friends
DESCRIPTION:Happy Hour with Pianist\, Kent Rollins and friends \nbar side\, no cover
URL:https://thegrapeventura.com/event/kent-rollins-trio-4-2/2026-06-03/
LOCATION:The Grape\, 2733 E Main St\, Ventura\, CA\, 93003\, United States
ATTACH;FMTTYPE=image/jpeg:https://thegrapeventura.com/wp-content/uploads/2025/07/IMG_20251009_124515-e1760384956257.jpg
GEO:34.2736226;-119.2593404
X-APPLE-STRUCTURED-LOCATION;VALUE=URI;X-ADDRESS=The Grape 2733 E Main St Ventura CA 93003 United States;X-APPLE-RADIUS=500;X-TITLE=2733 E Main St:geo:-119.2593404,34.2736226
END:VEVENT
END:VCALENDAR