BEGIN:VCALENDAR
VERSION:2.0
PRODID:-//The Grape Ventura - ECPv6.15.20//NONSGML v1.0//EN
CALSCALE:GREGORIAN
METHOD:PUBLISH
X-WR-CALNAME:The Grape Ventura
X-ORIGINAL-URL:https://thegrapeventura.com
X-WR-CALDESC:Events for The Grape Ventura
REFRESH-INTERVAL;VALUE=DURATION:PT1H
X-Robots-Tag:noindex
X-PUBLISHED-TTL:PT1H
BEGIN:VTIMEZONE
TZID:America/Los_Angeles
BEGIN:DAYLIGHT
TZOFFSETFROM:-0800
TZOFFSETTO:-0700
TZNAME:PDT
DTSTART:20300310T100000
END:DAYLIGHT
BEGIN:STANDARD
TZOFFSETFROM:-0700
TZOFFSETTO:-0800
TZNAME:PST
DTSTART:20301103T090000
END:STANDARD
BEGIN:DAYLIGHT
TZOFFSETFROM:-0800
TZOFFSETTO:-0700
TZNAME:PDT
DTSTART:20310309T100000
END:DAYLIGHT
BEGIN:STANDARD
TZOFFSETFROM:-0700
TZOFFSETTO:-0800
TZNAME:PST
DTSTART:20311102T090000
END:STANDARD
BEGIN:DAYLIGHT
TZOFFSETFROM:-0800
TZOFFSETTO:-0700
TZNAME:PDT
DTSTART:20320314T100000
END:DAYLIGHT
BEGIN:STANDARD
TZOFFSETFROM:-0700
TZOFFSETTO:-0800
TZNAME:PST
DTSTART:20321107T090000
END:STANDARD
END:VTIMEZONE
BEGIN:VEVENT
DTSTART;TZID=America/Los_Angeles:20310221T170000
DTEND;TZID=America/Los_Angeles:20310221T190000
DTSTAMP:20260423T152807
CREATED:20260404T165009Z
LAST-MODIFIED:20260404T165009Z
UID:10004545-1929459600-1929466800@thegrapeventura.com
SUMMARY:Happy Hour with The Fred Kaplan Trio
DESCRIPTION:West Coast Swing and Boogie Woogie Blues with Fred Kaplan and friends \nEvery Friday in the bar side Happy Hour 5-7pm. \nno cover
URL:https://thegrapeventura.com/event/happy-hour-with-the-fred-kaplan-trio-3/2031-02-21/
LOCATION:The Grape\, 2733 E Main St\, Ventura\, CA\, 93003\, United States
ATTACH;FMTTYPE=image/jpeg:https://thegrapeventura.com/wp-content/uploads/2025/05/20220308_233231_318.jpg
GEO:34.2736226;-119.2593404
X-APPLE-STRUCTURED-LOCATION;VALUE=URI;X-ADDRESS=The Grape 2733 E Main St Ventura CA 93003 United States;X-APPLE-RADIUS=500;X-TITLE=2733 E Main St:geo:-119.2593404,34.2736226
END:VEVENT
BEGIN:VEVENT
DTSTART;TZID=America/Los_Angeles:20310225T170000
DTEND;TZID=America/Los_Angeles:20310225T190000
DTSTAMP:20260423T152807
CREATED:20260323T180733Z
LAST-MODIFIED:20260323T180733Z
UID:10004007-1929805200-1929812400@thegrapeventura.com
SUMMARY:Happy Hour w/ Monte Montgomery & Friends
DESCRIPTION:no cover\nbar side \nHappy Hour with multi-instrumentalist and vocalist\, Monte Montgomery and special guests
URL:https://thegrapeventura.com/event/happy-hour-w-monte-montgomery-friends-6/2031-02-25/
LOCATION:The Grape\, 2733 E Main St\, Ventura\, CA\, 93003\, United States
ATTACH;FMTTYPE=image/webp:https://thegrapeventura.com/wp-content/uploads/2026/02/monte_montgomery.webp
GEO:34.2736226;-119.2593404
X-APPLE-STRUCTURED-LOCATION;VALUE=URI;X-ADDRESS=The Grape 2733 E Main St Ventura CA 93003 United States;X-APPLE-RADIUS=500;X-TITLE=2733 E Main St:geo:-119.2593404,34.2736226
END:VEVENT
BEGIN:VEVENT
DTSTART;TZID=America/Los_Angeles:20310227T170000
DTEND;TZID=America/Los_Angeles:20310227T190000
DTSTAMP:20260423T152807
CREATED:20260402T160954Z
LAST-MODIFIED:20260402T160954Z
UID:10004279-1929978000-1929985200@thegrapeventura.com
SUMMARY:Happy Hour with Collins & Rollins Quartet
DESCRIPTION:barside \nNo cover \nKent Rollins – piano \nTom Collins – guitar
URL:https://thegrapeventura.com/event/happy-hour-with-collins-rollins-quartet-4/2031-02-27/
LOCATION:The Grape\, 2733 E Main St\, Ventura\, CA\, 93003\, United States
ATTACH;FMTTYPE=image/webp:https://thegrapeventura.com/wp-content/uploads/2026/01/tom-collins-guitar.webp
GEO:34.2736226;-119.2593404
X-APPLE-STRUCTURED-LOCATION;VALUE=URI;X-ADDRESS=The Grape 2733 E Main St Ventura CA 93003 United States;X-APPLE-RADIUS=500;X-TITLE=2733 E Main St:geo:-119.2593404,34.2736226
END:VEVENT
BEGIN:VEVENT
DTSTART;TZID=America/Los_Angeles:20310228T170000
DTEND;TZID=America/Los_Angeles:20310228T190000
DTSTAMP:20260423T152807
CREATED:20260404T165009Z
LAST-MODIFIED:20260404T165009Z
UID:10004546-1930064400-1930071600@thegrapeventura.com
SUMMARY:Happy Hour with The Fred Kaplan Trio
DESCRIPTION:West Coast Swing and Boogie Woogie Blues with Fred Kaplan and friends \nEvery Friday in the bar side Happy Hour 5-7pm. \nno cover
URL:https://thegrapeventura.com/event/happy-hour-with-the-fred-kaplan-trio-3/2031-02-28/
LOCATION:The Grape\, 2733 E Main St\, Ventura\, CA\, 93003\, United States
ATTACH;FMTTYPE=image/jpeg:https://thegrapeventura.com/wp-content/uploads/2025/05/20220308_233231_318.jpg
GEO:34.2736226;-119.2593404
X-APPLE-STRUCTURED-LOCATION;VALUE=URI;X-ADDRESS=The Grape 2733 E Main St Ventura CA 93003 United States;X-APPLE-RADIUS=500;X-TITLE=2733 E Main St:geo:-119.2593404,34.2736226
END:VEVENT
BEGIN:VEVENT
DTSTART;TZID=America/Los_Angeles:20310304T170000
DTEND;TZID=America/Los_Angeles:20310304T190000
DTSTAMP:20260423T152807
CREATED:20260323T180733Z
LAST-MODIFIED:20260323T180733Z
UID:10004008-1930410000-1930417200@thegrapeventura.com
SUMMARY:Happy Hour w/ Monte Montgomery & Friends
DESCRIPTION:no cover\nbar side \nHappy Hour with multi-instrumentalist and vocalist\, Monte Montgomery and special guests
URL:https://thegrapeventura.com/event/happy-hour-w-monte-montgomery-friends-6/2031-03-04/
LOCATION:The Grape\, 2733 E Main St\, Ventura\, CA\, 93003\, United States
ATTACH;FMTTYPE=image/webp:https://thegrapeventura.com/wp-content/uploads/2026/02/monte_montgomery.webp
GEO:34.2736226;-119.2593404
X-APPLE-STRUCTURED-LOCATION;VALUE=URI;X-ADDRESS=The Grape 2733 E Main St Ventura CA 93003 United States;X-APPLE-RADIUS=500;X-TITLE=2733 E Main St:geo:-119.2593404,34.2736226
END:VEVENT
BEGIN:VEVENT
DTSTART;TZID=America/Los_Angeles:20310305T190000
DTEND;TZID=America/Los_Angeles:20310305T220000
DTSTAMP:20260423T152807
CREATED:20260417T043530Z
LAST-MODIFIED:20260417T220919Z
UID:10004624-1930503600-1930514400@thegrapeventura.com
SUMMARY:RJ Mischo's 1st Wednesday Blues Showcase
DESCRIPTION:$10 cover \nRJ Mischo’s monthly “First Wednesday” Blues Showcase\, featuring an all-star lineup of blues musicians.
URL:https://thegrapeventura.com/event/electric-blues-trio/2031-03-05/
LOCATION:The Grape\, 2733 E Main St\, Ventura\, CA\, 93003\, United States
ATTACH;FMTTYPE=image/png:https://thegrapeventura.com/wp-content/uploads/2022/11/RJ-Mischo-2014-e1761260796209.png
GEO:34.2736226;-119.2593404
X-APPLE-STRUCTURED-LOCATION;VALUE=URI;X-ADDRESS=The Grape 2733 E Main St Ventura CA 93003 United States;X-APPLE-RADIUS=500;X-TITLE=2733 E Main St:geo:-119.2593404,34.2736226
END:VEVENT
BEGIN:VEVENT
DTSTART;TZID=America/Los_Angeles:20310306T170000
DTEND;TZID=America/Los_Angeles:20310306T190000
DTSTAMP:20260423T152807
CREATED:20260402T160954Z
LAST-MODIFIED:20260402T160954Z
UID:10004280-1930582800-1930590000@thegrapeventura.com
SUMMARY:Happy Hour with Collins & Rollins Quartet
DESCRIPTION:barside \nNo cover \nKent Rollins – piano \nTom Collins – guitar
URL:https://thegrapeventura.com/event/happy-hour-with-collins-rollins-quartet-4/2031-03-06/
LOCATION:The Grape\, 2733 E Main St\, Ventura\, CA\, 93003\, United States
ATTACH;FMTTYPE=image/webp:https://thegrapeventura.com/wp-content/uploads/2026/01/tom-collins-guitar.webp
GEO:34.2736226;-119.2593404
X-APPLE-STRUCTURED-LOCATION;VALUE=URI;X-ADDRESS=The Grape 2733 E Main St Ventura CA 93003 United States;X-APPLE-RADIUS=500;X-TITLE=2733 E Main St:geo:-119.2593404,34.2736226
END:VEVENT
BEGIN:VEVENT
DTSTART;TZID=America/Los_Angeles:20310307T170000
DTEND;TZID=America/Los_Angeles:20310307T190000
DTSTAMP:20260423T152807
CREATED:20260404T165009Z
LAST-MODIFIED:20260404T165009Z
UID:10004547-1930669200-1930676400@thegrapeventura.com
SUMMARY:Happy Hour with The Fred Kaplan Trio
DESCRIPTION:West Coast Swing and Boogie Woogie Blues with Fred Kaplan and friends \nEvery Friday in the bar side Happy Hour 5-7pm. \nno cover
URL:https://thegrapeventura.com/event/happy-hour-with-the-fred-kaplan-trio-3/2031-03-07/
LOCATION:The Grape\, 2733 E Main St\, Ventura\, CA\, 93003\, United States
ATTACH;FMTTYPE=image/jpeg:https://thegrapeventura.com/wp-content/uploads/2025/05/20220308_233231_318.jpg
GEO:34.2736226;-119.2593404
X-APPLE-STRUCTURED-LOCATION;VALUE=URI;X-ADDRESS=The Grape 2733 E Main St Ventura CA 93003 United States;X-APPLE-RADIUS=500;X-TITLE=2733 E Main St:geo:-119.2593404,34.2736226
END:VEVENT
BEGIN:VEVENT
DTSTART;TZID=America/Los_Angeles:20310311T170000
DTEND;TZID=America/Los_Angeles:20310311T190000
DTSTAMP:20260423T152807
CREATED:20260323T180733Z
LAST-MODIFIED:20260323T180733Z
UID:10004009-1931014800-1931022000@thegrapeventura.com
SUMMARY:Happy Hour w/ Monte Montgomery & Friends
DESCRIPTION:no cover\nbar side \nHappy Hour with multi-instrumentalist and vocalist\, Monte Montgomery and special guests
URL:https://thegrapeventura.com/event/happy-hour-w-monte-montgomery-friends-6/2031-03-11/
LOCATION:The Grape\, 2733 E Main St\, Ventura\, CA\, 93003\, United States
ATTACH;FMTTYPE=image/webp:https://thegrapeventura.com/wp-content/uploads/2026/02/monte_montgomery.webp
GEO:34.2736226;-119.2593404
X-APPLE-STRUCTURED-LOCATION;VALUE=URI;X-ADDRESS=The Grape 2733 E Main St Ventura CA 93003 United States;X-APPLE-RADIUS=500;X-TITLE=2733 E Main St:geo:-119.2593404,34.2736226
END:VEVENT
BEGIN:VEVENT
DTSTART;TZID=America/Los_Angeles:20310313T170000
DTEND;TZID=America/Los_Angeles:20310313T190000
DTSTAMP:20260423T152807
CREATED:20260402T160954Z
LAST-MODIFIED:20260402T160954Z
UID:10004281-1931187600-1931194800@thegrapeventura.com
SUMMARY:Happy Hour with Collins & Rollins Quartet
DESCRIPTION:barside \nNo cover \nKent Rollins – piano \nTom Collins – guitar
URL:https://thegrapeventura.com/event/happy-hour-with-collins-rollins-quartet-4/2031-03-13/
LOCATION:The Grape\, 2733 E Main St\, Ventura\, CA\, 93003\, United States
ATTACH;FMTTYPE=image/webp:https://thegrapeventura.com/wp-content/uploads/2026/01/tom-collins-guitar.webp
GEO:34.2736226;-119.2593404
X-APPLE-STRUCTURED-LOCATION;VALUE=URI;X-ADDRESS=The Grape 2733 E Main St Ventura CA 93003 United States;X-APPLE-RADIUS=500;X-TITLE=2733 E Main St:geo:-119.2593404,34.2736226
END:VEVENT
BEGIN:VEVENT
DTSTART;TZID=America/Los_Angeles:20310314T170000
DTEND;TZID=America/Los_Angeles:20310314T190000
DTSTAMP:20260423T152807
CREATED:20260404T165009Z
LAST-MODIFIED:20260404T165009Z
UID:10004548-1931274000-1931281200@thegrapeventura.com
SUMMARY:Happy Hour with The Fred Kaplan Trio
DESCRIPTION:West Coast Swing and Boogie Woogie Blues with Fred Kaplan and friends \nEvery Friday in the bar side Happy Hour 5-7pm. \nno cover
URL:https://thegrapeventura.com/event/happy-hour-with-the-fred-kaplan-trio-3/2031-03-14/
LOCATION:The Grape\, 2733 E Main St\, Ventura\, CA\, 93003\, United States
ATTACH;FMTTYPE=image/jpeg:https://thegrapeventura.com/wp-content/uploads/2025/05/20220308_233231_318.jpg
GEO:34.2736226;-119.2593404
X-APPLE-STRUCTURED-LOCATION;VALUE=URI;X-ADDRESS=The Grape 2733 E Main St Ventura CA 93003 United States;X-APPLE-RADIUS=500;X-TITLE=2733 E Main St:geo:-119.2593404,34.2736226
END:VEVENT
BEGIN:VEVENT
DTSTART;TZID=America/Los_Angeles:20310318T170000
DTEND;TZID=America/Los_Angeles:20310318T190000
DTSTAMP:20260423T152807
CREATED:20260323T180733Z
LAST-MODIFIED:20260323T180733Z
UID:10004010-1931619600-1931626800@thegrapeventura.com
SUMMARY:Happy Hour w/ Monte Montgomery & Friends
DESCRIPTION:no cover\nbar side \nHappy Hour with multi-instrumentalist and vocalist\, Monte Montgomery and special guests
URL:https://thegrapeventura.com/event/happy-hour-w-monte-montgomery-friends-6/2031-03-18/
LOCATION:The Grape\, 2733 E Main St\, Ventura\, CA\, 93003\, United States
ATTACH;FMTTYPE=image/webp:https://thegrapeventura.com/wp-content/uploads/2026/02/monte_montgomery.webp
GEO:34.2736226;-119.2593404
X-APPLE-STRUCTURED-LOCATION;VALUE=URI;X-ADDRESS=The Grape 2733 E Main St Ventura CA 93003 United States;X-APPLE-RADIUS=500;X-TITLE=2733 E Main St:geo:-119.2593404,34.2736226
END:VEVENT
BEGIN:VEVENT
DTSTART;TZID=America/Los_Angeles:20310320T170000
DTEND;TZID=America/Los_Angeles:20310320T190000
DTSTAMP:20260423T152807
CREATED:20260402T160954Z
LAST-MODIFIED:20260402T160954Z
UID:10004282-1931792400-1931799600@thegrapeventura.com
SUMMARY:Happy Hour with Collins & Rollins Quartet
DESCRIPTION:barside \nNo cover \nKent Rollins – piano \nTom Collins – guitar
URL:https://thegrapeventura.com/event/happy-hour-with-collins-rollins-quartet-4/2031-03-20/
LOCATION:The Grape\, 2733 E Main St\, Ventura\, CA\, 93003\, United States
ATTACH;FMTTYPE=image/webp:https://thegrapeventura.com/wp-content/uploads/2026/01/tom-collins-guitar.webp
GEO:34.2736226;-119.2593404
X-APPLE-STRUCTURED-LOCATION;VALUE=URI;X-ADDRESS=The Grape 2733 E Main St Ventura CA 93003 United States;X-APPLE-RADIUS=500;X-TITLE=2733 E Main St:geo:-119.2593404,34.2736226
END:VEVENT
BEGIN:VEVENT
DTSTART;TZID=America/Los_Angeles:20310321T170000
DTEND;TZID=America/Los_Angeles:20310321T190000
DTSTAMP:20260423T152807
CREATED:20260404T165009Z
LAST-MODIFIED:20260404T165009Z
UID:10004549-1931878800-1931886000@thegrapeventura.com
SUMMARY:Happy Hour with The Fred Kaplan Trio
DESCRIPTION:West Coast Swing and Boogie Woogie Blues with Fred Kaplan and friends \nEvery Friday in the bar side Happy Hour 5-7pm. \nno cover
URL:https://thegrapeventura.com/event/happy-hour-with-the-fred-kaplan-trio-3/2031-03-21/
LOCATION:The Grape\, 2733 E Main St\, Ventura\, CA\, 93003\, United States
ATTACH;FMTTYPE=image/jpeg:https://thegrapeventura.com/wp-content/uploads/2025/05/20220308_233231_318.jpg
GEO:34.2736226;-119.2593404
X-APPLE-STRUCTURED-LOCATION;VALUE=URI;X-ADDRESS=The Grape 2733 E Main St Ventura CA 93003 United States;X-APPLE-RADIUS=500;X-TITLE=2733 E Main St:geo:-119.2593404,34.2736226
END:VEVENT
BEGIN:VEVENT
DTSTART;TZID=America/Los_Angeles:20310325T170000
DTEND;TZID=America/Los_Angeles:20310325T190000
DTSTAMP:20260423T152807
CREATED:20260323T180733Z
LAST-MODIFIED:20260323T180733Z
UID:10004012-1932224400-1932231600@thegrapeventura.com
SUMMARY:Happy Hour w/ Monte Montgomery & Friends
DESCRIPTION:no cover\nbar side \nHappy Hour with multi-instrumentalist and vocalist\, Monte Montgomery and special guests
URL:https://thegrapeventura.com/event/happy-hour-w-monte-montgomery-friends-6/2031-03-25/
LOCATION:The Grape\, 2733 E Main St\, Ventura\, CA\, 93003\, United States
ATTACH;FMTTYPE=image/webp:https://thegrapeventura.com/wp-content/uploads/2026/02/monte_montgomery.webp
GEO:34.2736226;-119.2593404
X-APPLE-STRUCTURED-LOCATION;VALUE=URI;X-ADDRESS=The Grape 2733 E Main St Ventura CA 93003 United States;X-APPLE-RADIUS=500;X-TITLE=2733 E Main St:geo:-119.2593404,34.2736226
END:VEVENT
BEGIN:VEVENT
DTSTART;TZID=America/Los_Angeles:20310327T170000
DTEND;TZID=America/Los_Angeles:20310327T190000
DTSTAMP:20260423T152807
CREATED:20260402T160954Z
LAST-MODIFIED:20260402T160954Z
UID:10004283-1932397200-1932404400@thegrapeventura.com
SUMMARY:Happy Hour with Collins & Rollins Quartet
DESCRIPTION:barside \nNo cover \nKent Rollins – piano \nTom Collins – guitar
URL:https://thegrapeventura.com/event/happy-hour-with-collins-rollins-quartet-4/2031-03-27/
LOCATION:The Grape\, 2733 E Main St\, Ventura\, CA\, 93003\, United States
ATTACH;FMTTYPE=image/webp:https://thegrapeventura.com/wp-content/uploads/2026/01/tom-collins-guitar.webp
GEO:34.2736226;-119.2593404
X-APPLE-STRUCTURED-LOCATION;VALUE=URI;X-ADDRESS=The Grape 2733 E Main St Ventura CA 93003 United States;X-APPLE-RADIUS=500;X-TITLE=2733 E Main St:geo:-119.2593404,34.2736226
END:VEVENT
BEGIN:VEVENT
DTSTART;TZID=America/Los_Angeles:20310328T170000
DTEND;TZID=America/Los_Angeles:20310328T190000
DTSTAMP:20260423T152807
CREATED:20260404T165009Z
LAST-MODIFIED:20260404T165009Z
UID:10004550-1932483600-1932490800@thegrapeventura.com
SUMMARY:Happy Hour with The Fred Kaplan Trio
DESCRIPTION:West Coast Swing and Boogie Woogie Blues with Fred Kaplan and friends \nEvery Friday in the bar side Happy Hour 5-7pm. \nno cover
URL:https://thegrapeventura.com/event/happy-hour-with-the-fred-kaplan-trio-3/2031-03-28/
LOCATION:The Grape\, 2733 E Main St\, Ventura\, CA\, 93003\, United States
ATTACH;FMTTYPE=image/jpeg:https://thegrapeventura.com/wp-content/uploads/2025/05/20220308_233231_318.jpg
GEO:34.2736226;-119.2593404
X-APPLE-STRUCTURED-LOCATION;VALUE=URI;X-ADDRESS=The Grape 2733 E Main St Ventura CA 93003 United States;X-APPLE-RADIUS=500;X-TITLE=2733 E Main St:geo:-119.2593404,34.2736226
END:VEVENT
BEGIN:VEVENT
DTSTART;TZID=America/Los_Angeles:20310401T170000
DTEND;TZID=America/Los_Angeles:20310401T190000
DTSTAMP:20260423T152807
CREATED:20260323T180733Z
LAST-MODIFIED:20260323T180733Z
UID:10004554-1932829200-1932836400@thegrapeventura.com
SUMMARY:Happy Hour w/ Monte Montgomery & Friends
DESCRIPTION:no cover\nbar side \nHappy Hour with multi-instrumentalist and vocalist\, Monte Montgomery and special guests
URL:https://thegrapeventura.com/event/happy-hour-w-monte-montgomery-friends-6/2031-04-01/
LOCATION:The Grape\, 2733 E Main St\, Ventura\, CA\, 93003\, United States
ATTACH;FMTTYPE=image/webp:https://thegrapeventura.com/wp-content/uploads/2026/02/monte_montgomery.webp
GEO:34.2736226;-119.2593404
X-APPLE-STRUCTURED-LOCATION;VALUE=URI;X-ADDRESS=The Grape 2733 E Main St Ventura CA 93003 United States;X-APPLE-RADIUS=500;X-TITLE=2733 E Main St:geo:-119.2593404,34.2736226
END:VEVENT
BEGIN:VEVENT
DTSTART;TZID=America/Los_Angeles:20310402T190000
DTEND;TZID=America/Los_Angeles:20310402T220000
DTSTAMP:20260423T152807
CREATED:20260417T043530Z
LAST-MODIFIED:20260417T220919Z
UID:10004625-1932922800-1932933600@thegrapeventura.com
SUMMARY:RJ Mischo's 1st Wednesday Blues Showcase
DESCRIPTION:$10 cover \nRJ Mischo’s monthly “First Wednesday” Blues Showcase\, featuring an all-star lineup of blues musicians.
URL:https://thegrapeventura.com/event/electric-blues-trio/2031-04-02/
LOCATION:The Grape\, 2733 E Main St\, Ventura\, CA\, 93003\, United States
ATTACH;FMTTYPE=image/png:https://thegrapeventura.com/wp-content/uploads/2022/11/RJ-Mischo-2014-e1761260796209.png
GEO:34.2736226;-119.2593404
X-APPLE-STRUCTURED-LOCATION;VALUE=URI;X-ADDRESS=The Grape 2733 E Main St Ventura CA 93003 United States;X-APPLE-RADIUS=500;X-TITLE=2733 E Main St:geo:-119.2593404,34.2736226
END:VEVENT
BEGIN:VEVENT
DTSTART;TZID=America/Los_Angeles:20310403T170000
DTEND;TZID=America/Los_Angeles:20310403T190000
DTSTAMP:20260423T152807
CREATED:20260402T160954Z
LAST-MODIFIED:20260402T160954Z
UID:10004634-1933002000-1933009200@thegrapeventura.com
SUMMARY:Happy Hour with Collins & Rollins Quartet
DESCRIPTION:barside \nNo cover \nKent Rollins – piano \nTom Collins – guitar
URL:https://thegrapeventura.com/event/happy-hour-with-collins-rollins-quartet-4/2031-04-03/
LOCATION:The Grape\, 2733 E Main St\, Ventura\, CA\, 93003\, United States
ATTACH;FMTTYPE=image/webp:https://thegrapeventura.com/wp-content/uploads/2026/01/tom-collins-guitar.webp
GEO:34.2736226;-119.2593404
X-APPLE-STRUCTURED-LOCATION;VALUE=URI;X-ADDRESS=The Grape 2733 E Main St Ventura CA 93003 United States;X-APPLE-RADIUS=500;X-TITLE=2733 E Main St:geo:-119.2593404,34.2736226
END:VEVENT
BEGIN:VEVENT
DTSTART;TZID=America/Los_Angeles:20310404T170000
DTEND;TZID=America/Los_Angeles:20310404T190000
DTSTAMP:20260423T152807
CREATED:20260404T165009Z
LAST-MODIFIED:20260404T165009Z
UID:10004551-1933088400-1933095600@thegrapeventura.com
SUMMARY:Happy Hour with The Fred Kaplan Trio
DESCRIPTION:West Coast Swing and Boogie Woogie Blues with Fred Kaplan and friends \nEvery Friday in the bar side Happy Hour 5-7pm. \nno cover
URL:https://thegrapeventura.com/event/happy-hour-with-the-fred-kaplan-trio-3/2031-04-04/
LOCATION:The Grape\, 2733 E Main St\, Ventura\, CA\, 93003\, United States
ATTACH;FMTTYPE=image/jpeg:https://thegrapeventura.com/wp-content/uploads/2025/05/20220308_233231_318.jpg
GEO:34.2736226;-119.2593404
X-APPLE-STRUCTURED-LOCATION;VALUE=URI;X-ADDRESS=The Grape 2733 E Main St Ventura CA 93003 United States;X-APPLE-RADIUS=500;X-TITLE=2733 E Main St:geo:-119.2593404,34.2736226
END:VEVENT
BEGIN:VEVENT
DTSTART;TZID=America/Los_Angeles:20310408T170000
DTEND;TZID=America/Los_Angeles:20310408T190000
DTSTAMP:20260423T152807
CREATED:20260323T180733Z
LAST-MODIFIED:20260323T180733Z
UID:10004557-1933434000-1933441200@thegrapeventura.com
SUMMARY:Happy Hour w/ Monte Montgomery & Friends
DESCRIPTION:no cover\nbar side \nHappy Hour with multi-instrumentalist and vocalist\, Monte Montgomery and special guests
URL:https://thegrapeventura.com/event/happy-hour-w-monte-montgomery-friends-6/2031-04-08/
LOCATION:The Grape\, 2733 E Main St\, Ventura\, CA\, 93003\, United States
ATTACH;FMTTYPE=image/webp:https://thegrapeventura.com/wp-content/uploads/2026/02/monte_montgomery.webp
GEO:34.2736226;-119.2593404
X-APPLE-STRUCTURED-LOCATION;VALUE=URI;X-ADDRESS=The Grape 2733 E Main St Ventura CA 93003 United States;X-APPLE-RADIUS=500;X-TITLE=2733 E Main St:geo:-119.2593404,34.2736226
END:VEVENT
BEGIN:VEVENT
DTSTART;TZID=America/Los_Angeles:20310410T170000
DTEND;TZID=America/Los_Angeles:20310410T190000
DTSTAMP:20260423T152807
CREATED:20260402T160954Z
LAST-MODIFIED:20260402T160954Z
UID:10004635-1933606800-1933614000@thegrapeventura.com
SUMMARY:Happy Hour with Collins & Rollins Quartet
DESCRIPTION:barside \nNo cover \nKent Rollins – piano \nTom Collins – guitar
URL:https://thegrapeventura.com/event/happy-hour-with-collins-rollins-quartet-4/2031-04-10/
LOCATION:The Grape\, 2733 E Main St\, Ventura\, CA\, 93003\, United States
ATTACH;FMTTYPE=image/webp:https://thegrapeventura.com/wp-content/uploads/2026/01/tom-collins-guitar.webp
GEO:34.2736226;-119.2593404
X-APPLE-STRUCTURED-LOCATION;VALUE=URI;X-ADDRESS=The Grape 2733 E Main St Ventura CA 93003 United States;X-APPLE-RADIUS=500;X-TITLE=2733 E Main St:geo:-119.2593404,34.2736226
END:VEVENT
BEGIN:VEVENT
DTSTART;TZID=America/Los_Angeles:20310411T170000
DTEND;TZID=America/Los_Angeles:20310411T190000
DTSTAMP:20260423T152807
CREATED:20260404T165009Z
LAST-MODIFIED:20260404T165009Z
UID:10004559-1933693200-1933700400@thegrapeventura.com
SUMMARY:Happy Hour with The Fred Kaplan Trio
DESCRIPTION:West Coast Swing and Boogie Woogie Blues with Fred Kaplan and friends \nEvery Friday in the bar side Happy Hour 5-7pm. \nno cover
URL:https://thegrapeventura.com/event/happy-hour-with-the-fred-kaplan-trio-3/2031-04-11/
LOCATION:The Grape\, 2733 E Main St\, Ventura\, CA\, 93003\, United States
ATTACH;FMTTYPE=image/jpeg:https://thegrapeventura.com/wp-content/uploads/2025/05/20220308_233231_318.jpg
GEO:34.2736226;-119.2593404
X-APPLE-STRUCTURED-LOCATION;VALUE=URI;X-ADDRESS=The Grape 2733 E Main St Ventura CA 93003 United States;X-APPLE-RADIUS=500;X-TITLE=2733 E Main St:geo:-119.2593404,34.2736226
END:VEVENT
BEGIN:VEVENT
DTSTART;TZID=America/Los_Angeles:20310415T170000
DTEND;TZID=America/Los_Angeles:20310415T190000
DTSTAMP:20260423T152807
CREATED:20260323T180733Z
LAST-MODIFIED:20260323T180733Z
UID:10004632-1934038800-1934046000@thegrapeventura.com
SUMMARY:Happy Hour w/ Monte Montgomery & Friends
DESCRIPTION:no cover\nbar side \nHappy Hour with multi-instrumentalist and vocalist\, Monte Montgomery and special guests
URL:https://thegrapeventura.com/event/happy-hour-w-monte-montgomery-friends-6/2031-04-15/
LOCATION:The Grape\, 2733 E Main St\, Ventura\, CA\, 93003\, United States
ATTACH;FMTTYPE=image/webp:https://thegrapeventura.com/wp-content/uploads/2026/02/monte_montgomery.webp
GEO:34.2736226;-119.2593404
X-APPLE-STRUCTURED-LOCATION;VALUE=URI;X-ADDRESS=The Grape 2733 E Main St Ventura CA 93003 United States;X-APPLE-RADIUS=500;X-TITLE=2733 E Main St:geo:-119.2593404,34.2736226
END:VEVENT
BEGIN:VEVENT
DTSTART;TZID=America/Los_Angeles:20310417T170000
DTEND;TZID=America/Los_Angeles:20310417T190000
DTSTAMP:20260423T152807
CREATED:20260402T160954Z
LAST-MODIFIED:20260402T160954Z
UID:10004636-1934211600-1934218800@thegrapeventura.com
SUMMARY:Happy Hour with Collins & Rollins Quartet
DESCRIPTION:barside \nNo cover \nKent Rollins – piano \nTom Collins – guitar
URL:https://thegrapeventura.com/event/happy-hour-with-collins-rollins-quartet-4/2031-04-17/
LOCATION:The Grape\, 2733 E Main St\, Ventura\, CA\, 93003\, United States
ATTACH;FMTTYPE=image/webp:https://thegrapeventura.com/wp-content/uploads/2026/01/tom-collins-guitar.webp
GEO:34.2736226;-119.2593404
X-APPLE-STRUCTURED-LOCATION;VALUE=URI;X-ADDRESS=The Grape 2733 E Main St Ventura CA 93003 United States;X-APPLE-RADIUS=500;X-TITLE=2733 E Main St:geo:-119.2593404,34.2736226
END:VEVENT
BEGIN:VEVENT
DTSTART;TZID=America/Los_Angeles:20310418T170000
DTEND;TZID=America/Los_Angeles:20310418T190000
DTSTAMP:20260423T152807
CREATED:20260404T165009Z
LAST-MODIFIED:20260404T165009Z
UID:10004639-1934298000-1934305200@thegrapeventura.com
SUMMARY:Happy Hour with The Fred Kaplan Trio
DESCRIPTION:West Coast Swing and Boogie Woogie Blues with Fred Kaplan and friends \nEvery Friday in the bar side Happy Hour 5-7pm. \nno cover
URL:https://thegrapeventura.com/event/happy-hour-with-the-fred-kaplan-trio-3/2031-04-18/
LOCATION:The Grape\, 2733 E Main St\, Ventura\, CA\, 93003\, United States
ATTACH;FMTTYPE=image/jpeg:https://thegrapeventura.com/wp-content/uploads/2025/05/20220308_233231_318.jpg
GEO:34.2736226;-119.2593404
X-APPLE-STRUCTURED-LOCATION;VALUE=URI;X-ADDRESS=The Grape 2733 E Main St Ventura CA 93003 United States;X-APPLE-RADIUS=500;X-TITLE=2733 E Main St:geo:-119.2593404,34.2736226
END:VEVENT
END:VCALENDAR