BEGIN:VCALENDAR
VERSION:2.0
PRODID:-//The Grape Ventura - ECPv6.15.20//NONSGML v1.0//EN
CALSCALE:GREGORIAN
METHOD:PUBLISH
X-WR-CALNAME:The Grape Ventura
X-ORIGINAL-URL:https://thegrapeventura.com
X-WR-CALDESC:Events for The Grape Ventura
REFRESH-INTERVAL;VALUE=DURATION:PT1H
X-Robots-Tag:noindex
X-PUBLISHED-TTL:PT1H
BEGIN:VTIMEZONE
TZID:America/Los_Angeles
BEGIN:DAYLIGHT
TZOFFSETFROM:-0800
TZOFFSETTO:-0700
TZNAME:PDT
DTSTART:20290311T100000
END:DAYLIGHT
BEGIN:STANDARD
TZOFFSETFROM:-0700
TZOFFSETTO:-0800
TZNAME:PST
DTSTART:20291104T090000
END:STANDARD
BEGIN:DAYLIGHT
TZOFFSETFROM:-0800
TZOFFSETTO:-0700
TZNAME:PDT
DTSTART:20300310T100000
END:DAYLIGHT
BEGIN:STANDARD
TZOFFSETFROM:-0700
TZOFFSETTO:-0800
TZNAME:PST
DTSTART:20301103T090000
END:STANDARD
BEGIN:DAYLIGHT
TZOFFSETFROM:-0800
TZOFFSETTO:-0700
TZNAME:PDT
DTSTART:20310309T100000
END:DAYLIGHT
BEGIN:STANDARD
TZOFFSETFROM:-0700
TZOFFSETTO:-0800
TZNAME:PST
DTSTART:20311102T090000
END:STANDARD
END:VTIMEZONE
BEGIN:VEVENT
DTSTART;TZID=America/Los_Angeles:20300730T170000
DTEND;TZID=America/Los_Angeles:20300730T190000
DTSTAMP:20260423T040308
CREATED:20260323T180733Z
LAST-MODIFIED:20260323T180733Z
UID:10003977-1911661200-1911668400@thegrapeventura.com
SUMMARY:Happy Hour w/ Monte Montgomery & Friends
DESCRIPTION:no cover\nbar side \nHappy Hour with multi-instrumentalist and vocalist\, Monte Montgomery and special guests
URL:https://thegrapeventura.com/event/happy-hour-w-monte-montgomery-friends-6/2030-07-30/
LOCATION:The Grape\, 2733 E Main St\, Ventura\, CA\, 93003\, United States
ATTACH;FMTTYPE=image/webp:https://thegrapeventura.com/wp-content/uploads/2026/02/monte_montgomery.webp
GEO:34.2736226;-119.2593404
X-APPLE-STRUCTURED-LOCATION;VALUE=URI;X-ADDRESS=The Grape 2733 E Main St Ventura CA 93003 United States;X-APPLE-RADIUS=500;X-TITLE=2733 E Main St:geo:-119.2593404,34.2736226
END:VEVENT
BEGIN:VEVENT
DTSTART;TZID=America/Los_Angeles:20300801T170000
DTEND;TZID=America/Los_Angeles:20300801T190000
DTSTAMP:20260423T040308
CREATED:20260402T160954Z
LAST-MODIFIED:20260402T160954Z
UID:10004249-1911834000-1911841200@thegrapeventura.com
SUMMARY:Happy Hour with Collins & Rollins Quartet
DESCRIPTION:barside \nNo cover \nKent Rollins – piano \nTom Collins – guitar
URL:https://thegrapeventura.com/event/happy-hour-with-collins-rollins-quartet-4/2030-08-01/
LOCATION:The Grape\, 2733 E Main St\, Ventura\, CA\, 93003\, United States
ATTACH;FMTTYPE=image/webp:https://thegrapeventura.com/wp-content/uploads/2026/01/tom-collins-guitar.webp
GEO:34.2736226;-119.2593404
X-APPLE-STRUCTURED-LOCATION;VALUE=URI;X-ADDRESS=The Grape 2733 E Main St Ventura CA 93003 United States;X-APPLE-RADIUS=500;X-TITLE=2733 E Main St:geo:-119.2593404,34.2736226
END:VEVENT
BEGIN:VEVENT
DTSTART;TZID=America/Los_Angeles:20300802T170000
DTEND;TZID=America/Los_Angeles:20300802T190000
DTSTAMP:20260423T040308
CREATED:20260404T165009Z
LAST-MODIFIED:20260404T165009Z
UID:10004516-1911920400-1911927600@thegrapeventura.com
SUMMARY:Happy Hour with The Fred Kaplan Trio
DESCRIPTION:West Coast Swing and Boogie Woogie Blues with Fred Kaplan and friends \nEvery Friday in the bar side Happy Hour 5-7pm. \nno cover
URL:https://thegrapeventura.com/event/happy-hour-with-the-fred-kaplan-trio-3/2030-08-02/
LOCATION:The Grape\, 2733 E Main St\, Ventura\, CA\, 93003\, United States
ATTACH;FMTTYPE=image/jpeg:https://thegrapeventura.com/wp-content/uploads/2025/05/20220308_233231_318.jpg
GEO:34.2736226;-119.2593404
X-APPLE-STRUCTURED-LOCATION;VALUE=URI;X-ADDRESS=The Grape 2733 E Main St Ventura CA 93003 United States;X-APPLE-RADIUS=500;X-TITLE=2733 E Main St:geo:-119.2593404,34.2736226
END:VEVENT
BEGIN:VEVENT
DTSTART;TZID=America/Los_Angeles:20300806T170000
DTEND;TZID=America/Los_Angeles:20300806T190000
DTSTAMP:20260423T040308
CREATED:20260323T180733Z
LAST-MODIFIED:20260323T180733Z
UID:10003978-1912266000-1912273200@thegrapeventura.com
SUMMARY:Happy Hour w/ Monte Montgomery & Friends
DESCRIPTION:no cover\nbar side \nHappy Hour with multi-instrumentalist and vocalist\, Monte Montgomery and special guests
URL:https://thegrapeventura.com/event/happy-hour-w-monte-montgomery-friends-6/2030-08-06/
LOCATION:The Grape\, 2733 E Main St\, Ventura\, CA\, 93003\, United States
ATTACH;FMTTYPE=image/webp:https://thegrapeventura.com/wp-content/uploads/2026/02/monte_montgomery.webp
GEO:34.2736226;-119.2593404
X-APPLE-STRUCTURED-LOCATION;VALUE=URI;X-ADDRESS=The Grape 2733 E Main St Ventura CA 93003 United States;X-APPLE-RADIUS=500;X-TITLE=2733 E Main St:geo:-119.2593404,34.2736226
END:VEVENT
BEGIN:VEVENT
DTSTART;TZID=America/Los_Angeles:20300807T190000
DTEND;TZID=America/Los_Angeles:20300807T220000
DTSTAMP:20260423T040308
CREATED:20260417T043530Z
LAST-MODIFIED:20260417T220919Z
UID:10004617-1912359600-1912370400@thegrapeventura.com
SUMMARY:RJ Mischo's 1st Wednesday Blues Showcase
DESCRIPTION:$10 cover \nRJ Mischo’s monthly “First Wednesday” Blues Showcase\, featuring an all-star lineup of blues musicians.
URL:https://thegrapeventura.com/event/electric-blues-trio/2030-08-07/
LOCATION:The Grape\, 2733 E Main St\, Ventura\, CA\, 93003\, United States
ATTACH;FMTTYPE=image/png:https://thegrapeventura.com/wp-content/uploads/2022/11/RJ-Mischo-2014-e1761260796209.png
GEO:34.2736226;-119.2593404
X-APPLE-STRUCTURED-LOCATION;VALUE=URI;X-ADDRESS=The Grape 2733 E Main St Ventura CA 93003 United States;X-APPLE-RADIUS=500;X-TITLE=2733 E Main St:geo:-119.2593404,34.2736226
END:VEVENT
BEGIN:VEVENT
DTSTART;TZID=America/Los_Angeles:20300808T170000
DTEND;TZID=America/Los_Angeles:20300808T190000
DTSTAMP:20260423T040308
CREATED:20260402T160954Z
LAST-MODIFIED:20260402T160954Z
UID:10004250-1912438800-1912446000@thegrapeventura.com
SUMMARY:Happy Hour with Collins & Rollins Quartet
DESCRIPTION:barside \nNo cover \nKent Rollins – piano \nTom Collins – guitar
URL:https://thegrapeventura.com/event/happy-hour-with-collins-rollins-quartet-4/2030-08-08/
LOCATION:The Grape\, 2733 E Main St\, Ventura\, CA\, 93003\, United States
ATTACH;FMTTYPE=image/webp:https://thegrapeventura.com/wp-content/uploads/2026/01/tom-collins-guitar.webp
GEO:34.2736226;-119.2593404
X-APPLE-STRUCTURED-LOCATION;VALUE=URI;X-ADDRESS=The Grape 2733 E Main St Ventura CA 93003 United States;X-APPLE-RADIUS=500;X-TITLE=2733 E Main St:geo:-119.2593404,34.2736226
END:VEVENT
BEGIN:VEVENT
DTSTART;TZID=America/Los_Angeles:20300809T170000
DTEND;TZID=America/Los_Angeles:20300809T190000
DTSTAMP:20260423T040308
CREATED:20260404T165009Z
LAST-MODIFIED:20260404T165009Z
UID:10004517-1912525200-1912532400@thegrapeventura.com
SUMMARY:Happy Hour with The Fred Kaplan Trio
DESCRIPTION:West Coast Swing and Boogie Woogie Blues with Fred Kaplan and friends \nEvery Friday in the bar side Happy Hour 5-7pm. \nno cover
URL:https://thegrapeventura.com/event/happy-hour-with-the-fred-kaplan-trio-3/2030-08-09/
LOCATION:The Grape\, 2733 E Main St\, Ventura\, CA\, 93003\, United States
ATTACH;FMTTYPE=image/jpeg:https://thegrapeventura.com/wp-content/uploads/2025/05/20220308_233231_318.jpg
GEO:34.2736226;-119.2593404
X-APPLE-STRUCTURED-LOCATION;VALUE=URI;X-ADDRESS=The Grape 2733 E Main St Ventura CA 93003 United States;X-APPLE-RADIUS=500;X-TITLE=2733 E Main St:geo:-119.2593404,34.2736226
END:VEVENT
BEGIN:VEVENT
DTSTART;TZID=America/Los_Angeles:20300813T170000
DTEND;TZID=America/Los_Angeles:20300813T190000
DTSTAMP:20260423T040308
CREATED:20260323T180733Z
LAST-MODIFIED:20260323T180733Z
UID:10003979-1912870800-1912878000@thegrapeventura.com
SUMMARY:Happy Hour w/ Monte Montgomery & Friends
DESCRIPTION:no cover\nbar side \nHappy Hour with multi-instrumentalist and vocalist\, Monte Montgomery and special guests
URL:https://thegrapeventura.com/event/happy-hour-w-monte-montgomery-friends-6/2030-08-13/
LOCATION:The Grape\, 2733 E Main St\, Ventura\, CA\, 93003\, United States
ATTACH;FMTTYPE=image/webp:https://thegrapeventura.com/wp-content/uploads/2026/02/monte_montgomery.webp
GEO:34.2736226;-119.2593404
X-APPLE-STRUCTURED-LOCATION;VALUE=URI;X-ADDRESS=The Grape 2733 E Main St Ventura CA 93003 United States;X-APPLE-RADIUS=500;X-TITLE=2733 E Main St:geo:-119.2593404,34.2736226
END:VEVENT
BEGIN:VEVENT
DTSTART;TZID=America/Los_Angeles:20300815T170000
DTEND;TZID=America/Los_Angeles:20300815T190000
DTSTAMP:20260423T040308
CREATED:20260402T160954Z
LAST-MODIFIED:20260402T160954Z
UID:10004251-1913043600-1913050800@thegrapeventura.com
SUMMARY:Happy Hour with Collins & Rollins Quartet
DESCRIPTION:barside \nNo cover \nKent Rollins – piano \nTom Collins – guitar
URL:https://thegrapeventura.com/event/happy-hour-with-collins-rollins-quartet-4/2030-08-15/
LOCATION:The Grape\, 2733 E Main St\, Ventura\, CA\, 93003\, United States
ATTACH;FMTTYPE=image/webp:https://thegrapeventura.com/wp-content/uploads/2026/01/tom-collins-guitar.webp
GEO:34.2736226;-119.2593404
X-APPLE-STRUCTURED-LOCATION;VALUE=URI;X-ADDRESS=The Grape 2733 E Main St Ventura CA 93003 United States;X-APPLE-RADIUS=500;X-TITLE=2733 E Main St:geo:-119.2593404,34.2736226
END:VEVENT
BEGIN:VEVENT
DTSTART;TZID=America/Los_Angeles:20300816T170000
DTEND;TZID=America/Los_Angeles:20300816T190000
DTSTAMP:20260423T040308
CREATED:20260404T165009Z
LAST-MODIFIED:20260404T165009Z
UID:10004518-1913130000-1913137200@thegrapeventura.com
SUMMARY:Happy Hour with The Fred Kaplan Trio
DESCRIPTION:West Coast Swing and Boogie Woogie Blues with Fred Kaplan and friends \nEvery Friday in the bar side Happy Hour 5-7pm. \nno cover
URL:https://thegrapeventura.com/event/happy-hour-with-the-fred-kaplan-trio-3/2030-08-16/
LOCATION:The Grape\, 2733 E Main St\, Ventura\, CA\, 93003\, United States
ATTACH;FMTTYPE=image/jpeg:https://thegrapeventura.com/wp-content/uploads/2025/05/20220308_233231_318.jpg
GEO:34.2736226;-119.2593404
X-APPLE-STRUCTURED-LOCATION;VALUE=URI;X-ADDRESS=The Grape 2733 E Main St Ventura CA 93003 United States;X-APPLE-RADIUS=500;X-TITLE=2733 E Main St:geo:-119.2593404,34.2736226
END:VEVENT
BEGIN:VEVENT
DTSTART;TZID=America/Los_Angeles:20300820T170000
DTEND;TZID=America/Los_Angeles:20300820T190000
DTSTAMP:20260423T040308
CREATED:20260323T180733Z
LAST-MODIFIED:20260323T180733Z
UID:10003980-1913475600-1913482800@thegrapeventura.com
SUMMARY:Happy Hour w/ Monte Montgomery & Friends
DESCRIPTION:no cover\nbar side \nHappy Hour with multi-instrumentalist and vocalist\, Monte Montgomery and special guests
URL:https://thegrapeventura.com/event/happy-hour-w-monte-montgomery-friends-6/2030-08-20/
LOCATION:The Grape\, 2733 E Main St\, Ventura\, CA\, 93003\, United States
ATTACH;FMTTYPE=image/webp:https://thegrapeventura.com/wp-content/uploads/2026/02/monte_montgomery.webp
GEO:34.2736226;-119.2593404
X-APPLE-STRUCTURED-LOCATION;VALUE=URI;X-ADDRESS=The Grape 2733 E Main St Ventura CA 93003 United States;X-APPLE-RADIUS=500;X-TITLE=2733 E Main St:geo:-119.2593404,34.2736226
END:VEVENT
BEGIN:VEVENT
DTSTART;TZID=America/Los_Angeles:20300822T170000
DTEND;TZID=America/Los_Angeles:20300822T190000
DTSTAMP:20260423T040308
CREATED:20260402T160954Z
LAST-MODIFIED:20260402T160954Z
UID:10004252-1913648400-1913655600@thegrapeventura.com
SUMMARY:Happy Hour with Collins & Rollins Quartet
DESCRIPTION:barside \nNo cover \nKent Rollins – piano \nTom Collins – guitar
URL:https://thegrapeventura.com/event/happy-hour-with-collins-rollins-quartet-4/2030-08-22/
LOCATION:The Grape\, 2733 E Main St\, Ventura\, CA\, 93003\, United States
ATTACH;FMTTYPE=image/webp:https://thegrapeventura.com/wp-content/uploads/2026/01/tom-collins-guitar.webp
GEO:34.2736226;-119.2593404
X-APPLE-STRUCTURED-LOCATION;VALUE=URI;X-ADDRESS=The Grape 2733 E Main St Ventura CA 93003 United States;X-APPLE-RADIUS=500;X-TITLE=2733 E Main St:geo:-119.2593404,34.2736226
END:VEVENT
BEGIN:VEVENT
DTSTART;TZID=America/Los_Angeles:20300823T170000
DTEND;TZID=America/Los_Angeles:20300823T190000
DTSTAMP:20260423T040308
CREATED:20260404T165009Z
LAST-MODIFIED:20260404T165009Z
UID:10004519-1913734800-1913742000@thegrapeventura.com
SUMMARY:Happy Hour with The Fred Kaplan Trio
DESCRIPTION:West Coast Swing and Boogie Woogie Blues with Fred Kaplan and friends \nEvery Friday in the bar side Happy Hour 5-7pm. \nno cover
URL:https://thegrapeventura.com/event/happy-hour-with-the-fred-kaplan-trio-3/2030-08-23/
LOCATION:The Grape\, 2733 E Main St\, Ventura\, CA\, 93003\, United States
ATTACH;FMTTYPE=image/jpeg:https://thegrapeventura.com/wp-content/uploads/2025/05/20220308_233231_318.jpg
GEO:34.2736226;-119.2593404
X-APPLE-STRUCTURED-LOCATION;VALUE=URI;X-ADDRESS=The Grape 2733 E Main St Ventura CA 93003 United States;X-APPLE-RADIUS=500;X-TITLE=2733 E Main St:geo:-119.2593404,34.2736226
END:VEVENT
BEGIN:VEVENT
DTSTART;TZID=America/Los_Angeles:20300827T170000
DTEND;TZID=America/Los_Angeles:20300827T190000
DTSTAMP:20260423T040308
CREATED:20260323T180733Z
LAST-MODIFIED:20260323T180733Z
UID:10003981-1914080400-1914087600@thegrapeventura.com
SUMMARY:Happy Hour w/ Monte Montgomery & Friends
DESCRIPTION:no cover\nbar side \nHappy Hour with multi-instrumentalist and vocalist\, Monte Montgomery and special guests
URL:https://thegrapeventura.com/event/happy-hour-w-monte-montgomery-friends-6/2030-08-27/
LOCATION:The Grape\, 2733 E Main St\, Ventura\, CA\, 93003\, United States
ATTACH;FMTTYPE=image/webp:https://thegrapeventura.com/wp-content/uploads/2026/02/monte_montgomery.webp
GEO:34.2736226;-119.2593404
X-APPLE-STRUCTURED-LOCATION;VALUE=URI;X-ADDRESS=The Grape 2733 E Main St Ventura CA 93003 United States;X-APPLE-RADIUS=500;X-TITLE=2733 E Main St:geo:-119.2593404,34.2736226
END:VEVENT
BEGIN:VEVENT
DTSTART;TZID=America/Los_Angeles:20300829T170000
DTEND;TZID=America/Los_Angeles:20300829T190000
DTSTAMP:20260423T040308
CREATED:20260402T160954Z
LAST-MODIFIED:20260402T160954Z
UID:10004253-1914253200-1914260400@thegrapeventura.com
SUMMARY:Happy Hour with Collins & Rollins Quartet
DESCRIPTION:barside \nNo cover \nKent Rollins – piano \nTom Collins – guitar
URL:https://thegrapeventura.com/event/happy-hour-with-collins-rollins-quartet-4/2030-08-29/
LOCATION:The Grape\, 2733 E Main St\, Ventura\, CA\, 93003\, United States
ATTACH;FMTTYPE=image/webp:https://thegrapeventura.com/wp-content/uploads/2026/01/tom-collins-guitar.webp
GEO:34.2736226;-119.2593404
X-APPLE-STRUCTURED-LOCATION;VALUE=URI;X-ADDRESS=The Grape 2733 E Main St Ventura CA 93003 United States;X-APPLE-RADIUS=500;X-TITLE=2733 E Main St:geo:-119.2593404,34.2736226
END:VEVENT
BEGIN:VEVENT
DTSTART;TZID=America/Los_Angeles:20300830T170000
DTEND;TZID=America/Los_Angeles:20300830T190000
DTSTAMP:20260423T040308
CREATED:20260404T165009Z
LAST-MODIFIED:20260404T165009Z
UID:10004520-1914339600-1914346800@thegrapeventura.com
SUMMARY:Happy Hour with The Fred Kaplan Trio
DESCRIPTION:West Coast Swing and Boogie Woogie Blues with Fred Kaplan and friends \nEvery Friday in the bar side Happy Hour 5-7pm. \nno cover
URL:https://thegrapeventura.com/event/happy-hour-with-the-fred-kaplan-trio-3/2030-08-30/
LOCATION:The Grape\, 2733 E Main St\, Ventura\, CA\, 93003\, United States
ATTACH;FMTTYPE=image/jpeg:https://thegrapeventura.com/wp-content/uploads/2025/05/20220308_233231_318.jpg
GEO:34.2736226;-119.2593404
X-APPLE-STRUCTURED-LOCATION;VALUE=URI;X-ADDRESS=The Grape 2733 E Main St Ventura CA 93003 United States;X-APPLE-RADIUS=500;X-TITLE=2733 E Main St:geo:-119.2593404,34.2736226
END:VEVENT
BEGIN:VEVENT
DTSTART;TZID=America/Los_Angeles:20300903T170000
DTEND;TZID=America/Los_Angeles:20300903T190000
DTSTAMP:20260423T040308
CREATED:20260323T180733Z
LAST-MODIFIED:20260323T180733Z
UID:10003982-1914685200-1914692400@thegrapeventura.com
SUMMARY:Happy Hour w/ Monte Montgomery & Friends
DESCRIPTION:no cover\nbar side \nHappy Hour with multi-instrumentalist and vocalist\, Monte Montgomery and special guests
URL:https://thegrapeventura.com/event/happy-hour-w-monte-montgomery-friends-6/2030-09-03/
LOCATION:The Grape\, 2733 E Main St\, Ventura\, CA\, 93003\, United States
ATTACH;FMTTYPE=image/webp:https://thegrapeventura.com/wp-content/uploads/2026/02/monte_montgomery.webp
GEO:34.2736226;-119.2593404
X-APPLE-STRUCTURED-LOCATION;VALUE=URI;X-ADDRESS=The Grape 2733 E Main St Ventura CA 93003 United States;X-APPLE-RADIUS=500;X-TITLE=2733 E Main St:geo:-119.2593404,34.2736226
END:VEVENT
BEGIN:VEVENT
DTSTART;TZID=America/Los_Angeles:20300904T190000
DTEND;TZID=America/Los_Angeles:20300904T220000
DTSTAMP:20260423T040308
CREATED:20260417T043530Z
LAST-MODIFIED:20260417T220919Z
UID:10004618-1914778800-1914789600@thegrapeventura.com
SUMMARY:RJ Mischo's 1st Wednesday Blues Showcase
DESCRIPTION:$10 cover \nRJ Mischo’s monthly “First Wednesday” Blues Showcase\, featuring an all-star lineup of blues musicians.
URL:https://thegrapeventura.com/event/electric-blues-trio/2030-09-04/
LOCATION:The Grape\, 2733 E Main St\, Ventura\, CA\, 93003\, United States
ATTACH;FMTTYPE=image/png:https://thegrapeventura.com/wp-content/uploads/2022/11/RJ-Mischo-2014-e1761260796209.png
GEO:34.2736226;-119.2593404
X-APPLE-STRUCTURED-LOCATION;VALUE=URI;X-ADDRESS=The Grape 2733 E Main St Ventura CA 93003 United States;X-APPLE-RADIUS=500;X-TITLE=2733 E Main St:geo:-119.2593404,34.2736226
END:VEVENT
BEGIN:VEVENT
DTSTART;TZID=America/Los_Angeles:20300905T170000
DTEND;TZID=America/Los_Angeles:20300905T190000
DTSTAMP:20260423T040308
CREATED:20260402T160954Z
LAST-MODIFIED:20260402T160954Z
UID:10004254-1914858000-1914865200@thegrapeventura.com
SUMMARY:Happy Hour with Collins & Rollins Quartet
DESCRIPTION:barside \nNo cover \nKent Rollins – piano \nTom Collins – guitar
URL:https://thegrapeventura.com/event/happy-hour-with-collins-rollins-quartet-4/2030-09-05/
LOCATION:The Grape\, 2733 E Main St\, Ventura\, CA\, 93003\, United States
ATTACH;FMTTYPE=image/webp:https://thegrapeventura.com/wp-content/uploads/2026/01/tom-collins-guitar.webp
GEO:34.2736226;-119.2593404
X-APPLE-STRUCTURED-LOCATION;VALUE=URI;X-ADDRESS=The Grape 2733 E Main St Ventura CA 93003 United States;X-APPLE-RADIUS=500;X-TITLE=2733 E Main St:geo:-119.2593404,34.2736226
END:VEVENT
BEGIN:VEVENT
DTSTART;TZID=America/Los_Angeles:20300906T170000
DTEND;TZID=America/Los_Angeles:20300906T190000
DTSTAMP:20260423T040308
CREATED:20260404T165009Z
LAST-MODIFIED:20260404T165009Z
UID:10004521-1914944400-1914951600@thegrapeventura.com
SUMMARY:Happy Hour with The Fred Kaplan Trio
DESCRIPTION:West Coast Swing and Boogie Woogie Blues with Fred Kaplan and friends \nEvery Friday in the bar side Happy Hour 5-7pm. \nno cover
URL:https://thegrapeventura.com/event/happy-hour-with-the-fred-kaplan-trio-3/2030-09-06/
LOCATION:The Grape\, 2733 E Main St\, Ventura\, CA\, 93003\, United States
ATTACH;FMTTYPE=image/jpeg:https://thegrapeventura.com/wp-content/uploads/2025/05/20220308_233231_318.jpg
GEO:34.2736226;-119.2593404
X-APPLE-STRUCTURED-LOCATION;VALUE=URI;X-ADDRESS=The Grape 2733 E Main St Ventura CA 93003 United States;X-APPLE-RADIUS=500;X-TITLE=2733 E Main St:geo:-119.2593404,34.2736226
END:VEVENT
BEGIN:VEVENT
DTSTART;TZID=America/Los_Angeles:20300910T170000
DTEND;TZID=America/Los_Angeles:20300910T190000
DTSTAMP:20260423T040308
CREATED:20260323T180733Z
LAST-MODIFIED:20260323T180733Z
UID:10003983-1915290000-1915297200@thegrapeventura.com
SUMMARY:Happy Hour w/ Monte Montgomery & Friends
DESCRIPTION:no cover\nbar side \nHappy Hour with multi-instrumentalist and vocalist\, Monte Montgomery and special guests
URL:https://thegrapeventura.com/event/happy-hour-w-monte-montgomery-friends-6/2030-09-10/
LOCATION:The Grape\, 2733 E Main St\, Ventura\, CA\, 93003\, United States
ATTACH;FMTTYPE=image/webp:https://thegrapeventura.com/wp-content/uploads/2026/02/monte_montgomery.webp
GEO:34.2736226;-119.2593404
X-APPLE-STRUCTURED-LOCATION;VALUE=URI;X-ADDRESS=The Grape 2733 E Main St Ventura CA 93003 United States;X-APPLE-RADIUS=500;X-TITLE=2733 E Main St:geo:-119.2593404,34.2736226
END:VEVENT
BEGIN:VEVENT
DTSTART;TZID=America/Los_Angeles:20300912T170000
DTEND;TZID=America/Los_Angeles:20300912T190000
DTSTAMP:20260423T040308
CREATED:20260402T160954Z
LAST-MODIFIED:20260402T160954Z
UID:10004255-1915462800-1915470000@thegrapeventura.com
SUMMARY:Happy Hour with Collins & Rollins Quartet
DESCRIPTION:barside \nNo cover \nKent Rollins – piano \nTom Collins – guitar
URL:https://thegrapeventura.com/event/happy-hour-with-collins-rollins-quartet-4/2030-09-12/
LOCATION:The Grape\, 2733 E Main St\, Ventura\, CA\, 93003\, United States
ATTACH;FMTTYPE=image/webp:https://thegrapeventura.com/wp-content/uploads/2026/01/tom-collins-guitar.webp
GEO:34.2736226;-119.2593404
X-APPLE-STRUCTURED-LOCATION;VALUE=URI;X-ADDRESS=The Grape 2733 E Main St Ventura CA 93003 United States;X-APPLE-RADIUS=500;X-TITLE=2733 E Main St:geo:-119.2593404,34.2736226
END:VEVENT
BEGIN:VEVENT
DTSTART;TZID=America/Los_Angeles:20300913T170000
DTEND;TZID=America/Los_Angeles:20300913T190000
DTSTAMP:20260423T040308
CREATED:20260404T165009Z
LAST-MODIFIED:20260404T165009Z
UID:10004522-1915549200-1915556400@thegrapeventura.com
SUMMARY:Happy Hour with The Fred Kaplan Trio
DESCRIPTION:West Coast Swing and Boogie Woogie Blues with Fred Kaplan and friends \nEvery Friday in the bar side Happy Hour 5-7pm. \nno cover
URL:https://thegrapeventura.com/event/happy-hour-with-the-fred-kaplan-trio-3/2030-09-13/
LOCATION:The Grape\, 2733 E Main St\, Ventura\, CA\, 93003\, United States
ATTACH;FMTTYPE=image/jpeg:https://thegrapeventura.com/wp-content/uploads/2025/05/20220308_233231_318.jpg
GEO:34.2736226;-119.2593404
X-APPLE-STRUCTURED-LOCATION;VALUE=URI;X-ADDRESS=The Grape 2733 E Main St Ventura CA 93003 United States;X-APPLE-RADIUS=500;X-TITLE=2733 E Main St:geo:-119.2593404,34.2736226
END:VEVENT
BEGIN:VEVENT
DTSTART;TZID=America/Los_Angeles:20300917T170000
DTEND;TZID=America/Los_Angeles:20300917T190000
DTSTAMP:20260423T040308
CREATED:20260323T180733Z
LAST-MODIFIED:20260323T180733Z
UID:10003984-1915894800-1915902000@thegrapeventura.com
SUMMARY:Happy Hour w/ Monte Montgomery & Friends
DESCRIPTION:no cover\nbar side \nHappy Hour with multi-instrumentalist and vocalist\, Monte Montgomery and special guests
URL:https://thegrapeventura.com/event/happy-hour-w-monte-montgomery-friends-6/2030-09-17/
LOCATION:The Grape\, 2733 E Main St\, Ventura\, CA\, 93003\, United States
ATTACH;FMTTYPE=image/webp:https://thegrapeventura.com/wp-content/uploads/2026/02/monte_montgomery.webp
GEO:34.2736226;-119.2593404
X-APPLE-STRUCTURED-LOCATION;VALUE=URI;X-ADDRESS=The Grape 2733 E Main St Ventura CA 93003 United States;X-APPLE-RADIUS=500;X-TITLE=2733 E Main St:geo:-119.2593404,34.2736226
END:VEVENT
BEGIN:VEVENT
DTSTART;TZID=America/Los_Angeles:20300919T170000
DTEND;TZID=America/Los_Angeles:20300919T190000
DTSTAMP:20260423T040308
CREATED:20260402T160954Z
LAST-MODIFIED:20260402T160954Z
UID:10004256-1916067600-1916074800@thegrapeventura.com
SUMMARY:Happy Hour with Collins & Rollins Quartet
DESCRIPTION:barside \nNo cover \nKent Rollins – piano \nTom Collins – guitar
URL:https://thegrapeventura.com/event/happy-hour-with-collins-rollins-quartet-4/2030-09-19/
LOCATION:The Grape\, 2733 E Main St\, Ventura\, CA\, 93003\, United States
ATTACH;FMTTYPE=image/webp:https://thegrapeventura.com/wp-content/uploads/2026/01/tom-collins-guitar.webp
GEO:34.2736226;-119.2593404
X-APPLE-STRUCTURED-LOCATION;VALUE=URI;X-ADDRESS=The Grape 2733 E Main St Ventura CA 93003 United States;X-APPLE-RADIUS=500;X-TITLE=2733 E Main St:geo:-119.2593404,34.2736226
END:VEVENT
BEGIN:VEVENT
DTSTART;TZID=America/Los_Angeles:20300920T170000
DTEND;TZID=America/Los_Angeles:20300920T190000
DTSTAMP:20260423T040308
CREATED:20260404T165009Z
LAST-MODIFIED:20260404T165009Z
UID:10004523-1916154000-1916161200@thegrapeventura.com
SUMMARY:Happy Hour with The Fred Kaplan Trio
DESCRIPTION:West Coast Swing and Boogie Woogie Blues with Fred Kaplan and friends \nEvery Friday in the bar side Happy Hour 5-7pm. \nno cover
URL:https://thegrapeventura.com/event/happy-hour-with-the-fred-kaplan-trio-3/2030-09-20/
LOCATION:The Grape\, 2733 E Main St\, Ventura\, CA\, 93003\, United States
ATTACH;FMTTYPE=image/jpeg:https://thegrapeventura.com/wp-content/uploads/2025/05/20220308_233231_318.jpg
GEO:34.2736226;-119.2593404
X-APPLE-STRUCTURED-LOCATION;VALUE=URI;X-ADDRESS=The Grape 2733 E Main St Ventura CA 93003 United States;X-APPLE-RADIUS=500;X-TITLE=2733 E Main St:geo:-119.2593404,34.2736226
END:VEVENT
BEGIN:VEVENT
DTSTART;TZID=America/Los_Angeles:20300924T170000
DTEND;TZID=America/Los_Angeles:20300924T190000
DTSTAMP:20260423T040308
CREATED:20260323T180733Z
LAST-MODIFIED:20260323T180733Z
UID:10003985-1916499600-1916506800@thegrapeventura.com
SUMMARY:Happy Hour w/ Monte Montgomery & Friends
DESCRIPTION:no cover\nbar side \nHappy Hour with multi-instrumentalist and vocalist\, Monte Montgomery and special guests
URL:https://thegrapeventura.com/event/happy-hour-w-monte-montgomery-friends-6/2030-09-24/
LOCATION:The Grape\, 2733 E Main St\, Ventura\, CA\, 93003\, United States
ATTACH;FMTTYPE=image/webp:https://thegrapeventura.com/wp-content/uploads/2026/02/monte_montgomery.webp
GEO:34.2736226;-119.2593404
X-APPLE-STRUCTURED-LOCATION;VALUE=URI;X-ADDRESS=The Grape 2733 E Main St Ventura CA 93003 United States;X-APPLE-RADIUS=500;X-TITLE=2733 E Main St:geo:-119.2593404,34.2736226
END:VEVENT
BEGIN:VEVENT
DTSTART;TZID=America/Los_Angeles:20300926T170000
DTEND;TZID=America/Los_Angeles:20300926T190000
DTSTAMP:20260423T040308
CREATED:20260402T160954Z
LAST-MODIFIED:20260402T160954Z
UID:10004257-1916672400-1916679600@thegrapeventura.com
SUMMARY:Happy Hour with Collins & Rollins Quartet
DESCRIPTION:barside \nNo cover \nKent Rollins – piano \nTom Collins – guitar
URL:https://thegrapeventura.com/event/happy-hour-with-collins-rollins-quartet-4/2030-09-26/
LOCATION:The Grape\, 2733 E Main St\, Ventura\, CA\, 93003\, United States
ATTACH;FMTTYPE=image/webp:https://thegrapeventura.com/wp-content/uploads/2026/01/tom-collins-guitar.webp
GEO:34.2736226;-119.2593404
X-APPLE-STRUCTURED-LOCATION;VALUE=URI;X-ADDRESS=The Grape 2733 E Main St Ventura CA 93003 United States;X-APPLE-RADIUS=500;X-TITLE=2733 E Main St:geo:-119.2593404,34.2736226
END:VEVENT
BEGIN:VEVENT
DTSTART;TZID=America/Los_Angeles:20300927T170000
DTEND;TZID=America/Los_Angeles:20300927T190000
DTSTAMP:20260423T040308
CREATED:20260404T165009Z
LAST-MODIFIED:20260404T165009Z
UID:10004524-1916758800-1916766000@thegrapeventura.com
SUMMARY:Happy Hour with The Fred Kaplan Trio
DESCRIPTION:West Coast Swing and Boogie Woogie Blues with Fred Kaplan and friends \nEvery Friday in the bar side Happy Hour 5-7pm. \nno cover
URL:https://thegrapeventura.com/event/happy-hour-with-the-fred-kaplan-trio-3/2030-09-27/
LOCATION:The Grape\, 2733 E Main St\, Ventura\, CA\, 93003\, United States
ATTACH;FMTTYPE=image/jpeg:https://thegrapeventura.com/wp-content/uploads/2025/05/20220308_233231_318.jpg
GEO:34.2736226;-119.2593404
X-APPLE-STRUCTURED-LOCATION;VALUE=URI;X-ADDRESS=The Grape 2733 E Main St Ventura CA 93003 United States;X-APPLE-RADIUS=500;X-TITLE=2733 E Main St:geo:-119.2593404,34.2736226
END:VEVENT
BEGIN:VEVENT
DTSTART;TZID=America/Los_Angeles:20301001T170000
DTEND;TZID=America/Los_Angeles:20301001T190000
DTSTAMP:20260423T040308
CREATED:20260323T180733Z
LAST-MODIFIED:20260323T180733Z
UID:10003986-1917104400-1917111600@thegrapeventura.com
SUMMARY:Happy Hour w/ Monte Montgomery & Friends
DESCRIPTION:no cover\nbar side \nHappy Hour with multi-instrumentalist and vocalist\, Monte Montgomery and special guests
URL:https://thegrapeventura.com/event/happy-hour-w-monte-montgomery-friends-6/2030-10-01/
LOCATION:The Grape\, 2733 E Main St\, Ventura\, CA\, 93003\, United States
ATTACH;FMTTYPE=image/webp:https://thegrapeventura.com/wp-content/uploads/2026/02/monte_montgomery.webp
GEO:34.2736226;-119.2593404
X-APPLE-STRUCTURED-LOCATION;VALUE=URI;X-ADDRESS=The Grape 2733 E Main St Ventura CA 93003 United States;X-APPLE-RADIUS=500;X-TITLE=2733 E Main St:geo:-119.2593404,34.2736226
END:VEVENT
END:VCALENDAR