BEGIN:VCALENDAR
VERSION:2.0
PRODID:-//The Grape Ventura - ECPv6.15.20//NONSGML v1.0//EN
CALSCALE:GREGORIAN
METHOD:PUBLISH
X-ORIGINAL-URL:https://thegrapeventura.com
X-WR-CALDESC:Events for The Grape Ventura
REFRESH-INTERVAL;VALUE=DURATION:PT1H
X-Robots-Tag:noindex
X-PUBLISHED-TTL:PT1H
BEGIN:VTIMEZONE
TZID:America/Los_Angeles
BEGIN:DAYLIGHT
TZOFFSETFROM:-0800
TZOFFSETTO:-0700
TZNAME:PDT
DTSTART:20290311T100000
END:DAYLIGHT
BEGIN:STANDARD
TZOFFSETFROM:-0700
TZOFFSETTO:-0800
TZNAME:PST
DTSTART:20291104T090000
END:STANDARD
BEGIN:DAYLIGHT
TZOFFSETFROM:-0800
TZOFFSETTO:-0700
TZNAME:PDT
DTSTART:20300310T100000
END:DAYLIGHT
BEGIN:STANDARD
TZOFFSETFROM:-0700
TZOFFSETTO:-0800
TZNAME:PST
DTSTART:20301103T090000
END:STANDARD
BEGIN:DAYLIGHT
TZOFFSETFROM:-0800
TZOFFSETTO:-0700
TZNAME:PDT
DTSTART:20310309T100000
END:DAYLIGHT
BEGIN:STANDARD
TZOFFSETFROM:-0700
TZOFFSETTO:-0800
TZNAME:PST
DTSTART:20311102T090000
END:STANDARD
END:VTIMEZONE
BEGIN:VEVENT
DTSTART;TZID=America/Los_Angeles:20300606T170000
DTEND;TZID=America/Los_Angeles:20300606T190000
DTSTAMP:20260421T021148
CREATED:20260402T160954Z
LAST-MODIFIED:20260402T160954Z
UID:10004241-1906995600-1907002800@thegrapeventura.com
SUMMARY:Happy Hour with Collins & Rollins Quartet
DESCRIPTION:barside \nNo cover \nKent Rollins – piano \nTom Collins – guitar
URL:https://thegrapeventura.com/event/happy-hour-with-collins-rollins-quartet-4/2030-06-06/
LOCATION:The Grape\, 2733 E Main St\, Ventura\, CA\, 93003\, United States
ATTACH;FMTTYPE=image/webp:https://thegrapeventura.com/wp-content/uploads/2026/01/tom-collins-guitar.webp
GEO:34.2736226;-119.2593404
X-APPLE-STRUCTURED-LOCATION;VALUE=URI;X-ADDRESS=The Grape 2733 E Main St Ventura CA 93003 United States;X-APPLE-RADIUS=500;X-TITLE=2733 E Main St:geo:-119.2593404,34.2736226
END:VEVENT
BEGIN:VEVENT
DTSTART;TZID=America/Los_Angeles:20300607T170000
DTEND;TZID=America/Los_Angeles:20300607T190000
DTSTAMP:20260421T021148
CREATED:20260404T165009Z
LAST-MODIFIED:20260404T165009Z
UID:10004508-1907082000-1907089200@thegrapeventura.com
SUMMARY:Happy Hour with The Fred Kaplan Trio
DESCRIPTION:West Coast Swing and Boogie Woogie Blues with Fred Kaplan and friends \nEvery Friday in the bar side Happy Hour 5-7pm. \nno cover
URL:https://thegrapeventura.com/event/happy-hour-with-the-fred-kaplan-trio-3/2030-06-07/
LOCATION:The Grape\, 2733 E Main St\, Ventura\, CA\, 93003\, United States
ATTACH;FMTTYPE=image/jpeg:https://thegrapeventura.com/wp-content/uploads/2025/05/20220308_233231_318.jpg
GEO:34.2736226;-119.2593404
X-APPLE-STRUCTURED-LOCATION;VALUE=URI;X-ADDRESS=The Grape 2733 E Main St Ventura CA 93003 United States;X-APPLE-RADIUS=500;X-TITLE=2733 E Main St:geo:-119.2593404,34.2736226
END:VEVENT
BEGIN:VEVENT
DTSTART;TZID=America/Los_Angeles:20300611T170000
DTEND;TZID=America/Los_Angeles:20300611T190000
DTSTAMP:20260421T021148
CREATED:20260323T180733Z
LAST-MODIFIED:20260323T180733Z
UID:10003970-1907427600-1907434800@thegrapeventura.com
SUMMARY:Happy Hour w/ Monte Montgomery & Friends
DESCRIPTION:no cover\nbar side \nHappy Hour with multi-instrumentalist and vocalist\, Monte Montgomery and special guests
URL:https://thegrapeventura.com/event/happy-hour-w-monte-montgomery-friends-6/2030-06-11/
LOCATION:The Grape\, 2733 E Main St\, Ventura\, CA\, 93003\, United States
ATTACH;FMTTYPE=image/webp:https://thegrapeventura.com/wp-content/uploads/2026/02/monte_montgomery.webp
GEO:34.2736226;-119.2593404
X-APPLE-STRUCTURED-LOCATION;VALUE=URI;X-ADDRESS=The Grape 2733 E Main St Ventura CA 93003 United States;X-APPLE-RADIUS=500;X-TITLE=2733 E Main St:geo:-119.2593404,34.2736226
END:VEVENT
BEGIN:VEVENT
DTSTART;TZID=America/Los_Angeles:20300613T170000
DTEND;TZID=America/Los_Angeles:20300613T190000
DTSTAMP:20260421T021148
CREATED:20260402T160954Z
LAST-MODIFIED:20260402T160954Z
UID:10004242-1907600400-1907607600@thegrapeventura.com
SUMMARY:Happy Hour with Collins & Rollins Quartet
DESCRIPTION:barside \nNo cover \nKent Rollins – piano \nTom Collins – guitar
URL:https://thegrapeventura.com/event/happy-hour-with-collins-rollins-quartet-4/2030-06-13/
LOCATION:The Grape\, 2733 E Main St\, Ventura\, CA\, 93003\, United States
ATTACH;FMTTYPE=image/webp:https://thegrapeventura.com/wp-content/uploads/2026/01/tom-collins-guitar.webp
GEO:34.2736226;-119.2593404
X-APPLE-STRUCTURED-LOCATION;VALUE=URI;X-ADDRESS=The Grape 2733 E Main St Ventura CA 93003 United States;X-APPLE-RADIUS=500;X-TITLE=2733 E Main St:geo:-119.2593404,34.2736226
END:VEVENT
BEGIN:VEVENT
DTSTART;TZID=America/Los_Angeles:20300614T170000
DTEND;TZID=America/Los_Angeles:20300614T190000
DTSTAMP:20260421T021148
CREATED:20260404T165009Z
LAST-MODIFIED:20260404T165009Z
UID:10004509-1907686800-1907694000@thegrapeventura.com
SUMMARY:Happy Hour with The Fred Kaplan Trio
DESCRIPTION:West Coast Swing and Boogie Woogie Blues with Fred Kaplan and friends \nEvery Friday in the bar side Happy Hour 5-7pm. \nno cover
URL:https://thegrapeventura.com/event/happy-hour-with-the-fred-kaplan-trio-3/2030-06-14/
LOCATION:The Grape\, 2733 E Main St\, Ventura\, CA\, 93003\, United States
ATTACH;FMTTYPE=image/jpeg:https://thegrapeventura.com/wp-content/uploads/2025/05/20220308_233231_318.jpg
GEO:34.2736226;-119.2593404
X-APPLE-STRUCTURED-LOCATION;VALUE=URI;X-ADDRESS=The Grape 2733 E Main St Ventura CA 93003 United States;X-APPLE-RADIUS=500;X-TITLE=2733 E Main St:geo:-119.2593404,34.2736226
END:VEVENT
BEGIN:VEVENT
DTSTART;TZID=America/Los_Angeles:20300618T170000
DTEND;TZID=America/Los_Angeles:20300618T190000
DTSTAMP:20260421T021148
CREATED:20260323T180733Z
LAST-MODIFIED:20260323T180733Z
UID:10003971-1908032400-1908039600@thegrapeventura.com
SUMMARY:Happy Hour w/ Monte Montgomery & Friends
DESCRIPTION:no cover\nbar side \nHappy Hour with multi-instrumentalist and vocalist\, Monte Montgomery and special guests
URL:https://thegrapeventura.com/event/happy-hour-w-monte-montgomery-friends-6/2030-06-18/
LOCATION:The Grape\, 2733 E Main St\, Ventura\, CA\, 93003\, United States
ATTACH;FMTTYPE=image/webp:https://thegrapeventura.com/wp-content/uploads/2026/02/monte_montgomery.webp
GEO:34.2736226;-119.2593404
X-APPLE-STRUCTURED-LOCATION;VALUE=URI;X-ADDRESS=The Grape 2733 E Main St Ventura CA 93003 United States;X-APPLE-RADIUS=500;X-TITLE=2733 E Main St:geo:-119.2593404,34.2736226
END:VEVENT
BEGIN:VEVENT
DTSTART;TZID=America/Los_Angeles:20300620T170000
DTEND;TZID=America/Los_Angeles:20300620T190000
DTSTAMP:20260421T021148
CREATED:20260402T160954Z
LAST-MODIFIED:20260402T160954Z
UID:10004243-1908205200-1908212400@thegrapeventura.com
SUMMARY:Happy Hour with Collins & Rollins Quartet
DESCRIPTION:barside \nNo cover \nKent Rollins – piano \nTom Collins – guitar
URL:https://thegrapeventura.com/event/happy-hour-with-collins-rollins-quartet-4/2030-06-20/
LOCATION:The Grape\, 2733 E Main St\, Ventura\, CA\, 93003\, United States
ATTACH;FMTTYPE=image/webp:https://thegrapeventura.com/wp-content/uploads/2026/01/tom-collins-guitar.webp
GEO:34.2736226;-119.2593404
X-APPLE-STRUCTURED-LOCATION;VALUE=URI;X-ADDRESS=The Grape 2733 E Main St Ventura CA 93003 United States;X-APPLE-RADIUS=500;X-TITLE=2733 E Main St:geo:-119.2593404,34.2736226
END:VEVENT
BEGIN:VEVENT
DTSTART;TZID=America/Los_Angeles:20300621T170000
DTEND;TZID=America/Los_Angeles:20300621T190000
DTSTAMP:20260421T021148
CREATED:20260404T165009Z
LAST-MODIFIED:20260404T165009Z
UID:10004510-1908291600-1908298800@thegrapeventura.com
SUMMARY:Happy Hour with The Fred Kaplan Trio
DESCRIPTION:West Coast Swing and Boogie Woogie Blues with Fred Kaplan and friends \nEvery Friday in the bar side Happy Hour 5-7pm. \nno cover
URL:https://thegrapeventura.com/event/happy-hour-with-the-fred-kaplan-trio-3/2030-06-21/
LOCATION:The Grape\, 2733 E Main St\, Ventura\, CA\, 93003\, United States
ATTACH;FMTTYPE=image/jpeg:https://thegrapeventura.com/wp-content/uploads/2025/05/20220308_233231_318.jpg
GEO:34.2736226;-119.2593404
X-APPLE-STRUCTURED-LOCATION;VALUE=URI;X-ADDRESS=The Grape 2733 E Main St Ventura CA 93003 United States;X-APPLE-RADIUS=500;X-TITLE=2733 E Main St:geo:-119.2593404,34.2736226
END:VEVENT
BEGIN:VEVENT
DTSTART;TZID=America/Los_Angeles:20300625T170000
DTEND;TZID=America/Los_Angeles:20300625T190000
DTSTAMP:20260421T021148
CREATED:20260323T180733Z
LAST-MODIFIED:20260323T180733Z
UID:10003972-1908637200-1908644400@thegrapeventura.com
SUMMARY:Happy Hour w/ Monte Montgomery & Friends
DESCRIPTION:no cover\nbar side \nHappy Hour with multi-instrumentalist and vocalist\, Monte Montgomery and special guests
URL:https://thegrapeventura.com/event/happy-hour-w-monte-montgomery-friends-6/2030-06-25/
LOCATION:The Grape\, 2733 E Main St\, Ventura\, CA\, 93003\, United States
ATTACH;FMTTYPE=image/webp:https://thegrapeventura.com/wp-content/uploads/2026/02/monte_montgomery.webp
GEO:34.2736226;-119.2593404
X-APPLE-STRUCTURED-LOCATION;VALUE=URI;X-ADDRESS=The Grape 2733 E Main St Ventura CA 93003 United States;X-APPLE-RADIUS=500;X-TITLE=2733 E Main St:geo:-119.2593404,34.2736226
END:VEVENT
BEGIN:VEVENT
DTSTART;TZID=America/Los_Angeles:20300627T170000
DTEND;TZID=America/Los_Angeles:20300627T190000
DTSTAMP:20260421T021148
CREATED:20260402T160954Z
LAST-MODIFIED:20260402T160954Z
UID:10004244-1908810000-1908817200@thegrapeventura.com
SUMMARY:Happy Hour with Collins & Rollins Quartet
DESCRIPTION:barside \nNo cover \nKent Rollins – piano \nTom Collins – guitar
URL:https://thegrapeventura.com/event/happy-hour-with-collins-rollins-quartet-4/2030-06-27/
LOCATION:The Grape\, 2733 E Main St\, Ventura\, CA\, 93003\, United States
ATTACH;FMTTYPE=image/webp:https://thegrapeventura.com/wp-content/uploads/2026/01/tom-collins-guitar.webp
GEO:34.2736226;-119.2593404
X-APPLE-STRUCTURED-LOCATION;VALUE=URI;X-ADDRESS=The Grape 2733 E Main St Ventura CA 93003 United States;X-APPLE-RADIUS=500;X-TITLE=2733 E Main St:geo:-119.2593404,34.2736226
END:VEVENT
BEGIN:VEVENT
DTSTART;TZID=America/Los_Angeles:20300628T170000
DTEND;TZID=America/Los_Angeles:20300628T190000
DTSTAMP:20260421T021148
CREATED:20260404T165009Z
LAST-MODIFIED:20260404T165009Z
UID:10004511-1908896400-1908903600@thegrapeventura.com
SUMMARY:Happy Hour with The Fred Kaplan Trio
DESCRIPTION:West Coast Swing and Boogie Woogie Blues with Fred Kaplan and friends \nEvery Friday in the bar side Happy Hour 5-7pm. \nno cover
URL:https://thegrapeventura.com/event/happy-hour-with-the-fred-kaplan-trio-3/2030-06-28/
LOCATION:The Grape\, 2733 E Main St\, Ventura\, CA\, 93003\, United States
ATTACH;FMTTYPE=image/jpeg:https://thegrapeventura.com/wp-content/uploads/2025/05/20220308_233231_318.jpg
GEO:34.2736226;-119.2593404
X-APPLE-STRUCTURED-LOCATION;VALUE=URI;X-ADDRESS=The Grape 2733 E Main St Ventura CA 93003 United States;X-APPLE-RADIUS=500;X-TITLE=2733 E Main St:geo:-119.2593404,34.2736226
END:VEVENT
BEGIN:VEVENT
DTSTART;TZID=America/Los_Angeles:20300702T170000
DTEND;TZID=America/Los_Angeles:20300702T190000
DTSTAMP:20260421T021148
CREATED:20260323T180733Z
LAST-MODIFIED:20260323T180733Z
UID:10003973-1909242000-1909249200@thegrapeventura.com
SUMMARY:Happy Hour w/ Monte Montgomery & Friends
DESCRIPTION:no cover\nbar side \nHappy Hour with multi-instrumentalist and vocalist\, Monte Montgomery and special guests
URL:https://thegrapeventura.com/event/happy-hour-w-monte-montgomery-friends-6/2030-07-02/
LOCATION:The Grape\, 2733 E Main St\, Ventura\, CA\, 93003\, United States
ATTACH;FMTTYPE=image/webp:https://thegrapeventura.com/wp-content/uploads/2026/02/monte_montgomery.webp
GEO:34.2736226;-119.2593404
X-APPLE-STRUCTURED-LOCATION;VALUE=URI;X-ADDRESS=The Grape 2733 E Main St Ventura CA 93003 United States;X-APPLE-RADIUS=500;X-TITLE=2733 E Main St:geo:-119.2593404,34.2736226
END:VEVENT
BEGIN:VEVENT
DTSTART;TZID=America/Los_Angeles:20300703T190000
DTEND;TZID=America/Los_Angeles:20300703T220000
DTSTAMP:20260421T021148
CREATED:20260417T043530Z
LAST-MODIFIED:20260417T220919Z
UID:10004616-1909335600-1909346400@thegrapeventura.com
SUMMARY:RJ Mischo's 1st Wednesday Blues Showcase
DESCRIPTION:$10 cover \nRJ Mischo’s monthly “First Wednesday” Blues Showcase\, featuring an all-star lineup of blues musicians.
URL:https://thegrapeventura.com/event/electric-blues-trio/2030-07-03/
LOCATION:The Grape\, 2733 E Main St\, Ventura\, CA\, 93003\, United States
ATTACH;FMTTYPE=image/png:https://thegrapeventura.com/wp-content/uploads/2022/11/RJ-Mischo-2014-e1761260796209.png
GEO:34.2736226;-119.2593404
X-APPLE-STRUCTURED-LOCATION;VALUE=URI;X-ADDRESS=The Grape 2733 E Main St Ventura CA 93003 United States;X-APPLE-RADIUS=500;X-TITLE=2733 E Main St:geo:-119.2593404,34.2736226
END:VEVENT
BEGIN:VEVENT
DTSTART;TZID=America/Los_Angeles:20300704T170000
DTEND;TZID=America/Los_Angeles:20300704T190000
DTSTAMP:20260421T021148
CREATED:20260402T160954Z
LAST-MODIFIED:20260402T160954Z
UID:10004245-1909414800-1909422000@thegrapeventura.com
SUMMARY:Happy Hour with Collins & Rollins Quartet
DESCRIPTION:barside \nNo cover \nKent Rollins – piano \nTom Collins – guitar
URL:https://thegrapeventura.com/event/happy-hour-with-collins-rollins-quartet-4/2030-07-04/
LOCATION:The Grape\, 2733 E Main St\, Ventura\, CA\, 93003\, United States
ATTACH;FMTTYPE=image/webp:https://thegrapeventura.com/wp-content/uploads/2026/01/tom-collins-guitar.webp
GEO:34.2736226;-119.2593404
X-APPLE-STRUCTURED-LOCATION;VALUE=URI;X-ADDRESS=The Grape 2733 E Main St Ventura CA 93003 United States;X-APPLE-RADIUS=500;X-TITLE=2733 E Main St:geo:-119.2593404,34.2736226
END:VEVENT
BEGIN:VEVENT
DTSTART;TZID=America/Los_Angeles:20300705T170000
DTEND;TZID=America/Los_Angeles:20300705T190000
DTSTAMP:20260421T021148
CREATED:20260404T165009Z
LAST-MODIFIED:20260404T165009Z
UID:10004512-1909501200-1909508400@thegrapeventura.com
SUMMARY:Happy Hour with The Fred Kaplan Trio
DESCRIPTION:West Coast Swing and Boogie Woogie Blues with Fred Kaplan and friends \nEvery Friday in the bar side Happy Hour 5-7pm. \nno cover
URL:https://thegrapeventura.com/event/happy-hour-with-the-fred-kaplan-trio-3/2030-07-05/
LOCATION:The Grape\, 2733 E Main St\, Ventura\, CA\, 93003\, United States
ATTACH;FMTTYPE=image/jpeg:https://thegrapeventura.com/wp-content/uploads/2025/05/20220308_233231_318.jpg
GEO:34.2736226;-119.2593404
X-APPLE-STRUCTURED-LOCATION;VALUE=URI;X-ADDRESS=The Grape 2733 E Main St Ventura CA 93003 United States;X-APPLE-RADIUS=500;X-TITLE=2733 E Main St:geo:-119.2593404,34.2736226
END:VEVENT
BEGIN:VEVENT
DTSTART;TZID=America/Los_Angeles:20300709T170000
DTEND;TZID=America/Los_Angeles:20300709T190000
DTSTAMP:20260421T021148
CREATED:20260323T180733Z
LAST-MODIFIED:20260323T180733Z
UID:10003974-1909846800-1909854000@thegrapeventura.com
SUMMARY:Happy Hour w/ Monte Montgomery & Friends
DESCRIPTION:no cover\nbar side \nHappy Hour with multi-instrumentalist and vocalist\, Monte Montgomery and special guests
URL:https://thegrapeventura.com/event/happy-hour-w-monte-montgomery-friends-6/2030-07-09/
LOCATION:The Grape\, 2733 E Main St\, Ventura\, CA\, 93003\, United States
ATTACH;FMTTYPE=image/webp:https://thegrapeventura.com/wp-content/uploads/2026/02/monte_montgomery.webp
GEO:34.2736226;-119.2593404
X-APPLE-STRUCTURED-LOCATION;VALUE=URI;X-ADDRESS=The Grape 2733 E Main St Ventura CA 93003 United States;X-APPLE-RADIUS=500;X-TITLE=2733 E Main St:geo:-119.2593404,34.2736226
END:VEVENT
BEGIN:VEVENT
DTSTART;TZID=America/Los_Angeles:20300711T170000
DTEND;TZID=America/Los_Angeles:20300711T190000
DTSTAMP:20260421T021148
CREATED:20260402T160954Z
LAST-MODIFIED:20260402T160954Z
UID:10004246-1910019600-1910026800@thegrapeventura.com
SUMMARY:Happy Hour with Collins & Rollins Quartet
DESCRIPTION:barside \nNo cover \nKent Rollins – piano \nTom Collins – guitar
URL:https://thegrapeventura.com/event/happy-hour-with-collins-rollins-quartet-4/2030-07-11/
LOCATION:The Grape\, 2733 E Main St\, Ventura\, CA\, 93003\, United States
ATTACH;FMTTYPE=image/webp:https://thegrapeventura.com/wp-content/uploads/2026/01/tom-collins-guitar.webp
GEO:34.2736226;-119.2593404
X-APPLE-STRUCTURED-LOCATION;VALUE=URI;X-ADDRESS=The Grape 2733 E Main St Ventura CA 93003 United States;X-APPLE-RADIUS=500;X-TITLE=2733 E Main St:geo:-119.2593404,34.2736226
END:VEVENT
BEGIN:VEVENT
DTSTART;TZID=America/Los_Angeles:20300712T170000
DTEND;TZID=America/Los_Angeles:20300712T190000
DTSTAMP:20260421T021148
CREATED:20260404T165009Z
LAST-MODIFIED:20260404T165009Z
UID:10004513-1910106000-1910113200@thegrapeventura.com
SUMMARY:Happy Hour with The Fred Kaplan Trio
DESCRIPTION:West Coast Swing and Boogie Woogie Blues with Fred Kaplan and friends \nEvery Friday in the bar side Happy Hour 5-7pm. \nno cover
URL:https://thegrapeventura.com/event/happy-hour-with-the-fred-kaplan-trio-3/2030-07-12/
LOCATION:The Grape\, 2733 E Main St\, Ventura\, CA\, 93003\, United States
ATTACH;FMTTYPE=image/jpeg:https://thegrapeventura.com/wp-content/uploads/2025/05/20220308_233231_318.jpg
GEO:34.2736226;-119.2593404
X-APPLE-STRUCTURED-LOCATION;VALUE=URI;X-ADDRESS=The Grape 2733 E Main St Ventura CA 93003 United States;X-APPLE-RADIUS=500;X-TITLE=2733 E Main St:geo:-119.2593404,34.2736226
END:VEVENT
BEGIN:VEVENT
DTSTART;TZID=America/Los_Angeles:20300716T170000
DTEND;TZID=America/Los_Angeles:20300716T190000
DTSTAMP:20260421T021148
CREATED:20260323T180733Z
LAST-MODIFIED:20260323T180733Z
UID:10003975-1910451600-1910458800@thegrapeventura.com
SUMMARY:Happy Hour w/ Monte Montgomery & Friends
DESCRIPTION:no cover\nbar side \nHappy Hour with multi-instrumentalist and vocalist\, Monte Montgomery and special guests
URL:https://thegrapeventura.com/event/happy-hour-w-monte-montgomery-friends-6/2030-07-16/
LOCATION:The Grape\, 2733 E Main St\, Ventura\, CA\, 93003\, United States
ATTACH;FMTTYPE=image/webp:https://thegrapeventura.com/wp-content/uploads/2026/02/monte_montgomery.webp
GEO:34.2736226;-119.2593404
X-APPLE-STRUCTURED-LOCATION;VALUE=URI;X-ADDRESS=The Grape 2733 E Main St Ventura CA 93003 United States;X-APPLE-RADIUS=500;X-TITLE=2733 E Main St:geo:-119.2593404,34.2736226
END:VEVENT
BEGIN:VEVENT
DTSTART;TZID=America/Los_Angeles:20300718T170000
DTEND;TZID=America/Los_Angeles:20300718T190000
DTSTAMP:20260421T021148
CREATED:20260402T160954Z
LAST-MODIFIED:20260402T160954Z
UID:10004247-1910624400-1910631600@thegrapeventura.com
SUMMARY:Happy Hour with Collins & Rollins Quartet
DESCRIPTION:barside \nNo cover \nKent Rollins – piano \nTom Collins – guitar
URL:https://thegrapeventura.com/event/happy-hour-with-collins-rollins-quartet-4/2030-07-18/
LOCATION:The Grape\, 2733 E Main St\, Ventura\, CA\, 93003\, United States
ATTACH;FMTTYPE=image/webp:https://thegrapeventura.com/wp-content/uploads/2026/01/tom-collins-guitar.webp
GEO:34.2736226;-119.2593404
X-APPLE-STRUCTURED-LOCATION;VALUE=URI;X-ADDRESS=The Grape 2733 E Main St Ventura CA 93003 United States;X-APPLE-RADIUS=500;X-TITLE=2733 E Main St:geo:-119.2593404,34.2736226
END:VEVENT
BEGIN:VEVENT
DTSTART;TZID=America/Los_Angeles:20300719T170000
DTEND;TZID=America/Los_Angeles:20300719T190000
DTSTAMP:20260421T021148
CREATED:20260404T165009Z
LAST-MODIFIED:20260404T165009Z
UID:10004514-1910710800-1910718000@thegrapeventura.com
SUMMARY:Happy Hour with The Fred Kaplan Trio
DESCRIPTION:West Coast Swing and Boogie Woogie Blues with Fred Kaplan and friends \nEvery Friday in the bar side Happy Hour 5-7pm. \nno cover
URL:https://thegrapeventura.com/event/happy-hour-with-the-fred-kaplan-trio-3/2030-07-19/
LOCATION:The Grape\, 2733 E Main St\, Ventura\, CA\, 93003\, United States
ATTACH;FMTTYPE=image/jpeg:https://thegrapeventura.com/wp-content/uploads/2025/05/20220308_233231_318.jpg
GEO:34.2736226;-119.2593404
X-APPLE-STRUCTURED-LOCATION;VALUE=URI;X-ADDRESS=The Grape 2733 E Main St Ventura CA 93003 United States;X-APPLE-RADIUS=500;X-TITLE=2733 E Main St:geo:-119.2593404,34.2736226
END:VEVENT
BEGIN:VEVENT
DTSTART;TZID=America/Los_Angeles:20300723T170000
DTEND;TZID=America/Los_Angeles:20300723T190000
DTSTAMP:20260421T021148
CREATED:20260323T180733Z
LAST-MODIFIED:20260323T180733Z
UID:10003976-1911056400-1911063600@thegrapeventura.com
SUMMARY:Happy Hour w/ Monte Montgomery & Friends
DESCRIPTION:no cover\nbar side \nHappy Hour with multi-instrumentalist and vocalist\, Monte Montgomery and special guests
URL:https://thegrapeventura.com/event/happy-hour-w-monte-montgomery-friends-6/2030-07-23/
LOCATION:The Grape\, 2733 E Main St\, Ventura\, CA\, 93003\, United States
ATTACH;FMTTYPE=image/webp:https://thegrapeventura.com/wp-content/uploads/2026/02/monte_montgomery.webp
GEO:34.2736226;-119.2593404
X-APPLE-STRUCTURED-LOCATION;VALUE=URI;X-ADDRESS=The Grape 2733 E Main St Ventura CA 93003 United States;X-APPLE-RADIUS=500;X-TITLE=2733 E Main St:geo:-119.2593404,34.2736226
END:VEVENT
BEGIN:VEVENT
DTSTART;TZID=America/Los_Angeles:20300725T170000
DTEND;TZID=America/Los_Angeles:20300725T190000
DTSTAMP:20260421T021148
CREATED:20260402T160954Z
LAST-MODIFIED:20260402T160954Z
UID:10004248-1911229200-1911236400@thegrapeventura.com
SUMMARY:Happy Hour with Collins & Rollins Quartet
DESCRIPTION:barside \nNo cover \nKent Rollins – piano \nTom Collins – guitar
URL:https://thegrapeventura.com/event/happy-hour-with-collins-rollins-quartet-4/2030-07-25/
LOCATION:The Grape\, 2733 E Main St\, Ventura\, CA\, 93003\, United States
ATTACH;FMTTYPE=image/webp:https://thegrapeventura.com/wp-content/uploads/2026/01/tom-collins-guitar.webp
GEO:34.2736226;-119.2593404
X-APPLE-STRUCTURED-LOCATION;VALUE=URI;X-ADDRESS=The Grape 2733 E Main St Ventura CA 93003 United States;X-APPLE-RADIUS=500;X-TITLE=2733 E Main St:geo:-119.2593404,34.2736226
END:VEVENT
BEGIN:VEVENT
DTSTART;TZID=America/Los_Angeles:20300726T170000
DTEND;TZID=America/Los_Angeles:20300726T190000
DTSTAMP:20260421T021148
CREATED:20260404T165009Z
LAST-MODIFIED:20260404T165009Z
UID:10004515-1911315600-1911322800@thegrapeventura.com
SUMMARY:Happy Hour with The Fred Kaplan Trio
DESCRIPTION:West Coast Swing and Boogie Woogie Blues with Fred Kaplan and friends \nEvery Friday in the bar side Happy Hour 5-7pm. \nno cover
URL:https://thegrapeventura.com/event/happy-hour-with-the-fred-kaplan-trio-3/2030-07-26/
LOCATION:The Grape\, 2733 E Main St\, Ventura\, CA\, 93003\, United States
ATTACH;FMTTYPE=image/jpeg:https://thegrapeventura.com/wp-content/uploads/2025/05/20220308_233231_318.jpg
GEO:34.2736226;-119.2593404
X-APPLE-STRUCTURED-LOCATION;VALUE=URI;X-ADDRESS=The Grape 2733 E Main St Ventura CA 93003 United States;X-APPLE-RADIUS=500;X-TITLE=2733 E Main St:geo:-119.2593404,34.2736226
END:VEVENT
BEGIN:VEVENT
DTSTART;TZID=America/Los_Angeles:20300730T170000
DTEND;TZID=America/Los_Angeles:20300730T190000
DTSTAMP:20260421T021148
CREATED:20260323T180733Z
LAST-MODIFIED:20260323T180733Z
UID:10003977-1911661200-1911668400@thegrapeventura.com
SUMMARY:Happy Hour w/ Monte Montgomery & Friends
DESCRIPTION:no cover\nbar side \nHappy Hour with multi-instrumentalist and vocalist\, Monte Montgomery and special guests
URL:https://thegrapeventura.com/event/happy-hour-w-monte-montgomery-friends-6/2030-07-30/
LOCATION:The Grape\, 2733 E Main St\, Ventura\, CA\, 93003\, United States
ATTACH;FMTTYPE=image/webp:https://thegrapeventura.com/wp-content/uploads/2026/02/monte_montgomery.webp
GEO:34.2736226;-119.2593404
X-APPLE-STRUCTURED-LOCATION;VALUE=URI;X-ADDRESS=The Grape 2733 E Main St Ventura CA 93003 United States;X-APPLE-RADIUS=500;X-TITLE=2733 E Main St:geo:-119.2593404,34.2736226
END:VEVENT
BEGIN:VEVENT
DTSTART;TZID=America/Los_Angeles:20300801T170000
DTEND;TZID=America/Los_Angeles:20300801T190000
DTSTAMP:20260421T021148
CREATED:20260402T160954Z
LAST-MODIFIED:20260402T160954Z
UID:10004249-1911834000-1911841200@thegrapeventura.com
SUMMARY:Happy Hour with Collins & Rollins Quartet
DESCRIPTION:barside \nNo cover \nKent Rollins – piano \nTom Collins – guitar
URL:https://thegrapeventura.com/event/happy-hour-with-collins-rollins-quartet-4/2030-08-01/
LOCATION:The Grape\, 2733 E Main St\, Ventura\, CA\, 93003\, United States
ATTACH;FMTTYPE=image/webp:https://thegrapeventura.com/wp-content/uploads/2026/01/tom-collins-guitar.webp
GEO:34.2736226;-119.2593404
X-APPLE-STRUCTURED-LOCATION;VALUE=URI;X-ADDRESS=The Grape 2733 E Main St Ventura CA 93003 United States;X-APPLE-RADIUS=500;X-TITLE=2733 E Main St:geo:-119.2593404,34.2736226
END:VEVENT
BEGIN:VEVENT
DTSTART;TZID=America/Los_Angeles:20300802T170000
DTEND;TZID=America/Los_Angeles:20300802T190000
DTSTAMP:20260421T021148
CREATED:20260404T165009Z
LAST-MODIFIED:20260404T165009Z
UID:10004516-1911920400-1911927600@thegrapeventura.com
SUMMARY:Happy Hour with The Fred Kaplan Trio
DESCRIPTION:West Coast Swing and Boogie Woogie Blues with Fred Kaplan and friends \nEvery Friday in the bar side Happy Hour 5-7pm. \nno cover
URL:https://thegrapeventura.com/event/happy-hour-with-the-fred-kaplan-trio-3/2030-08-02/
LOCATION:The Grape\, 2733 E Main St\, Ventura\, CA\, 93003\, United States
ATTACH;FMTTYPE=image/jpeg:https://thegrapeventura.com/wp-content/uploads/2025/05/20220308_233231_318.jpg
GEO:34.2736226;-119.2593404
X-APPLE-STRUCTURED-LOCATION;VALUE=URI;X-ADDRESS=The Grape 2733 E Main St Ventura CA 93003 United States;X-APPLE-RADIUS=500;X-TITLE=2733 E Main St:geo:-119.2593404,34.2736226
END:VEVENT
BEGIN:VEVENT
DTSTART;TZID=America/Los_Angeles:20300806T170000
DTEND;TZID=America/Los_Angeles:20300806T190000
DTSTAMP:20260421T021148
CREATED:20260323T180733Z
LAST-MODIFIED:20260323T180733Z
UID:10003978-1912266000-1912273200@thegrapeventura.com
SUMMARY:Happy Hour w/ Monte Montgomery & Friends
DESCRIPTION:no cover\nbar side \nHappy Hour with multi-instrumentalist and vocalist\, Monte Montgomery and special guests
URL:https://thegrapeventura.com/event/happy-hour-w-monte-montgomery-friends-6/2030-08-06/
LOCATION:The Grape\, 2733 E Main St\, Ventura\, CA\, 93003\, United States
ATTACH;FMTTYPE=image/webp:https://thegrapeventura.com/wp-content/uploads/2026/02/monte_montgomery.webp
GEO:34.2736226;-119.2593404
X-APPLE-STRUCTURED-LOCATION;VALUE=URI;X-ADDRESS=The Grape 2733 E Main St Ventura CA 93003 United States;X-APPLE-RADIUS=500;X-TITLE=2733 E Main St:geo:-119.2593404,34.2736226
END:VEVENT
BEGIN:VEVENT
DTSTART;TZID=America/Los_Angeles:20300807T190000
DTEND;TZID=America/Los_Angeles:20300807T220000
DTSTAMP:20260421T021148
CREATED:20260417T043530Z
LAST-MODIFIED:20260417T220919Z
UID:10004617-1912359600-1912370400@thegrapeventura.com
SUMMARY:RJ Mischo's 1st Wednesday Blues Showcase
DESCRIPTION:$10 cover \nRJ Mischo’s monthly “First Wednesday” Blues Showcase\, featuring an all-star lineup of blues musicians.
URL:https://thegrapeventura.com/event/electric-blues-trio/2030-08-07/
LOCATION:The Grape\, 2733 E Main St\, Ventura\, CA\, 93003\, United States
ATTACH;FMTTYPE=image/png:https://thegrapeventura.com/wp-content/uploads/2022/11/RJ-Mischo-2014-e1761260796209.png
GEO:34.2736226;-119.2593404
X-APPLE-STRUCTURED-LOCATION;VALUE=URI;X-ADDRESS=The Grape 2733 E Main St Ventura CA 93003 United States;X-APPLE-RADIUS=500;X-TITLE=2733 E Main St:geo:-119.2593404,34.2736226
END:VEVENT
BEGIN:VEVENT
DTSTART;TZID=America/Los_Angeles:20300808T170000
DTEND;TZID=America/Los_Angeles:20300808T190000
DTSTAMP:20260421T021148
CREATED:20260402T160954Z
LAST-MODIFIED:20260402T160954Z
UID:10004250-1912438800-1912446000@thegrapeventura.com
SUMMARY:Happy Hour with Collins & Rollins Quartet
DESCRIPTION:barside \nNo cover \nKent Rollins – piano \nTom Collins – guitar
URL:https://thegrapeventura.com/event/happy-hour-with-collins-rollins-quartet-4/2030-08-08/
LOCATION:The Grape\, 2733 E Main St\, Ventura\, CA\, 93003\, United States
ATTACH;FMTTYPE=image/webp:https://thegrapeventura.com/wp-content/uploads/2026/01/tom-collins-guitar.webp
GEO:34.2736226;-119.2593404
X-APPLE-STRUCTURED-LOCATION;VALUE=URI;X-ADDRESS=The Grape 2733 E Main St Ventura CA 93003 United States;X-APPLE-RADIUS=500;X-TITLE=2733 E Main St:geo:-119.2593404,34.2736226
END:VEVENT
END:VCALENDAR