BEGIN:VCALENDAR
VERSION:2.0
PRODID:-//The Grape Ventura - ECPv6.15.20//NONSGML v1.0//EN
CALSCALE:GREGORIAN
METHOD:PUBLISH
X-ORIGINAL-URL:https://thegrapeventura.com
X-WR-CALDESC:Events for The Grape Ventura
REFRESH-INTERVAL;VALUE=DURATION:PT1H
X-Robots-Tag:noindex
X-PUBLISHED-TTL:PT1H
BEGIN:VTIMEZONE
TZID:America/Los_Angeles
BEGIN:DAYLIGHT
TZOFFSETFROM:-0800
TZOFFSETTO:-0700
TZNAME:PDT
DTSTART:20270314T100000
END:DAYLIGHT
BEGIN:STANDARD
TZOFFSETFROM:-0700
TZOFFSETTO:-0800
TZNAME:PST
DTSTART:20271107T090000
END:STANDARD
BEGIN:DAYLIGHT
TZOFFSETFROM:-0800
TZOFFSETTO:-0700
TZNAME:PDT
DTSTART:20280312T100000
END:DAYLIGHT
BEGIN:STANDARD
TZOFFSETFROM:-0700
TZOFFSETTO:-0800
TZNAME:PST
DTSTART:20281105T090000
END:STANDARD
BEGIN:DAYLIGHT
TZOFFSETFROM:-0800
TZOFFSETTO:-0700
TZNAME:PDT
DTSTART:20290311T100000
END:DAYLIGHT
BEGIN:STANDARD
TZOFFSETFROM:-0700
TZOFFSETTO:-0800
TZNAME:PST
DTSTART:20291104T090000
END:STANDARD
END:VTIMEZONE
BEGIN:VEVENT
DTSTART;TZID=America/Los_Angeles:20280706T170000
DTEND;TZID=America/Los_Angeles:20280706T190000
DTSTAMP:20260419T103028
CREATED:20260402T160954Z
LAST-MODIFIED:20260402T160954Z
UID:10004141-1846515600-1846522800@thegrapeventura.com
SUMMARY:Happy Hour with Collins & Rollins Quartet
DESCRIPTION:barside \nNo cover \nKent Rollins – piano \nTom Collins – guitar
URL:https://thegrapeventura.com/event/happy-hour-with-collins-rollins-quartet-4/2028-07-06/
LOCATION:The Grape\, 2733 E Main St\, Ventura\, CA\, 93003\, United States
ATTACH;FMTTYPE=image/webp:https://thegrapeventura.com/wp-content/uploads/2026/01/tom-collins-guitar.webp
GEO:34.2736226;-119.2593404
X-APPLE-STRUCTURED-LOCATION;VALUE=URI;X-ADDRESS=The Grape 2733 E Main St Ventura CA 93003 United States;X-APPLE-RADIUS=500;X-TITLE=2733 E Main St:geo:-119.2593404,34.2736226
END:VEVENT
BEGIN:VEVENT
DTSTART;TZID=America/Los_Angeles:20280707T170000
DTEND;TZID=America/Los_Angeles:20280707T190000
DTSTAMP:20260419T103028
CREATED:20260404T165009Z
LAST-MODIFIED:20260404T165009Z
UID:10004408-1846602000-1846609200@thegrapeventura.com
SUMMARY:Happy Hour with The Fred Kaplan Trio
DESCRIPTION:West Coast Swing and Boogie Woogie Blues with Fred Kaplan and friends \nEvery Friday in the bar side Happy Hour 5-7pm. \nno cover
URL:https://thegrapeventura.com/event/happy-hour-with-the-fred-kaplan-trio-3/2028-07-07/
LOCATION:The Grape\, 2733 E Main St\, Ventura\, CA\, 93003\, United States
ATTACH;FMTTYPE=image/jpeg:https://thegrapeventura.com/wp-content/uploads/2025/05/20220308_233231_318.jpg
GEO:34.2736226;-119.2593404
X-APPLE-STRUCTURED-LOCATION;VALUE=URI;X-ADDRESS=The Grape 2733 E Main St Ventura CA 93003 United States;X-APPLE-RADIUS=500;X-TITLE=2733 E Main St:geo:-119.2593404,34.2736226
END:VEVENT
BEGIN:VEVENT
DTSTART;TZID=America/Los_Angeles:20280711T170000
DTEND;TZID=America/Los_Angeles:20280711T190000
DTSTAMP:20260419T103028
CREATED:20260323T180733Z
LAST-MODIFIED:20260323T180733Z
UID:10003870-1846947600-1846954800@thegrapeventura.com
SUMMARY:Happy Hour w/ Monte Montgomery & Friends
DESCRIPTION:no cover\nbar side \nHappy Hour with multi-instrumentalist and vocalist\, Monte Montgomery and special guests
URL:https://thegrapeventura.com/event/happy-hour-w-monte-montgomery-friends-6/2028-07-11/
LOCATION:The Grape\, 2733 E Main St\, Ventura\, CA\, 93003\, United States
ATTACH;FMTTYPE=image/webp:https://thegrapeventura.com/wp-content/uploads/2026/02/monte_montgomery.webp
GEO:34.2736226;-119.2593404
X-APPLE-STRUCTURED-LOCATION;VALUE=URI;X-ADDRESS=The Grape 2733 E Main St Ventura CA 93003 United States;X-APPLE-RADIUS=500;X-TITLE=2733 E Main St:geo:-119.2593404,34.2736226
END:VEVENT
BEGIN:VEVENT
DTSTART;TZID=America/Los_Angeles:20280713T170000
DTEND;TZID=America/Los_Angeles:20280713T190000
DTSTAMP:20260419T103028
CREATED:20260402T160954Z
LAST-MODIFIED:20260402T160954Z
UID:10004142-1847120400-1847127600@thegrapeventura.com
SUMMARY:Happy Hour with Collins & Rollins Quartet
DESCRIPTION:barside \nNo cover \nKent Rollins – piano \nTom Collins – guitar
URL:https://thegrapeventura.com/event/happy-hour-with-collins-rollins-quartet-4/2028-07-13/
LOCATION:The Grape\, 2733 E Main St\, Ventura\, CA\, 93003\, United States
ATTACH;FMTTYPE=image/webp:https://thegrapeventura.com/wp-content/uploads/2026/01/tom-collins-guitar.webp
GEO:34.2736226;-119.2593404
X-APPLE-STRUCTURED-LOCATION;VALUE=URI;X-ADDRESS=The Grape 2733 E Main St Ventura CA 93003 United States;X-APPLE-RADIUS=500;X-TITLE=2733 E Main St:geo:-119.2593404,34.2736226
END:VEVENT
BEGIN:VEVENT
DTSTART;TZID=America/Los_Angeles:20280714T170000
DTEND;TZID=America/Los_Angeles:20280714T190000
DTSTAMP:20260419T103028
CREATED:20260404T165009Z
LAST-MODIFIED:20260404T165009Z
UID:10004409-1847206800-1847214000@thegrapeventura.com
SUMMARY:Happy Hour with The Fred Kaplan Trio
DESCRIPTION:West Coast Swing and Boogie Woogie Blues with Fred Kaplan and friends \nEvery Friday in the bar side Happy Hour 5-7pm. \nno cover
URL:https://thegrapeventura.com/event/happy-hour-with-the-fred-kaplan-trio-3/2028-07-14/
LOCATION:The Grape\, 2733 E Main St\, Ventura\, CA\, 93003\, United States
ATTACH;FMTTYPE=image/jpeg:https://thegrapeventura.com/wp-content/uploads/2025/05/20220308_233231_318.jpg
GEO:34.2736226;-119.2593404
X-APPLE-STRUCTURED-LOCATION;VALUE=URI;X-ADDRESS=The Grape 2733 E Main St Ventura CA 93003 United States;X-APPLE-RADIUS=500;X-TITLE=2733 E Main St:geo:-119.2593404,34.2736226
END:VEVENT
BEGIN:VEVENT
DTSTART;TZID=America/Los_Angeles:20280718T170000
DTEND;TZID=America/Los_Angeles:20280718T190000
DTSTAMP:20260419T103028
CREATED:20260323T180733Z
LAST-MODIFIED:20260323T180733Z
UID:10003871-1847552400-1847559600@thegrapeventura.com
SUMMARY:Happy Hour w/ Monte Montgomery & Friends
DESCRIPTION:no cover\nbar side \nHappy Hour with multi-instrumentalist and vocalist\, Monte Montgomery and special guests
URL:https://thegrapeventura.com/event/happy-hour-w-monte-montgomery-friends-6/2028-07-18/
LOCATION:The Grape\, 2733 E Main St\, Ventura\, CA\, 93003\, United States
ATTACH;FMTTYPE=image/webp:https://thegrapeventura.com/wp-content/uploads/2026/02/monte_montgomery.webp
GEO:34.2736226;-119.2593404
X-APPLE-STRUCTURED-LOCATION;VALUE=URI;X-ADDRESS=The Grape 2733 E Main St Ventura CA 93003 United States;X-APPLE-RADIUS=500;X-TITLE=2733 E Main St:geo:-119.2593404,34.2736226
END:VEVENT
BEGIN:VEVENT
DTSTART;TZID=America/Los_Angeles:20280720T170000
DTEND;TZID=America/Los_Angeles:20280720T190000
DTSTAMP:20260419T103029
CREATED:20260402T160954Z
LAST-MODIFIED:20260402T160954Z
UID:10004143-1847725200-1847732400@thegrapeventura.com
SUMMARY:Happy Hour with Collins & Rollins Quartet
DESCRIPTION:barside \nNo cover \nKent Rollins – piano \nTom Collins – guitar
URL:https://thegrapeventura.com/event/happy-hour-with-collins-rollins-quartet-4/2028-07-20/
LOCATION:The Grape\, 2733 E Main St\, Ventura\, CA\, 93003\, United States
ATTACH;FMTTYPE=image/webp:https://thegrapeventura.com/wp-content/uploads/2026/01/tom-collins-guitar.webp
GEO:34.2736226;-119.2593404
X-APPLE-STRUCTURED-LOCATION;VALUE=URI;X-ADDRESS=The Grape 2733 E Main St Ventura CA 93003 United States;X-APPLE-RADIUS=500;X-TITLE=2733 E Main St:geo:-119.2593404,34.2736226
END:VEVENT
BEGIN:VEVENT
DTSTART;TZID=America/Los_Angeles:20280721T170000
DTEND;TZID=America/Los_Angeles:20280721T190000
DTSTAMP:20260419T103029
CREATED:20260404T165009Z
LAST-MODIFIED:20260404T165009Z
UID:10004410-1847811600-1847818800@thegrapeventura.com
SUMMARY:Happy Hour with The Fred Kaplan Trio
DESCRIPTION:West Coast Swing and Boogie Woogie Blues with Fred Kaplan and friends \nEvery Friday in the bar side Happy Hour 5-7pm. \nno cover
URL:https://thegrapeventura.com/event/happy-hour-with-the-fred-kaplan-trio-3/2028-07-21/
LOCATION:The Grape\, 2733 E Main St\, Ventura\, CA\, 93003\, United States
ATTACH;FMTTYPE=image/jpeg:https://thegrapeventura.com/wp-content/uploads/2025/05/20220308_233231_318.jpg
GEO:34.2736226;-119.2593404
X-APPLE-STRUCTURED-LOCATION;VALUE=URI;X-ADDRESS=The Grape 2733 E Main St Ventura CA 93003 United States;X-APPLE-RADIUS=500;X-TITLE=2733 E Main St:geo:-119.2593404,34.2736226
END:VEVENT
BEGIN:VEVENT
DTSTART;TZID=America/Los_Angeles:20280725T170000
DTEND;TZID=America/Los_Angeles:20280725T190000
DTSTAMP:20260419T103029
CREATED:20260323T180733Z
LAST-MODIFIED:20260323T180733Z
UID:10003872-1848157200-1848164400@thegrapeventura.com
SUMMARY:Happy Hour w/ Monte Montgomery & Friends
DESCRIPTION:no cover\nbar side \nHappy Hour with multi-instrumentalist and vocalist\, Monte Montgomery and special guests
URL:https://thegrapeventura.com/event/happy-hour-w-monte-montgomery-friends-6/2028-07-25/
LOCATION:The Grape\, 2733 E Main St\, Ventura\, CA\, 93003\, United States
ATTACH;FMTTYPE=image/webp:https://thegrapeventura.com/wp-content/uploads/2026/02/monte_montgomery.webp
GEO:34.2736226;-119.2593404
X-APPLE-STRUCTURED-LOCATION;VALUE=URI;X-ADDRESS=The Grape 2733 E Main St Ventura CA 93003 United States;X-APPLE-RADIUS=500;X-TITLE=2733 E Main St:geo:-119.2593404,34.2736226
END:VEVENT
BEGIN:VEVENT
DTSTART;TZID=America/Los_Angeles:20280727T170000
DTEND;TZID=America/Los_Angeles:20280727T190000
DTSTAMP:20260419T103029
CREATED:20260402T160954Z
LAST-MODIFIED:20260402T160954Z
UID:10004144-1848330000-1848337200@thegrapeventura.com
SUMMARY:Happy Hour with Collins & Rollins Quartet
DESCRIPTION:barside \nNo cover \nKent Rollins – piano \nTom Collins – guitar
URL:https://thegrapeventura.com/event/happy-hour-with-collins-rollins-quartet-4/2028-07-27/
LOCATION:The Grape\, 2733 E Main St\, Ventura\, CA\, 93003\, United States
ATTACH;FMTTYPE=image/webp:https://thegrapeventura.com/wp-content/uploads/2026/01/tom-collins-guitar.webp
GEO:34.2736226;-119.2593404
X-APPLE-STRUCTURED-LOCATION;VALUE=URI;X-ADDRESS=The Grape 2733 E Main St Ventura CA 93003 United States;X-APPLE-RADIUS=500;X-TITLE=2733 E Main St:geo:-119.2593404,34.2736226
END:VEVENT
BEGIN:VEVENT
DTSTART;TZID=America/Los_Angeles:20280728T170000
DTEND;TZID=America/Los_Angeles:20280728T190000
DTSTAMP:20260419T103029
CREATED:20260404T165009Z
LAST-MODIFIED:20260404T165009Z
UID:10004411-1848416400-1848423600@thegrapeventura.com
SUMMARY:Happy Hour with The Fred Kaplan Trio
DESCRIPTION:West Coast Swing and Boogie Woogie Blues with Fred Kaplan and friends \nEvery Friday in the bar side Happy Hour 5-7pm. \nno cover
URL:https://thegrapeventura.com/event/happy-hour-with-the-fred-kaplan-trio-3/2028-07-28/
LOCATION:The Grape\, 2733 E Main St\, Ventura\, CA\, 93003\, United States
ATTACH;FMTTYPE=image/jpeg:https://thegrapeventura.com/wp-content/uploads/2025/05/20220308_233231_318.jpg
GEO:34.2736226;-119.2593404
X-APPLE-STRUCTURED-LOCATION;VALUE=URI;X-ADDRESS=The Grape 2733 E Main St Ventura CA 93003 United States;X-APPLE-RADIUS=500;X-TITLE=2733 E Main St:geo:-119.2593404,34.2736226
END:VEVENT
BEGIN:VEVENT
DTSTART;TZID=America/Los_Angeles:20280801T170000
DTEND;TZID=America/Los_Angeles:20280801T190000
DTSTAMP:20260419T103029
CREATED:20260323T180733Z
LAST-MODIFIED:20260323T180733Z
UID:10003873-1848762000-1848769200@thegrapeventura.com
SUMMARY:Happy Hour w/ Monte Montgomery & Friends
DESCRIPTION:no cover\nbar side \nHappy Hour with multi-instrumentalist and vocalist\, Monte Montgomery and special guests
URL:https://thegrapeventura.com/event/happy-hour-w-monte-montgomery-friends-6/2028-08-01/
LOCATION:The Grape\, 2733 E Main St\, Ventura\, CA\, 93003\, United States
ATTACH;FMTTYPE=image/webp:https://thegrapeventura.com/wp-content/uploads/2026/02/monte_montgomery.webp
GEO:34.2736226;-119.2593404
X-APPLE-STRUCTURED-LOCATION;VALUE=URI;X-ADDRESS=The Grape 2733 E Main St Ventura CA 93003 United States;X-APPLE-RADIUS=500;X-TITLE=2733 E Main St:geo:-119.2593404,34.2736226
END:VEVENT
BEGIN:VEVENT
DTSTART;TZID=America/Los_Angeles:20280802T190000
DTEND;TZID=America/Los_Angeles:20280802T220000
DTSTAMP:20260419T103029
CREATED:20260417T043530Z
LAST-MODIFIED:20260417T220919Z
UID:10004593-1848855600-1848866400@thegrapeventura.com
SUMMARY:RJ Mischo's 1st Wednesday Blues Showcase
DESCRIPTION:$10 cover \nRJ Mischo’s monthly “First Wednesday” Blues Showcase\, featuring an all-star lineup of blues musicians.
URL:https://thegrapeventura.com/event/electric-blues-trio/2028-08-02/
LOCATION:The Grape\, 2733 E Main St\, Ventura\, CA\, 93003\, United States
ATTACH;FMTTYPE=image/png:https://thegrapeventura.com/wp-content/uploads/2022/11/RJ-Mischo-2014-e1761260796209.png
GEO:34.2736226;-119.2593404
X-APPLE-STRUCTURED-LOCATION;VALUE=URI;X-ADDRESS=The Grape 2733 E Main St Ventura CA 93003 United States;X-APPLE-RADIUS=500;X-TITLE=2733 E Main St:geo:-119.2593404,34.2736226
END:VEVENT
BEGIN:VEVENT
DTSTART;TZID=America/Los_Angeles:20280803T170000
DTEND;TZID=America/Los_Angeles:20280803T190000
DTSTAMP:20260419T103029
CREATED:20260402T160954Z
LAST-MODIFIED:20260402T160954Z
UID:10004145-1848934800-1848942000@thegrapeventura.com
SUMMARY:Happy Hour with Collins & Rollins Quartet
DESCRIPTION:barside \nNo cover \nKent Rollins – piano \nTom Collins – guitar
URL:https://thegrapeventura.com/event/happy-hour-with-collins-rollins-quartet-4/2028-08-03/
LOCATION:The Grape\, 2733 E Main St\, Ventura\, CA\, 93003\, United States
ATTACH;FMTTYPE=image/webp:https://thegrapeventura.com/wp-content/uploads/2026/01/tom-collins-guitar.webp
GEO:34.2736226;-119.2593404
X-APPLE-STRUCTURED-LOCATION;VALUE=URI;X-ADDRESS=The Grape 2733 E Main St Ventura CA 93003 United States;X-APPLE-RADIUS=500;X-TITLE=2733 E Main St:geo:-119.2593404,34.2736226
END:VEVENT
BEGIN:VEVENT
DTSTART;TZID=America/Los_Angeles:20280804T170000
DTEND;TZID=America/Los_Angeles:20280804T190000
DTSTAMP:20260419T103029
CREATED:20260404T165009Z
LAST-MODIFIED:20260404T165009Z
UID:10004412-1849021200-1849028400@thegrapeventura.com
SUMMARY:Happy Hour with The Fred Kaplan Trio
DESCRIPTION:West Coast Swing and Boogie Woogie Blues with Fred Kaplan and friends \nEvery Friday in the bar side Happy Hour 5-7pm. \nno cover
URL:https://thegrapeventura.com/event/happy-hour-with-the-fred-kaplan-trio-3/2028-08-04/
LOCATION:The Grape\, 2733 E Main St\, Ventura\, CA\, 93003\, United States
ATTACH;FMTTYPE=image/jpeg:https://thegrapeventura.com/wp-content/uploads/2025/05/20220308_233231_318.jpg
GEO:34.2736226;-119.2593404
X-APPLE-STRUCTURED-LOCATION;VALUE=URI;X-ADDRESS=The Grape 2733 E Main St Ventura CA 93003 United States;X-APPLE-RADIUS=500;X-TITLE=2733 E Main St:geo:-119.2593404,34.2736226
END:VEVENT
BEGIN:VEVENT
DTSTART;TZID=America/Los_Angeles:20280808T170000
DTEND;TZID=America/Los_Angeles:20280808T190000
DTSTAMP:20260419T103029
CREATED:20260323T180733Z
LAST-MODIFIED:20260323T180733Z
UID:10003874-1849366800-1849374000@thegrapeventura.com
SUMMARY:Happy Hour w/ Monte Montgomery & Friends
DESCRIPTION:no cover\nbar side \nHappy Hour with multi-instrumentalist and vocalist\, Monte Montgomery and special guests
URL:https://thegrapeventura.com/event/happy-hour-w-monte-montgomery-friends-6/2028-08-08/
LOCATION:The Grape\, 2733 E Main St\, Ventura\, CA\, 93003\, United States
ATTACH;FMTTYPE=image/webp:https://thegrapeventura.com/wp-content/uploads/2026/02/monte_montgomery.webp
GEO:34.2736226;-119.2593404
X-APPLE-STRUCTURED-LOCATION;VALUE=URI;X-ADDRESS=The Grape 2733 E Main St Ventura CA 93003 United States;X-APPLE-RADIUS=500;X-TITLE=2733 E Main St:geo:-119.2593404,34.2736226
END:VEVENT
BEGIN:VEVENT
DTSTART;TZID=America/Los_Angeles:20280810T170000
DTEND;TZID=America/Los_Angeles:20280810T190000
DTSTAMP:20260419T103029
CREATED:20260402T160954Z
LAST-MODIFIED:20260402T160954Z
UID:10004146-1849539600-1849546800@thegrapeventura.com
SUMMARY:Happy Hour with Collins & Rollins Quartet
DESCRIPTION:barside \nNo cover \nKent Rollins – piano \nTom Collins – guitar
URL:https://thegrapeventura.com/event/happy-hour-with-collins-rollins-quartet-4/2028-08-10/
LOCATION:The Grape\, 2733 E Main St\, Ventura\, CA\, 93003\, United States
ATTACH;FMTTYPE=image/webp:https://thegrapeventura.com/wp-content/uploads/2026/01/tom-collins-guitar.webp
GEO:34.2736226;-119.2593404
X-APPLE-STRUCTURED-LOCATION;VALUE=URI;X-ADDRESS=The Grape 2733 E Main St Ventura CA 93003 United States;X-APPLE-RADIUS=500;X-TITLE=2733 E Main St:geo:-119.2593404,34.2736226
END:VEVENT
BEGIN:VEVENT
DTSTART;TZID=America/Los_Angeles:20280811T170000
DTEND;TZID=America/Los_Angeles:20280811T190000
DTSTAMP:20260419T103029
CREATED:20260404T165009Z
LAST-MODIFIED:20260404T165009Z
UID:10004413-1849626000-1849633200@thegrapeventura.com
SUMMARY:Happy Hour with The Fred Kaplan Trio
DESCRIPTION:West Coast Swing and Boogie Woogie Blues with Fred Kaplan and friends \nEvery Friday in the bar side Happy Hour 5-7pm. \nno cover
URL:https://thegrapeventura.com/event/happy-hour-with-the-fred-kaplan-trio-3/2028-08-11/
LOCATION:The Grape\, 2733 E Main St\, Ventura\, CA\, 93003\, United States
ATTACH;FMTTYPE=image/jpeg:https://thegrapeventura.com/wp-content/uploads/2025/05/20220308_233231_318.jpg
GEO:34.2736226;-119.2593404
X-APPLE-STRUCTURED-LOCATION;VALUE=URI;X-ADDRESS=The Grape 2733 E Main St Ventura CA 93003 United States;X-APPLE-RADIUS=500;X-TITLE=2733 E Main St:geo:-119.2593404,34.2736226
END:VEVENT
BEGIN:VEVENT
DTSTART;TZID=America/Los_Angeles:20280815T170000
DTEND;TZID=America/Los_Angeles:20280815T190000
DTSTAMP:20260419T103029
CREATED:20260323T180733Z
LAST-MODIFIED:20260323T180733Z
UID:10003875-1849971600-1849978800@thegrapeventura.com
SUMMARY:Happy Hour w/ Monte Montgomery & Friends
DESCRIPTION:no cover\nbar side \nHappy Hour with multi-instrumentalist and vocalist\, Monte Montgomery and special guests
URL:https://thegrapeventura.com/event/happy-hour-w-monte-montgomery-friends-6/2028-08-15/
LOCATION:The Grape\, 2733 E Main St\, Ventura\, CA\, 93003\, United States
ATTACH;FMTTYPE=image/webp:https://thegrapeventura.com/wp-content/uploads/2026/02/monte_montgomery.webp
GEO:34.2736226;-119.2593404
X-APPLE-STRUCTURED-LOCATION;VALUE=URI;X-ADDRESS=The Grape 2733 E Main St Ventura CA 93003 United States;X-APPLE-RADIUS=500;X-TITLE=2733 E Main St:geo:-119.2593404,34.2736226
END:VEVENT
BEGIN:VEVENT
DTSTART;TZID=America/Los_Angeles:20280817T170000
DTEND;TZID=America/Los_Angeles:20280817T190000
DTSTAMP:20260419T103029
CREATED:20260402T160954Z
LAST-MODIFIED:20260402T160954Z
UID:10004147-1850144400-1850151600@thegrapeventura.com
SUMMARY:Happy Hour with Collins & Rollins Quartet
DESCRIPTION:barside \nNo cover \nKent Rollins – piano \nTom Collins – guitar
URL:https://thegrapeventura.com/event/happy-hour-with-collins-rollins-quartet-4/2028-08-17/
LOCATION:The Grape\, 2733 E Main St\, Ventura\, CA\, 93003\, United States
ATTACH;FMTTYPE=image/webp:https://thegrapeventura.com/wp-content/uploads/2026/01/tom-collins-guitar.webp
GEO:34.2736226;-119.2593404
X-APPLE-STRUCTURED-LOCATION;VALUE=URI;X-ADDRESS=The Grape 2733 E Main St Ventura CA 93003 United States;X-APPLE-RADIUS=500;X-TITLE=2733 E Main St:geo:-119.2593404,34.2736226
END:VEVENT
BEGIN:VEVENT
DTSTART;TZID=America/Los_Angeles:20280818T170000
DTEND;TZID=America/Los_Angeles:20280818T190000
DTSTAMP:20260419T103029
CREATED:20260404T165009Z
LAST-MODIFIED:20260404T165009Z
UID:10004414-1850230800-1850238000@thegrapeventura.com
SUMMARY:Happy Hour with The Fred Kaplan Trio
DESCRIPTION:West Coast Swing and Boogie Woogie Blues with Fred Kaplan and friends \nEvery Friday in the bar side Happy Hour 5-7pm. \nno cover
URL:https://thegrapeventura.com/event/happy-hour-with-the-fred-kaplan-trio-3/2028-08-18/
LOCATION:The Grape\, 2733 E Main St\, Ventura\, CA\, 93003\, United States
ATTACH;FMTTYPE=image/jpeg:https://thegrapeventura.com/wp-content/uploads/2025/05/20220308_233231_318.jpg
GEO:34.2736226;-119.2593404
X-APPLE-STRUCTURED-LOCATION;VALUE=URI;X-ADDRESS=The Grape 2733 E Main St Ventura CA 93003 United States;X-APPLE-RADIUS=500;X-TITLE=2733 E Main St:geo:-119.2593404,34.2736226
END:VEVENT
BEGIN:VEVENT
DTSTART;TZID=America/Los_Angeles:20280822T170000
DTEND;TZID=America/Los_Angeles:20280822T190000
DTSTAMP:20260419T103029
CREATED:20260323T180733Z
LAST-MODIFIED:20260323T180733Z
UID:10003876-1850576400-1850583600@thegrapeventura.com
SUMMARY:Happy Hour w/ Monte Montgomery & Friends
DESCRIPTION:no cover\nbar side \nHappy Hour with multi-instrumentalist and vocalist\, Monte Montgomery and special guests
URL:https://thegrapeventura.com/event/happy-hour-w-monte-montgomery-friends-6/2028-08-22/
LOCATION:The Grape\, 2733 E Main St\, Ventura\, CA\, 93003\, United States
ATTACH;FMTTYPE=image/webp:https://thegrapeventura.com/wp-content/uploads/2026/02/monte_montgomery.webp
GEO:34.2736226;-119.2593404
X-APPLE-STRUCTURED-LOCATION;VALUE=URI;X-ADDRESS=The Grape 2733 E Main St Ventura CA 93003 United States;X-APPLE-RADIUS=500;X-TITLE=2733 E Main St:geo:-119.2593404,34.2736226
END:VEVENT
BEGIN:VEVENT
DTSTART;TZID=America/Los_Angeles:20280824T170000
DTEND;TZID=America/Los_Angeles:20280824T190000
DTSTAMP:20260419T103029
CREATED:20260402T160954Z
LAST-MODIFIED:20260402T160954Z
UID:10004148-1850749200-1850756400@thegrapeventura.com
SUMMARY:Happy Hour with Collins & Rollins Quartet
DESCRIPTION:barside \nNo cover \nKent Rollins – piano \nTom Collins – guitar
URL:https://thegrapeventura.com/event/happy-hour-with-collins-rollins-quartet-4/2028-08-24/
LOCATION:The Grape\, 2733 E Main St\, Ventura\, CA\, 93003\, United States
ATTACH;FMTTYPE=image/webp:https://thegrapeventura.com/wp-content/uploads/2026/01/tom-collins-guitar.webp
GEO:34.2736226;-119.2593404
X-APPLE-STRUCTURED-LOCATION;VALUE=URI;X-ADDRESS=The Grape 2733 E Main St Ventura CA 93003 United States;X-APPLE-RADIUS=500;X-TITLE=2733 E Main St:geo:-119.2593404,34.2736226
END:VEVENT
BEGIN:VEVENT
DTSTART;TZID=America/Los_Angeles:20280825T170000
DTEND;TZID=America/Los_Angeles:20280825T190000
DTSTAMP:20260419T103029
CREATED:20260404T165009Z
LAST-MODIFIED:20260404T165009Z
UID:10004415-1850835600-1850842800@thegrapeventura.com
SUMMARY:Happy Hour with The Fred Kaplan Trio
DESCRIPTION:West Coast Swing and Boogie Woogie Blues with Fred Kaplan and friends \nEvery Friday in the bar side Happy Hour 5-7pm. \nno cover
URL:https://thegrapeventura.com/event/happy-hour-with-the-fred-kaplan-trio-3/2028-08-25/
LOCATION:The Grape\, 2733 E Main St\, Ventura\, CA\, 93003\, United States
ATTACH;FMTTYPE=image/jpeg:https://thegrapeventura.com/wp-content/uploads/2025/05/20220308_233231_318.jpg
GEO:34.2736226;-119.2593404
X-APPLE-STRUCTURED-LOCATION;VALUE=URI;X-ADDRESS=The Grape 2733 E Main St Ventura CA 93003 United States;X-APPLE-RADIUS=500;X-TITLE=2733 E Main St:geo:-119.2593404,34.2736226
END:VEVENT
BEGIN:VEVENT
DTSTART;TZID=America/Los_Angeles:20280829T170000
DTEND;TZID=America/Los_Angeles:20280829T190000
DTSTAMP:20260419T103029
CREATED:20260323T180733Z
LAST-MODIFIED:20260323T180733Z
UID:10003877-1851181200-1851188400@thegrapeventura.com
SUMMARY:Happy Hour w/ Monte Montgomery & Friends
DESCRIPTION:no cover\nbar side \nHappy Hour with multi-instrumentalist and vocalist\, Monte Montgomery and special guests
URL:https://thegrapeventura.com/event/happy-hour-w-monte-montgomery-friends-6/2028-08-29/
LOCATION:The Grape\, 2733 E Main St\, Ventura\, CA\, 93003\, United States
ATTACH;FMTTYPE=image/webp:https://thegrapeventura.com/wp-content/uploads/2026/02/monte_montgomery.webp
GEO:34.2736226;-119.2593404
X-APPLE-STRUCTURED-LOCATION;VALUE=URI;X-ADDRESS=The Grape 2733 E Main St Ventura CA 93003 United States;X-APPLE-RADIUS=500;X-TITLE=2733 E Main St:geo:-119.2593404,34.2736226
END:VEVENT
BEGIN:VEVENT
DTSTART;TZID=America/Los_Angeles:20280831T170000
DTEND;TZID=America/Los_Angeles:20280831T190000
DTSTAMP:20260419T103029
CREATED:20260402T160954Z
LAST-MODIFIED:20260402T160954Z
UID:10004149-1851354000-1851361200@thegrapeventura.com
SUMMARY:Happy Hour with Collins & Rollins Quartet
DESCRIPTION:barside \nNo cover \nKent Rollins – piano \nTom Collins – guitar
URL:https://thegrapeventura.com/event/happy-hour-with-collins-rollins-quartet-4/2028-08-31/
LOCATION:The Grape\, 2733 E Main St\, Ventura\, CA\, 93003\, United States
ATTACH;FMTTYPE=image/webp:https://thegrapeventura.com/wp-content/uploads/2026/01/tom-collins-guitar.webp
GEO:34.2736226;-119.2593404
X-APPLE-STRUCTURED-LOCATION;VALUE=URI;X-ADDRESS=The Grape 2733 E Main St Ventura CA 93003 United States;X-APPLE-RADIUS=500;X-TITLE=2733 E Main St:geo:-119.2593404,34.2736226
END:VEVENT
BEGIN:VEVENT
DTSTART;TZID=America/Los_Angeles:20280901T170000
DTEND;TZID=America/Los_Angeles:20280901T190000
DTSTAMP:20260419T103029
CREATED:20260404T165009Z
LAST-MODIFIED:20260404T165009Z
UID:10004416-1851440400-1851447600@thegrapeventura.com
SUMMARY:Happy Hour with The Fred Kaplan Trio
DESCRIPTION:West Coast Swing and Boogie Woogie Blues with Fred Kaplan and friends \nEvery Friday in the bar side Happy Hour 5-7pm. \nno cover
URL:https://thegrapeventura.com/event/happy-hour-with-the-fred-kaplan-trio-3/2028-09-01/
LOCATION:The Grape\, 2733 E Main St\, Ventura\, CA\, 93003\, United States
ATTACH;FMTTYPE=image/jpeg:https://thegrapeventura.com/wp-content/uploads/2025/05/20220308_233231_318.jpg
GEO:34.2736226;-119.2593404
X-APPLE-STRUCTURED-LOCATION;VALUE=URI;X-ADDRESS=The Grape 2733 E Main St Ventura CA 93003 United States;X-APPLE-RADIUS=500;X-TITLE=2733 E Main St:geo:-119.2593404,34.2736226
END:VEVENT
BEGIN:VEVENT
DTSTART;TZID=America/Los_Angeles:20280905T170000
DTEND;TZID=America/Los_Angeles:20280905T190000
DTSTAMP:20260419T103029
CREATED:20260323T180733Z
LAST-MODIFIED:20260323T180733Z
UID:10003878-1851786000-1851793200@thegrapeventura.com
SUMMARY:Happy Hour w/ Monte Montgomery & Friends
DESCRIPTION:no cover\nbar side \nHappy Hour with multi-instrumentalist and vocalist\, Monte Montgomery and special guests
URL:https://thegrapeventura.com/event/happy-hour-w-monte-montgomery-friends-6/2028-09-05/
LOCATION:The Grape\, 2733 E Main St\, Ventura\, CA\, 93003\, United States
ATTACH;FMTTYPE=image/webp:https://thegrapeventura.com/wp-content/uploads/2026/02/monte_montgomery.webp
GEO:34.2736226;-119.2593404
X-APPLE-STRUCTURED-LOCATION;VALUE=URI;X-ADDRESS=The Grape 2733 E Main St Ventura CA 93003 United States;X-APPLE-RADIUS=500;X-TITLE=2733 E Main St:geo:-119.2593404,34.2736226
END:VEVENT
BEGIN:VEVENT
DTSTART;TZID=America/Los_Angeles:20280906T190000
DTEND;TZID=America/Los_Angeles:20280906T220000
DTSTAMP:20260419T103029
CREATED:20260417T043530Z
LAST-MODIFIED:20260417T220919Z
UID:10004594-1851879600-1851890400@thegrapeventura.com
SUMMARY:RJ Mischo's 1st Wednesday Blues Showcase
DESCRIPTION:$10 cover \nRJ Mischo’s monthly “First Wednesday” Blues Showcase\, featuring an all-star lineup of blues musicians.
URL:https://thegrapeventura.com/event/electric-blues-trio/2028-09-06/
LOCATION:The Grape\, 2733 E Main St\, Ventura\, CA\, 93003\, United States
ATTACH;FMTTYPE=image/png:https://thegrapeventura.com/wp-content/uploads/2022/11/RJ-Mischo-2014-e1761260796209.png
GEO:34.2736226;-119.2593404
X-APPLE-STRUCTURED-LOCATION;VALUE=URI;X-ADDRESS=The Grape 2733 E Main St Ventura CA 93003 United States;X-APPLE-RADIUS=500;X-TITLE=2733 E Main St:geo:-119.2593404,34.2736226
END:VEVENT
BEGIN:VEVENT
DTSTART;TZID=America/Los_Angeles:20280907T170000
DTEND;TZID=America/Los_Angeles:20280907T190000
DTSTAMP:20260419T103029
CREATED:20260402T160954Z
LAST-MODIFIED:20260402T160954Z
UID:10004150-1851958800-1851966000@thegrapeventura.com
SUMMARY:Happy Hour with Collins & Rollins Quartet
DESCRIPTION:barside \nNo cover \nKent Rollins – piano \nTom Collins – guitar
URL:https://thegrapeventura.com/event/happy-hour-with-collins-rollins-quartet-4/2028-09-07/
LOCATION:The Grape\, 2733 E Main St\, Ventura\, CA\, 93003\, United States
ATTACH;FMTTYPE=image/webp:https://thegrapeventura.com/wp-content/uploads/2026/01/tom-collins-guitar.webp
GEO:34.2736226;-119.2593404
X-APPLE-STRUCTURED-LOCATION;VALUE=URI;X-ADDRESS=The Grape 2733 E Main St Ventura CA 93003 United States;X-APPLE-RADIUS=500;X-TITLE=2733 E Main St:geo:-119.2593404,34.2736226
END:VEVENT
END:VCALENDAR