BEGIN:VCALENDAR
VERSION:2.0
PRODID:-//The Grape Ventura - ECPv6.15.20//NONSGML v1.0//EN
CALSCALE:GREGORIAN
METHOD:PUBLISH
X-WR-CALNAME:The Grape Ventura
X-ORIGINAL-URL:https://thegrapeventura.com
X-WR-CALDESC:Events for The Grape Ventura
REFRESH-INTERVAL;VALUE=DURATION:PT1H
X-Robots-Tag:noindex
X-PUBLISHED-TTL:PT1H
BEGIN:VTIMEZONE
TZID:America/Los_Angeles
BEGIN:DAYLIGHT
TZOFFSETFROM:-0800
TZOFFSETTO:-0700
TZNAME:PDT
DTSTART:20250309T100000
END:DAYLIGHT
BEGIN:STANDARD
TZOFFSETFROM:-0700
TZOFFSETTO:-0800
TZNAME:PST
DTSTART:20251102T090000
END:STANDARD
BEGIN:DAYLIGHT
TZOFFSETFROM:-0800
TZOFFSETTO:-0700
TZNAME:PDT
DTSTART:20260308T100000
END:DAYLIGHT
BEGIN:STANDARD
TZOFFSETFROM:-0700
TZOFFSETTO:-0800
TZNAME:PST
DTSTART:20261101T090000
END:STANDARD
BEGIN:DAYLIGHT
TZOFFSETFROM:-0800
TZOFFSETTO:-0700
TZNAME:PDT
DTSTART:20270314T100000
END:DAYLIGHT
BEGIN:STANDARD
TZOFFSETFROM:-0700
TZOFFSETTO:-0800
TZNAME:PST
DTSTART:20271107T090000
END:STANDARD
END:VTIMEZONE
BEGIN:VEVENT
DTSTART;TZID=America/Los_Angeles:20260401T170000
DTEND;TZID=America/Los_Angeles:20260401T190000
DTSTAMP:20260425T083807
CREATED:20260113T215946Z
LAST-MODIFIED:20260113T220056Z
UID:10003661-1775062800-1775070000@thegrapeventura.com
SUMMARY:Happy Hour with Kent Rollins & Friends
DESCRIPTION:Happy Hour with Pianist\, Kent Rollins and friends \nbar side\, no cover
URL:https://thegrapeventura.com/event/kent-rollins-trio-4-2/2026-04-01/
LOCATION:The Grape\, 2733 E Main St\, Ventura\, CA\, 93003\, United States
ATTACH;FMTTYPE=image/jpeg:https://thegrapeventura.com/wp-content/uploads/2025/07/IMG_20251009_124515-e1760384956257.jpg
GEO:34.2736226;-119.2593404
X-APPLE-STRUCTURED-LOCATION;VALUE=URI;X-ADDRESS=The Grape 2733 E Main St Ventura CA 93003 United States;X-APPLE-RADIUS=500;X-TITLE=2733 E Main St:geo:-119.2593404,34.2736226
END:VEVENT
BEGIN:VEVENT
DTSTART;TZID=America/Los_Angeles:20260331T190000
DTEND;TZID=America/Los_Angeles:20260331T220000
DTSTAMP:20260425T083807
CREATED:20251210T212512Z
LAST-MODIFIED:20260307T191035Z
UID:10003539-1774983600-1774994400@thegrapeventura.com
SUMMARY:The Grape Gratitude Jazz Jam
DESCRIPTION:$10 cover at the door \nVentura County’s hottest jazz night!  Hosted By Tyler Hammond (drums) with the hottest rotating house band around\, often featuring Karl Hunter (saxophone)\, Guil Juliao (bass)\, and friends. \nYou are guaranteed to find SOMETHING during this night that will butter your biscuit.  It’s the best variety night this side of the Conejo Grade. \n21+ \nDoors and signup at 6:30 pm \nJazz Jam Guidelines:\n1. The focus of this jam is to play Jazz music. It is NOT live band Karaoke.\n2. Be prepared/ Know the tune/Know what key you’d like to play the tune in.\n3. Bring charts for the band if you’re going out of standard Jazz repertoire.\n4. After the melody is finished\,  allow room for everyone to solo.\n5. Please don’t come onto the stage unless you are called up.\n6. Be kind and supportive to other performers.\n7. After 9pm\, there’s no guarantee you’ll get a turn.\n8. Whatever Tyler says\, goes.
URL:https://thegrapeventura.com/event/the-grape-gratitude-jazz-jam/2026-03-31/
LOCATION:The Grape\, 2733 E Main St\, Ventura\, CA\, 93003\, United States
ATTACH;FMTTYPE=image/jpeg:https://thegrapeventura.com/wp-content/uploads/2023/06/DSCF1293-e1765401864205.jpg
GEO:34.2736226;-119.2593404
X-APPLE-STRUCTURED-LOCATION;VALUE=URI;X-ADDRESS=The Grape 2733 E Main St Ventura CA 93003 United States;X-APPLE-RADIUS=500;X-TITLE=2733 E Main St:geo:-119.2593404,34.2736226
END:VEVENT
BEGIN:VEVENT
DTSTART;TZID=America/Los_Angeles:20260331T170000
DTEND;TZID=America/Los_Angeles:20260331T190000
DTSTAMP:20260425T083807
CREATED:20260323T180733Z
LAST-MODIFIED:20260323T180733Z
UID:10003751-1774976400-1774983600@thegrapeventura.com
SUMMARY:Happy Hour w/ Monte Montgomery & Friends
DESCRIPTION:no cover\nbar side \nHappy Hour with multi-instrumentalist and vocalist\, Monte Montgomery and special guests
URL:https://thegrapeventura.com/event/happy-hour-w-monte-montgomery-friends-6/2026-03-31/
LOCATION:The Grape\, 2733 E Main St\, Ventura\, CA\, 93003\, United States
ATTACH;FMTTYPE=image/webp:https://thegrapeventura.com/wp-content/uploads/2026/02/monte_montgomery.webp
GEO:34.2736226;-119.2593404
X-APPLE-STRUCTURED-LOCATION;VALUE=URI;X-ADDRESS=The Grape 2733 E Main St Ventura CA 93003 United States;X-APPLE-RADIUS=500;X-TITLE=2733 E Main St:geo:-119.2593404,34.2736226
END:VEVENT
BEGIN:VEVENT
DTSTART;TZID=America/Los_Angeles:20260328T200000
DTEND;TZID=America/Los_Angeles:20260328T230000
DTSTAMP:20260425T083807
CREATED:20260224T185659Z
LAST-MODIFIED:20260311T172805Z
UID:10003685-1774728000-1774738800@thegrapeventura.com
SUMMARY:Barrelhouse Wailers
DESCRIPTION:GET YOUR TICKETS HERE \n$20 Advanced/ $25 at the door (subject to availability)\n\nThe Barrelhouse Wailers are an 8-piece powerhouse collective from Ventura\, California that seamlessly blend traditional style hot jazz and vintage blues with original compositions to create a sound that’s as timeless as it is electrifying. With their roots deeply embedded in the rich soil of American musical traditions\, this dynamic ensemble has been captivating audiences since 2013 with their high-energy performances and masterful musicianship.\nDriven by their passion for authenticity and innovation\, The Barrelhouse Wailers deliver a sonic experience that pays homage to the classics while pushing the boundaries of contemporary music. Their infectious energy and tight-knit chemistry on stage promise an evening of entertainment that will have you on your feet and moving to the rhythm.\nThey have released 2 albums featuring original music and standards\, “Day In\, Day Out” 2019 and “Never Look Back” 2023\nBoth albums are available for digital download on Bandcamp and on all major streaming platforms.\n\nKaren Parkhouse – Vocals/Percussion\nTodd Temanson – Banjo\nKen Wild – Bass\nJim Wade – Tuba\nJohn C. Webb – Clarinet/Saxophones/Flute/Vocals“Skabone” Stan Middleton- trombone\nBob Peyton- drums\nMax O’Leary – trumpet\n\nFor more information\, music\, videos\, and upcoming shows\, please visit http://www.thebarrelhousewailers.com/.\nFollow us on : Facebook: https://www.facebook.com/TheBarrelHouseWailers Instagram: @barrelhousewailers YouTube: https://www.youtube.com/@BarrelhouseWailers
URL:https://thegrapeventura.com/event/barrelhouse-wailers-4/
LOCATION:The Grape\, 2733 E Main St\, Ventura\, CA\, 93003\, United States
ATTACH;FMTTYPE=image/jpeg:https://thegrapeventura.com/wp-content/uploads/2025/04/20250330_162847-scaled-e1759869586784.jpg
GEO:34.2736226;-119.2593404
X-APPLE-STRUCTURED-LOCATION;VALUE=URI;X-ADDRESS=The Grape 2733 E Main St Ventura CA 93003 United States;X-APPLE-RADIUS=500;X-TITLE=2733 E Main St:geo:-119.2593404,34.2736226
END:VEVENT
BEGIN:VEVENT
DTSTART;TZID=America/Los_Angeles:20260328T170000
DTEND;TZID=America/Los_Angeles:20260328T190000
DTSTAMP:20260425T083807
CREATED:20260306T024833Z
LAST-MODIFIED:20260306T024838Z
UID:10003722-1774717200-1774724400@thegrapeventura.com
SUMMARY:Happy Hour with Robert Van
DESCRIPTION:Barside \nNo cover \nHappy hour performance with keyboardist\, pianist\, and composer Robert Van. \n 
URL:https://thegrapeventura.com/event/happy-hour-with-robert-van/
LOCATION:The Grape\, 2733 E Main St\, Ventura\, CA\, 93003\, United States
ATTACH;FMTTYPE=image/heic:https://thegrapeventura.com/wp-content/uploads/2026/03/Robert-Van-scaled.jpg
GEO:34.2736226;-119.2593404
X-APPLE-STRUCTURED-LOCATION;VALUE=URI;X-ADDRESS=The Grape 2733 E Main St Ventura CA 93003 United States;X-APPLE-RADIUS=500;X-TITLE=2733 E Main St:geo:-119.2593404,34.2736226
END:VEVENT
BEGIN:VEVENT
DTSTART;TZID=America/Los_Angeles:20260328T140000
DTEND;TZID=America/Los_Angeles:20260328T170000
DTSTAMP:20260425T083807
CREATED:20260304T184648Z
LAST-MODIFIED:20260304T184653Z
UID:10003712-1774706400-1774717200@thegrapeventura.com
SUMMARY:The Ray Jaurique Band
DESCRIPTION:$10 cover at the door \nRay Jaurique\, also known as “RayJay\,” is Ventura\, California’s own Live Wire Bluesman. The California native has been known around the area for his soulful singing and powerful guitar work. Since the release of his band’s 2014 CD\, many are saying he may be one of the best singer/songwriters locally or anywhere else. While the band still covers some favorites\, the focus is now on his ever growing catalogue of original songs. you’ll hear this heartfelt material that many are saying is long overdue. \n 
URL:https://thegrapeventura.com/event/the-ray-jaurique-band/
LOCATION:The Grape\, 2733 E Main St\, Ventura\, CA\, 93003\, United States
ATTACH;FMTTYPE=image/webp:https://thegrapeventura.com/wp-content/uploads/2026/03/ray-jaurique.webp
GEO:34.2736226;-119.2593404
X-APPLE-STRUCTURED-LOCATION;VALUE=URI;X-ADDRESS=The Grape 2733 E Main St Ventura CA 93003 United States;X-APPLE-RADIUS=500;X-TITLE=2733 E Main St:geo:-119.2593404,34.2736226
END:VEVENT
BEGIN:VEVENT
DTSTART;TZID=America/Los_Angeles:20260327T200000
DTEND;TZID=America/Los_Angeles:20260327T230000
DTSTAMP:20260425T083807
CREATED:20260214T180221Z
LAST-MODIFIED:20260214T180341Z
UID:10003681-1774641600-1774652400@thegrapeventura.com
SUMMARY:Mestizo Beat
DESCRIPTION:8:00pm \n$20 Advanced Tickets/$25 Door \nGET TICKETS HERE \nThe West Coast Latin Funk Ensemble\, Mestizo Beat\, coming out of Los Angeles\,\nCA is an instrumental group that blends the sounds of 60’s-70’s Funk & Soul\,\nLatin Jazz\, Afrobeat\, Psychedelic Rock and Hip-Hop. The band’s music carries a\ncertain sense of nostalgia\, using their creativity to fuse the old with the new\,\nconstantly paying homage to the greats who came before. \nMestizo Beat was formed in late 2016 in Topanga\, CA by The Magaña Brothers\,\nAquiles (Guitar) and Agustin (Drums). After years of developing the sound through\ngigging and recording with different players in the Los Angeles area the group\ntruly found their sound by adding key players Jose Castro (Bass) Pedro Flores\n(Percussion) and Jesse Audelo (Saxophone/Flute). \nOver the years the band has grown with members rounding out to an eight-piece\nband and has now become a national touring act while producing a music\ncatalogue with the help of several independent labels such as Colemine Records\,\nAll Town Sound and F-Spot Records. \nThe Mestizo Beat live experience displays an ecstatic delivery of rhythm and\nharmony at every live performance. With a mighty brass section that reminds us of\nKool & the Gang or Fred Wesley’s J.B.’s to blazing guitar solos reminiscent of\nHendrix and Santana\, filled out with soulful melodic organ solos and ground\nshaking bass lines\, all which ride on the foundation of flavorful Latin rhythms and\nrock-solid drum grooves. Their passion for this music is a force that cannot be\ndenied\, igniting the dance floor into an electric frenzy\, leaving your soul with the\nvibration of love. It is their legacy to share their appreciation for this music with\nthe world\, to spread the message of unity and equality while embracing the beauty\nof diversity and cultural differences by living\, loving and dancing with one another\nin peace and harmony.
URL:https://thegrapeventura.com/event/mestizo-beat/
LOCATION:The Grape\, 2733 E Main St\, Ventura\, CA\, 93003\, United States
ATTACH;FMTTYPE=image/jpeg:https://thegrapeventura.com/wp-content/uploads/2026/02/mestizo-beat.jpg
GEO:34.2736226;-119.2593404
X-APPLE-STRUCTURED-LOCATION;VALUE=URI;X-ADDRESS=The Grape 2733 E Main St Ventura CA 93003 United States;X-APPLE-RADIUS=500;X-TITLE=2733 E Main St:geo:-119.2593404,34.2736226
END:VEVENT
BEGIN:VEVENT
DTSTART;TZID=America/Los_Angeles:20260327T170000
DTEND;TZID=America/Los_Angeles:20260327T190000
DTSTAMP:20260425T083807
CREATED:20260404T165009Z
LAST-MODIFIED:20260404T165009Z
UID:10004289-1774630800-1774638000@thegrapeventura.com
SUMMARY:Happy Hour with The Fred Kaplan Trio
DESCRIPTION:West Coast Swing and Boogie Woogie Blues with Fred Kaplan and friends \nEvery Friday in the bar side Happy Hour 5-7pm. \nno cover
URL:https://thegrapeventura.com/event/happy-hour-with-the-fred-kaplan-trio-3/2026-03-27/
LOCATION:The Grape\, 2733 E Main St\, Ventura\, CA\, 93003\, United States
ATTACH;FMTTYPE=image/jpeg:https://thegrapeventura.com/wp-content/uploads/2025/05/20220308_233231_318.jpg
GEO:34.2736226;-119.2593404
X-APPLE-STRUCTURED-LOCATION;VALUE=URI;X-ADDRESS=The Grape 2733 E Main St Ventura CA 93003 United States;X-APPLE-RADIUS=500;X-TITLE=2733 E Main St:geo:-119.2593404,34.2736226
END:VEVENT
BEGIN:VEVENT
DTSTART;TZID=America/Los_Angeles:20260327T170000
DTEND;TZID=America/Los_Angeles:20260327T190000
DTSTAMP:20260425T083807
CREATED:20251209T021232Z
LAST-MODIFIED:20251209T024240Z
UID:10003510-1774630800-1774638000@thegrapeventura.com
SUMMARY:Happy Hour with The Fred Kaplan Trio
DESCRIPTION:West Coast Swing and Boogie Woogie Blues with Fred Kaplan and friends \nEvery Friday in the bar side Happy Hour 5-7pm. \nno cover
URL:https://thegrapeventura.com/event/happy-hour-with-the-fred-kaplan-trio-2/2026-03-27/
LOCATION:The Grape\, 2733 E Main St\, Ventura\, CA\, 93003\, United States
ATTACH;FMTTYPE=image/jpeg:https://thegrapeventura.com/wp-content/uploads/2025/05/20220308_233231_318.jpg
GEO:34.2736226;-119.2593404
X-APPLE-STRUCTURED-LOCATION;VALUE=URI;X-ADDRESS=The Grape 2733 E Main St Ventura CA 93003 United States;X-APPLE-RADIUS=500;X-TITLE=2733 E Main St:geo:-119.2593404,34.2736226
END:VEVENT
BEGIN:VEVENT
DTSTART;TZID=America/Los_Angeles:20260326T190000
DTEND;TZID=America/Los_Angeles:20260326T220000
DTSTAMP:20260425T083807
CREATED:20260308T164652Z
LAST-MODIFIED:20260308T164658Z
UID:10003732-1774551600-1774562400@thegrapeventura.com
SUMMARY:Guil Juliao & Friends
DESCRIPTION:$10 cover at door \nBassist and Grape Jazz Jam regular Guil Juliao performing the favorite songs of legendary pianist Tom McMorran\, who sadly left us last month. Join us for a musical celebration of our brother and friend. \nGuil Juliao – Bass\nMatt Perko – Drums\nKarl Hunter – Sax\nKevin Fukagawa- Piano
URL:https://thegrapeventura.com/event/guil-juliao-friends/
LOCATION:The Grape\, 2733 E Main St\, Ventura\, CA\, 93003\, United States
ATTACH;FMTTYPE=image/jpeg:https://thegrapeventura.com/wp-content/uploads/2026/03/guil-juliao.jpg
GEO:34.2736226;-119.2593404
X-APPLE-STRUCTURED-LOCATION;VALUE=URI;X-ADDRESS=The Grape 2733 E Main St Ventura CA 93003 United States;X-APPLE-RADIUS=500;X-TITLE=2733 E Main St:geo:-119.2593404,34.2736226
END:VEVENT
BEGIN:VEVENT
DTSTART;TZID=America/Los_Angeles:20260326T170000
DTEND;TZID=America/Los_Angeles:20260326T190000
DTSTAMP:20260425T083807
CREATED:20260402T160954Z
LAST-MODIFIED:20260402T160954Z
UID:10004022-1774544400-1774551600@thegrapeventura.com
SUMMARY:Happy Hour with Collins & Rollins Quartet
DESCRIPTION:barside \nNo cover \nKent Rollins – piano \nTom Collins – guitar
URL:https://thegrapeventura.com/event/happy-hour-with-collins-rollins-quartet-4/2026-03-26/
LOCATION:The Grape\, 2733 E Main St\, Ventura\, CA\, 93003\, United States
ATTACH;FMTTYPE=image/webp:https://thegrapeventura.com/wp-content/uploads/2026/01/tom-collins-guitar.webp
GEO:34.2736226;-119.2593404
X-APPLE-STRUCTURED-LOCATION;VALUE=URI;X-ADDRESS=The Grape 2733 E Main St Ventura CA 93003 United States;X-APPLE-RADIUS=500;X-TITLE=2733 E Main St:geo:-119.2593404,34.2736226
END:VEVENT
BEGIN:VEVENT
DTSTART;TZID=America/Los_Angeles:20260326T170000
DTEND;TZID=America/Los_Angeles:20260326T190000
DTSTAMP:20260425T083807
CREATED:20260326T173450Z
LAST-MODIFIED:20260326T173450Z
UID:10004013-1774544400-1774551600@thegrapeventura.com
SUMMARY:Happy Hour with Collins & Rollins Quartet
DESCRIPTION:barside \nNo cover \nKent Rollins – piano \nTom Collins – guitar
URL:https://thegrapeventura.com/event/happy-hour-with-collins-rollins-quartet-2/
LOCATION:The Grape\, 2733 E Main St\, Ventura\, CA\, 93003\, United States
ATTACH;FMTTYPE=image/webp:https://thegrapeventura.com/wp-content/uploads/2026/01/tom-collins-guitar.webp
GEO:34.2736226;-119.2593404
X-APPLE-STRUCTURED-LOCATION;VALUE=URI;X-ADDRESS=The Grape 2733 E Main St Ventura CA 93003 United States;X-APPLE-RADIUS=500;X-TITLE=2733 E Main St:geo:-119.2593404,34.2736226
END:VEVENT
BEGIN:VEVENT
DTSTART;TZID=America/Los_Angeles:20260325T190000
DTEND;TZID=America/Los_Angeles:20260325T220000
DTSTAMP:20260425T083807
CREATED:20260307T054908Z
LAST-MODIFIED:20260307T190152Z
UID:10003730-1774465200-1774476000@thegrapeventura.com
SUMMARY:Richard T Bear & Friends w/ Laurence Juber opening
DESCRIPTION:$20 Advanced/$25 Door \nGET YOUR TICKETS HERE \nJoin funky keyboardist & songwriter Richard T Bear and his stellar band featuring Laurence Juber (Paul McCartney & Wings) – guitars\, Ricky Cortes (John Mayall\, Buddy Guy) – bass\, Tony Braunagel (Robert Cray\, Taj Mahal\, Rickie Lee Jones) – drums for a great night of blues\, soul\, and good ole rock ‘n roll. Come enjoy songs from his latest album\, “The Way of the World\,” and some new originals\, plus a few tasty covers done up only the way T Bear does ‘em! \nRichard T Bear – keys\, lead vocals\, songs \nLaurence Juber (Paul McCartney & Wings) – guitars\, vocals \nRicky Cortes (John Mayall\, Buddy Guy) – bass\, vocals \nTony Braunagel (Robert Cray\, Taj Mahal\, Rickie Lee Jones) – drums \n+ special guests \n 
URL:https://thegrapeventura.com/event/richard-t-bear-friends-w-laurence-juber-opening/
LOCATION:The Grape\, 2733 E Main St\, Ventura\, CA\, 93003\, United States
ATTACH;FMTTYPE=image/jpeg:https://thegrapeventura.com/wp-content/uploads/2026/03/T-Bear-3.25.26-Grape-story.jpg
GEO:34.2736226;-119.2593404
X-APPLE-STRUCTURED-LOCATION;VALUE=URI;X-ADDRESS=The Grape 2733 E Main St Ventura CA 93003 United States;X-APPLE-RADIUS=500;X-TITLE=2733 E Main St:geo:-119.2593404,34.2736226
END:VEVENT
BEGIN:VEVENT
DTSTART;TZID=America/Los_Angeles:20260325T170000
DTEND;TZID=America/Los_Angeles:20260325T190000
DTSTAMP:20260425T083807
CREATED:20260113T215946Z
LAST-MODIFIED:20260113T220056Z
UID:10003660-1774458000-1774465200@thegrapeventura.com
SUMMARY:Happy Hour with Kent Rollins & Friends
DESCRIPTION:Happy Hour with Pianist\, Kent Rollins and friends \nbar side\, no cover
URL:https://thegrapeventura.com/event/kent-rollins-trio-4-2/2026-03-25/
LOCATION:The Grape\, 2733 E Main St\, Ventura\, CA\, 93003\, United States
ATTACH;FMTTYPE=image/jpeg:https://thegrapeventura.com/wp-content/uploads/2025/07/IMG_20251009_124515-e1760384956257.jpg
GEO:34.2736226;-119.2593404
X-APPLE-STRUCTURED-LOCATION;VALUE=URI;X-ADDRESS=The Grape 2733 E Main St Ventura CA 93003 United States;X-APPLE-RADIUS=500;X-TITLE=2733 E Main St:geo:-119.2593404,34.2736226
END:VEVENT
BEGIN:VEVENT
DTSTART;TZID=America/Los_Angeles:20260324T190000
DTEND;TZID=America/Los_Angeles:20260324T220000
DTSTAMP:20260425T083807
CREATED:20251210T212512Z
LAST-MODIFIED:20260307T191035Z
UID:10003538-1774378800-1774389600@thegrapeventura.com
SUMMARY:The Grape Gratitude Jazz Jam
DESCRIPTION:$10 cover at the door \nVentura County’s hottest jazz night!  Hosted By Tyler Hammond (drums) with the hottest rotating house band around\, often featuring Karl Hunter (saxophone)\, Guil Juliao (bass)\, and friends. \nYou are guaranteed to find SOMETHING during this night that will butter your biscuit.  It’s the best variety night this side of the Conejo Grade. \n21+ \nDoors and signup at 6:30 pm \nJazz Jam Guidelines:\n1. The focus of this jam is to play Jazz music. It is NOT live band Karaoke.\n2. Be prepared/ Know the tune/Know what key you’d like to play the tune in.\n3. Bring charts for the band if you’re going out of standard Jazz repertoire.\n4. After the melody is finished\,  allow room for everyone to solo.\n5. Please don’t come onto the stage unless you are called up.\n6. Be kind and supportive to other performers.\n7. After 9pm\, there’s no guarantee you’ll get a turn.\n8. Whatever Tyler says\, goes.
URL:https://thegrapeventura.com/event/the-grape-gratitude-jazz-jam/2026-03-24/
LOCATION:The Grape\, 2733 E Main St\, Ventura\, CA\, 93003\, United States
ATTACH;FMTTYPE=image/jpeg:https://thegrapeventura.com/wp-content/uploads/2023/06/DSCF1293-e1765401864205.jpg
GEO:34.2736226;-119.2593404
X-APPLE-STRUCTURED-LOCATION;VALUE=URI;X-ADDRESS=The Grape 2733 E Main St Ventura CA 93003 United States;X-APPLE-RADIUS=500;X-TITLE=2733 E Main St:geo:-119.2593404,34.2736226
END:VEVENT
BEGIN:VEVENT
DTSTART;TZID=America/Los_Angeles:20260324T170000
DTEND;TZID=America/Los_Angeles:20260324T190000
DTSTAMP:20260425T083807
CREATED:20260323T180733Z
LAST-MODIFIED:20260323T180733Z
UID:10004011-1774371600-1774378800@thegrapeventura.com
SUMMARY:Happy Hour w/ Monte Montgomery & Friends
DESCRIPTION:no cover\nbar side \nHappy Hour with multi-instrumentalist and vocalist\, Monte Montgomery and special guests
URL:https://thegrapeventura.com/event/happy-hour-w-monte-montgomery-friends-6/2026-03-24/
LOCATION:The Grape\, 2733 E Main St\, Ventura\, CA\, 93003\, United States
ATTACH;FMTTYPE=image/webp:https://thegrapeventura.com/wp-content/uploads/2026/02/monte_montgomery.webp
GEO:34.2736226;-119.2593404
X-APPLE-STRUCTURED-LOCATION;VALUE=URI;X-ADDRESS=The Grape 2733 E Main St Ventura CA 93003 United States;X-APPLE-RADIUS=500;X-TITLE=2733 E Main St:geo:-119.2593404,34.2736226
END:VEVENT
BEGIN:VEVENT
DTSTART;TZID=America/Los_Angeles:20260324T170000
DTEND;TZID=America/Los_Angeles:20260324T190000
DTSTAMP:20260425T083807
CREATED:20260321T182338Z
LAST-MODIFIED:20260321T182338Z
UID:10003743-1774371600-1774378800@thegrapeventura.com
SUMMARY:Happy Hour w/ Monte Montgomery & Friends
DESCRIPTION:no cover\nbar side \nHappy Hour with multi-instrumentalist and vocalist\, Monte Montgomery and special guests
URL:https://thegrapeventura.com/event/happy-hour-w-monte-montgomery-friends-5/
LOCATION:The Grape\, 2733 E Main St\, Ventura\, CA\, 93003\, United States
ATTACH;FMTTYPE=image/webp:https://thegrapeventura.com/wp-content/uploads/2026/02/monte_montgomery.webp
GEO:34.2736226;-119.2593404
X-APPLE-STRUCTURED-LOCATION;VALUE=URI;X-ADDRESS=The Grape 2733 E Main St Ventura CA 93003 United States;X-APPLE-RADIUS=500;X-TITLE=2733 E Main St:geo:-119.2593404,34.2736226
END:VEVENT
END:VCALENDAR